Workbook

Sheet 入力データ
A1: 令和６年度 県総体 出場選手入力フォーム
A2: 1 | B2: 2 | C2: 3 | D2: 4 | E2: 5 | F2: 6 | G2: 7 | H2: 8 | I2: 9 | J2: 10 | K2: 11 | L2: 12 | M2: 13 | N2: 14 | O2: 15 | P2: 16 | Q2: 17 | R2: 18 | S2: 19 | T2: 20 | U2: 21 | V2: 22 | W2: 23 | X2: 24 | Y2: 25 | Z2: 26 | AA2: 27 | AB2: 28 | AC2: 29 | AD2: 30 | AE2: 31 | AF2: 32 | AG2: 33 | AH2: 34 | AI2: 35 | AJ2: 36 | AK2: 37
C3: 順位 | D3: 男子団体 | E3: 男子シングルス | K3: 男子ダブルス | U3: 女子団体 | V3: 女子シングルス | AB3: 女子ダブルス
D4: 学校名 | E4: 姓 | F4: 名 | G4: ふりがな | H4: 学年 | I4: 自治体 | J4: 学校名 | K4: 姓 | L4: 名 | M4: ふりがな | N4: 学年 | O4: 姓 | P4: 名 | Q4: ふりがな | R4: 学年 | S4: 自治体 | T4: 学校名 | U4: 学校名 | V4: 姓 | W4: 名 | X4: ふりがな | Y4: 学年 | Z4: 自治体 | AA4: 学校名 | AB4: 姓 | AC4: 名 | AD4: ふりがな | AE4: 学年 | AF4: 姓 | AG4: 名 | AH4: ふりがな | AI4: 学年 | AJ4: 自治体 | AK4: 学校名
A5: 101 | B5: 横浜 | C5: 1
A6: 102 | B6: 横浜 | C6: 2
A7: 103 | B7: 横浜 | C7: 3
A8: 104 | B8: 横浜 | C8: 4
A9: 105 | B9: 横浜 | C9: 5
A10: 106 | B10: 横浜 | C10: 6
A11: 107 | B11: 横浜 | C11: 7
A12: 108 | B12: 横浜 | C12: 8
A13: 201 | B13: 川崎 | C13: 1
A14: =A13+1 -> 202 | B14: 川崎 | C14: 2
A15: =A14+1 -> 203 | B15: 川崎 | C15: 3
A16: 204 | B16: 川崎 | C16: 4
A17: 204 | B17: 川崎 | C17: 5
A18: 301 | B18: 相模原 | C18: 1
A19: 302 | B19: 相模原 | C19: 2
A20: 401 | B20: 横須賀 | C20: 1
A21: 402 | B21: 横須賀 | C21: 2
A22: 501 | B22: 湘南 | C22: 1
A23: 502 | B23: 湘南 | C23: 2
A24: 503 | B24: 湘南 | C24: 3
A25: 601 | B25: 中 | C25: 1
A26: 602 | B26: 中 | C26: 2
A27: 603 | B27: 中 | C27: 3
... A35: 803 | B35: 県西 | C35: 3

Sheet 出場選手一覧
A1: 出 場 選 手 一 覧 令和6年度
A3: ブロック | B3: 男子団体 | D3: 男子ｼﾝｸﾞﾙｽ | F3: 男子ﾀﾞﾌﾞﾙｽ | H3: 女子団体 | J3: 女子ｼﾝｸﾞﾙｽ | L3: 女子ﾀﾞﾌﾞﾙｽ
A4: 横浜 | B4: 1 | C4: =VLOOKUP(O4,入力データ!$A$3:$AK$35,4) -> 0 | D4: 1 | E4: =VLOOKUP(O4,入力データ!$A$3:$AK$35,5)&"（"&VLOOKUP(O4,入力データ!$A$3:$AK$35,10)&"）" -> （） | F4: 1 | G4: =VLOOKUP(O4,入力データ!$A$3:$AK$35,11)&"・"&VLOOKUP(O4,入力データ!$A$3:$AK$35,15)&"（"&VLOOKUP(O4,入力データ!$A$3:$AK$35,20)&"）" -> ・（） | H4: 1 | I4: =VLOOKUP(O4,入力データ!$A$3:$AK$35,21) -> 0 | J4: 1 | K4: =VLOOKUP(O4,入力データ!$A$3:$AK$35,22)&"（"&VLOOKUP(O4,入力データ!$A$3:$AK$35,27)&"）" -> （） | L4: 1 | M4: =VLOOKUP(O4,入力データ!$A$3:$AK$35,28)&"・"&VLOOKUP(O4,入力データ!$A$3:$AK$35,32)&"（"&VLOOKUP(O4,入力データ!$A$3:$AK$35,37)&"）" -> ・（） | O4: 101
B5: 2 | C5: =VLOOKUP(O5,入力データ!$A$3:$AK$35,4) -> 0 | D5: 2 | E5: =VLOOKUP(O5,入力データ!$A$3:$AK$35,5)&"（"&VLOOKUP(O5,入力データ!$A$3:$AK$35,10)&"）" -> （） | F5: 2 | G5: =VLOOKUP(O5,入力データ!$A$3:$AK$35,11)&"・"&VLOOKUP(O5,入力データ!$A$3:$AK$35,15)&"（"&VLOOKUP(O5,入力データ!$A$3:$AK$35,20)&"）" -> ・（） | H5: 2 | I5: =VLOOKUP(O5,入力データ!$A$3:$AK$35,21) -> 0 | J5: 2 | K5: =VLOOKUP(O5,入力データ!$A$3:$AK$35,22)&"（"&VLOOKUP(O5,入力データ!$A$3:$AK$35,27)&"）" -> （） | L5: 2 | M5: =VLOOKUP(O5,入力データ!$A$3:$AK$35,28)&"・"&VLOOKUP(O5,入力データ!$A$3:$AK$35,32)&"（"&VLOOKUP(O5,入力データ!$A$3:$AK$35,37)&"）" -> ・（） | O5: 102
B6: 3 | C6: =VLOOKUP(O6,入力データ!$A$3:$AK$35,4) -> 0 | D6: 3 | E6: =VLOOKUP(O6,入力データ!$A$3:$AK$35,5)&"（"&VLOOKUP(O6,入力データ!$A$3:$AK$35,10)&"）" -> （） | F6: 3 | G6: =VLOOKUP(O6,入力データ!$A$3:$AK$35,11)&"・"&VLOOKUP(O6,入力データ!$A$3:$AK$35,15)&"（"&VLOOKUP(O6,入力データ!$A$3:$AK$35,20)&"）" -> ・（） | H6: 3 | I6: =VLOOKUP(O6,入力データ!$A$3:$AK$35,21) -> 0 | J6: 3 | K6: =VLOOKUP(O6,入力データ!$A$3:$AK$35,22)&"（"&VLOOKUP(O6,入力データ!$A$3:$AK$35,27)&"）" -> （） | L6: 3 | M6: =VLOOKUP(O6,入力データ!$A$3:$AK$35,28)&"・"&VLOOKUP(O6,入力データ!$A$3:$AK$35,32)&"（"&VLOOKUP(O6,入力データ!$A$3:$AK$35,37)&"）" -> ・（） | O6: 103
B7: 3 | C7: =VLOOKUP(O7,入力データ!$A$3:$AK$35,4) -> 0 | D7: 3 | E7: =VLOOKUP(O7,入力データ!$A$3:$AK$35,5)&"（"&VLOOKUP(O7,入力データ!$A$3:$AK$35,10)&"）" -> （） | F7: 3 | G7: =VLOOKUP(O7,入力データ!$A$3:$AK$35,11)&"・"&VLOOKUP(O7,入力データ!$A$3:$AK$35,15)&"（"&VLOOKUP(O7,入力データ!$A$3:$AK$35,20)&"）" -> ・（） | H7: 3 | I7: =VLOOKUP(O7,入力データ!$A$3:$AK$35,21) -> 0 | J7: 3 | K7: =VLOOKUP(O7,入力データ!$A$3:$AK$35,22)&"（"&VLOOKUP(O7,入力データ!$A$3:$AK$35,27)&"）" -> （） | L7: 3 | M7: =VLOOKUP(O7,入力データ!$A$3:$AK$35,28)&"・"&VLOOKUP(O7,入力データ!$A$3:$AK$35,32)&"（"&VLOOKUP(O7,入力データ!$A$3:$AK$35,37)&"）" -> ・（） | O7: 104
B8: 5 | C8: =VLOOKUP(O8,入力データ!$A$3:$AK$35,4) -> 0 | D8: 5 | E8: =VLOOKUP(O8,入力データ!$A$3:$AK$35,5)&"（"&VLOOKUP(O8,入力データ!$A$3:$AK$35,10)&"）" -> （） | F8: 5 | G8: =VLOOKUP(O8,入力データ!$A$3:$AK$35,11)&"・"&VLOOKUP(O8,入力データ!$A$3:$AK$35,15)&"（"&VLOOKUP(O8,入力データ!$A$3:$AK$35,20)&"）" -> ・（） | H8: 5 | I8: =VLOOKUP(O8,入力データ!$A$3:$AK$35,21) -> 0 | J8: 5 | K8: =VLOOKUP(O8,入力データ!$A$3:$AK$35,22)&"（"&VLOOKUP(O8,入力データ!$A$3:$AK$35,27)&"）" -> （） | L8: 5 | M8: =VLOOKUP(O8,入力データ!$A$3:$AK$35,28)&"・"&VLOOKUP(O8,入力データ!$A$3:$AK$35,32)&"（"&VLOOKUP(O8,入力データ!$A$3:$AK$35,37)&"）" -> ・（） | O8: 105
B9: 5 | C9: =VLOOKUP(O9,入力データ!$A$3:$AK$35,4) -> 0 | D9: 5 | E9: =VLOOKUP(O9,入力データ!$A$3:$AK$35,5)&"（"&VLOOKUP(O9,入力データ!$A$3:$AK$35,10)&"）" -> （） | F9: 5 | G9: =VLOOKUP(O9,入力データ!$A$3:$AK$35,11)&"・"&VLOOKUP(O9,入力データ!$A$3:$AK$35,15)&"（"&VLOOKUP(O9,入力データ!$A$3:$AK$35,20)&"）" -> ・（） | H9: 5 | I9: =VLOOKUP(O9,入力データ!$A$3:$AK$35,21) -> 0 | J9: 5 | K9: =VLOOKUP(O9,入力データ!$A$3:$AK$35,22)&"（"&VLOOKUP(O9,入力データ!$A$3:$AK$35,27)&"）" -> （） | L9: 5 | M9: =VLOOKUP(O9,入力データ!$A$3:$AK$35,28)&"・"&VLOOKUP(O9,入力データ!$A$3:$AK$35,32)&"（"&VLOOKUP(O9,入力データ!$A$3:$AK$35,37)&"）" -> ・（） | O9: 106
B10: 5 | C10: =VLOOKUP(O10,入力データ!$A$3:$AK$35,4) -> 0 | D10: 5 | E10: =VLOOKUP(O10,入力データ!$A$3:$AK$35,5)&"（"&VLOOKUP(O10,入力データ!$A$3:$AK$35,10)&"）" -> （） | F10: 5 | G10: =VLOOKUP(O10,入力データ!$A$3:$AK$35,11)&"・"&VLOOKUP(O10,入力データ!$A$3:$AK$35,15)&"（"&VLOOKUP(O10,入力データ!$A$3:$AK$35,20)&"）" -> ・（） | H10: 5 | I10: =VLOOKUP(O10,入力データ!$A$3:$AK$35,21) -> 0 | J10: 5 | K10: =VLOOKUP(O10,入力データ!$A$3:$AK$35,22)&"（"&VLOOKUP(O10,入力データ!$A$3:$AK$35,27)&"）" -> （） | L10: 5 | M10: =VLOOKUP(O10,入力データ!$A$3:$AK$35,28)&"・"&VLOOKUP(O10,入力データ!$A$3:$AK$35,32)&"（"&VLOOKUP(O10,入力データ!$A$3:$AK$35,37)&"）" -> ・（） | O10: 107
B11: 5 | C11: =VLOOKUP(O11,入力データ!$A$3:$AK$35,4) -> 0 | D11: 5 | E11: =VLOOKUP(O11,入力データ!$A$3:$AK$35,5)&"（"&VLOOKUP(O11,入力データ!$A$3:$AK$35,10)&"）" -> （） | F11: 5 | G11: =VLOOKUP(O11,入力データ!$A$3:$AK$35,11)&"・"&VLOOKUP(O11,入力データ!$A$3:$AK$35,15)&"（"&VLOOKUP(O11,入力データ!$A$3:$AK$35,20)&"）" -> ・（） | H11: 5 | I11: =VLOOKUP(O11,入力データ!$A$3:$AK$35,21) -> 0 | J11: 5 | K11: =VLOOKUP(O11,入力データ!$A$3:$AK$35,22)&"（"&VLOOKUP(O11,入力データ!$A$3:$AK$35,27)&"）" -> （） | L11: 5 | M11: =VLOOKUP(O11,入力データ!$A$3:$AK$35,28)&"・"&VLOOKUP(O11,入力データ!$A$3:$AK$35,32)&"（"&VLOOKUP(O11,入力データ!$A$3:$AK$35,37)&"）" -> ・（） | O11: 108
A12: 川崎 | B12: 1 | C12: =VLOOKUP(O12,入力データ!$A$3:$AK$35,4) -> 0 | D12: 1 | E12: =VLOOKUP(O12,入力データ!$A$3:$AK$35,5)&"（"&VLOOKUP(O12,入力データ!$A$3:$AK$35,10)&"）" -> （） | F12: 1 | G12: =VLOOKUP(O12,入力データ!$A$3:$AK$35,11)&"・"&VLOOKUP(O12,入力データ!$A$3:$AK$35,15)&"（"&VLOOKUP(O12,入力データ!$A$3:$AK$35,20)&"）" -> ・（） | H12: 1 | I12: =VLOOKUP(O12,入力データ!$A$3:$AK$35,21) -> 0 | J12: 1 | K12: =VLOOKUP(O12,入力データ!$A$3:$AK$35,22)&"（"&VLOOKUP(O12,入力データ!$A$3:$AK$35,27)&"）" -> （） | L12: 1 | M12: =VLOOKUP(O12,入力データ!$A$3:$AK$35,28)&"・"&VLOOKUP(O12,入力データ!$A$3:$AK$35,32)&"（"&VLOOKUP(O12,入力データ!$A$3:$AK$35,37)&"）" -> ・（） | O12: 201
B13: 2 | C13: =VLOOKUP(O13,入力データ!$A$3:$AK$35,4) -> 0 | D13: 2 | E13: =VLOOKUP(O13,入力データ!$A$3:$AK$35,5)&"（"&VLOOKUP(O13,入力データ!$A$3:$AK$35,10)&"）" -> （） | F13: 2 | G13: =VLOOKUP(O13,入力データ!$A$3:$AK$35,11)&"・"&VLOOKUP(O13,入力データ!$A$3:$AK$35,15)&"（"&VLOOKUP(O13,入力データ!$A$3:$AK$35,20)&"）" -> ・（） | H13: 2 | I13: =VLOOKUP(O13,入力データ!$A$3:$AK$35,21) -> 0 | J13: 2 | K13: =VLOOKUP(O13,入力データ!$A$3:$AK$35,22)&"（"&VLOOKUP(O13,入力データ!$A$3:$AK$35,27)&"）" -> （） | L13: 2 | M13: =VLOOKUP(O13,入力データ!$A$3:$AK$35,28)&"・"&VLOOKUP(O13,入力データ!$A$3:$AK$35,32)&"（"&VLOOKUP(O13,入力データ!$A$3:$AK$35,37)&"）" -> ・（） | O13: 202
B14: 3 | C14: =VLOOKUP(O14,入力データ!$A$3:$AK$35,4) -> 0 | D14: 3 | E14: =VLOOKUP(O14,入力データ!$A$3:$AK$35,5)&"（"&VLOOKUP(O14,入力データ!$A$3:$AK$35,10)&"）" -> （） | F14: 3 | G14: =VLOOKUP(O14,入力データ!$A$3:$AK$35,11)&"・"&VLOOKUP(O14,入力データ!$A$3:$AK$35,15)&"（"&VLOOKUP(O14,入力データ!$A$3:$AK$35,20)&"）" -> ・（） | H14: 3 | I14: =VLOOKUP(O14,入力データ!$A$3:$AK$35,21) -> 0 | J14: 3 | K14: =VLOOKUP(O14,入力データ!$A$3:$AK$35,22)&"（"&VLOOKUP(O14,入力データ!$A$3:$AK$35,27)&"）" -> （） | L14: 3 | M14: =VLOOKUP(O14,入力データ!$A$3:$AK$35,28)&"・"&VLOOKUP(O14,入力データ!$A$3:$AK$35,32)&"（"&VLOOKUP(O14,入力データ!$A$3:$AK$35,37)&"）" -> ・（） | O14: 203
B15: 3 | D15: 3 | E15: =VLOOKUP(O15,入力データ!$A$3:$AK$35,5)&"（"&VLOOKUP(O15,入力データ!$A$3:$AK$35,10)&"）" -> （） | F15: 3 | G15: =VLOOKUP(O15,入力データ!$A$3:$AK$35,11)&"・"&VLOOKUP(O15,入力データ!$A$3:$AK$35,15)&"（"&VLOOKUP(O15,入力データ!$A$3:$AK$35,20)&"）" -> ・（） | H15: 3 | I15: =VLOOKUP(O15,入力データ!$A$3:$AK$35,21) -> 0 | J15: 3 | K15: =VLOOKUP(O15,入力データ!$A$3:$AK$35,22)&"（"&VLOOKUP(O15,入力データ!$A$3:$AK$35,27)&"）" -> （） | L15: 3 | M15: =VLOOKUP(O15,入力データ!$A$3:$AK$35,28)&"・"&VLOOKUP(O15,入力データ!$A$3:$AK$35,32)&"（"&VLOOKUP(O15,入力データ!$A$3:$AK$35,37)&"）" -> ・（） | O15: 204
B16: 5 | D16: 5 | H16: 3 | J16: 3 | L16: 3 | M16: =VLOOKUP(O16,入力データ!$A$3:$AK$35,28)&"・"&VLOOKUP(O16,入力データ!$A$3:$AK$35,32)&"（"&VLOOKUP(O16,入力データ!$A$3:$AK$35,37)&"）" -> ・（） | O16: 205
A17: 相模原 | B17: 1 | C17: =VLOOKUP(O17,入力データ!$A$3:$AK$35,4) -> 0 | D17: 1 | E17: =VLOOKUP(O17,入力データ!$A$3:$AK$35,5)&"（"&VLOOKUP(O17,入力データ!$A$3:$AK$35,10)&"）" -> （） | F17: 1 | G17: =VLOOKUP(O17,入力データ!$A$3:$AK$35,11)&"・"&VLOOKUP(O17,入力データ!$A$3:$AK$35,15)&"（"&VLOOKUP(O17,入力データ!$A$3:$AK$35,20)&"）" -> ・（） | H17: 1 | I17: =VLOOKUP(O17,入力データ!$A$3:$AK$35,21) -> 0 | J17: 1 | K17: =VLOOKUP(O17,入力データ!$A$3:$AK$35,22)&"（"&VLOOKUP(O17,入力データ!$A$3:$AK$35,27)&"）" -> （） | L17: 1 | M17: =VLOOKUP(O17,入力データ!$A$3:$AK$35,28)&"・"&VLOOKUP(O17,入力データ!$A$3:$AK$35,32)&"（"&VLOOKUP(O17,入力データ!$A$3:$AK$35,37)&"）" -> ・（） | O17: 301
B18: 2 | C18: =VLOOKUP(O18,入力データ!$A$3:$AK$35,4) -> 0 | D18: 2 | E18: =VLOOKUP(O18,入力データ!$A$3:$AK$35,5)&"（"&VLOOKUP(O18,入力データ!$A$3:$AK$35,10)&"）" -> （） | F18: 2 | G18: =VLOOKUP(O18,入力データ!$A$3:$AK$35,11)&"・"&VLOOKUP(O18,入力データ!$A$3:$AK$35,15)&"（"&VLOOKUP(O18,入力データ!$A$3:$AK$35,20)&"）" -> ・（） | H18: 2 | I18: =VLOOKUP(O18,入力データ!$A$3:$AK$35,21) -> 0 | J18: 2 | K18: =VLOOKUP(O18,入力データ!$A$3:$AK$35,22)&"（"&VLOOKUP(O18,入力データ!$A$3:$AK$35,27)&"）" -> （） | L18: 2 | M18: =VLOOKUP(O18,入力データ!$A$3:$AK$35,28)&"・"&VLOOKUP(O18,入力データ!$A$3:$AK$35,32)&"（"&VLOOKUP(O18,入力データ!$A$3:$AK$35,37)&"）" -> ・（） | O18: 302
A19: 横須賀 | B19: 1 | C19: =VLOOKUP(O19,入力データ!$A$3:$AK$35,4) -> 0 | D19: 1 | E19: =VLOOKUP(O19,入力データ!$A$3:$AK$35,5)&"（"&VLOOKUP(O19,入力データ!$A$3:$AK$35,10)&"）" -> （） | F19: 1 | G19: =VLOOKUP(O19,入力データ!$A$3:$AK$35,11)&"・"&VLOOKUP(O19,入力データ!$A$3:$AK$35,15)&"（"&VLOOKUP(O19,入力データ!$A$3:$AK$35,20)&"）" -> ・（） | H19: 1 | I19: =VLOOKUP(O19,入力データ!$A$3:$AK$35,21) -> 0 | J19: 1 | K19: =VLOOKUP(O19,入力データ!$A$3:$AK$35,22)&"（"&VLOOKUP(O19,入力データ!$A$3:$AK$35,27)&"）" -> （） | L19: 1 | M19: =VLOOKUP(O19,入力データ!$A$3:$AK$35,28)&"・"&VLOOKUP(O19,入力データ!$A$3:$AK$35,32)&"（"&VLOOKUP(O19,入力データ!$A$3:$AK$35,37)&"）" -> ・（） | O19: 401
B20: 2 | C20: =VLOOKUP(O20,入力データ!$A$3:$AK$35,4) -> 0 | D20: 2 | E20: =VLOOKUP(O20,入力データ!$A$3:$AK$35,5)&"（"&VLOOKUP(O20,入力データ!$A$3:$AK$35,10)&"）" -> （） | F20: 2 | G20: =VLOOKUP(O20,入力データ!$A$3:$AK$35,11)&"・"&VLOOKUP(O20,入力データ!$A$3:$AK$35,15)&"（"&VLOOKUP(O20,入力データ!$A$3:$AK$35,20)&"）" -> ・（） | H20: 2 | I20: =VLOOKUP(O20,入力データ!$A$3:$AK$35,21) -> 0 | J20: 2 | K20: =VLOOKUP(O20,入力データ!$A$3:$AK$35,22)&"（"&VLOOKUP(O20,入力データ!$A$3:$AK$35,27)&"）" -> （） | L20: 2 | M20: =VLOOKUP(O20,入力データ!$A$3:$AK$35,28)&"・"&VLOOKUP(O20,入力データ!$A$3:$AK$35,32)&"（"&VLOOKUP(O20,入力データ!$A$3:$AK$35,37)&"）" -> ・（） | O20: 402
A21: 湘南 | B21: 1 | C21: =VLOOKUP(O21,入力データ!$A$3:$AK$35,4) -> 0 | D21: 1 | E21: =VLOOKUP(O21,入力データ!$A$3:$AK$35,5)&"（"&VLOOKUP(O21,入力データ!$A$3:$AK$35,10)&"）" -> （） | F21: 1 | G21: =VLOOKUP(O21,入力データ!$A$3:$AK$35,11)&"・"&VLOOKUP(O21,入力データ!$A$3:$AK$35,15)&"（"&VLOOKUP(O21,入力データ!$A$3:$AK$35,20)&"）" -> ・（） | H21: 1 | I21: =VLOOKUP(O21,入力データ!$A$3:$AK$35,21) -> 0 | J21: 1 | K21: =VLOOKUP(O21,入力データ!$A$3:$AK$35,22)&"（"&VLOOKUP(O21,入力データ!$A$3:$AK$35,27)&"）" -> （） | L21: 1 | M21: =VLOOKUP(O21,入力データ!$A$3:$AK$35,28)&"・"&VLOOKUP(O21,入力データ!$A$3:$AK$35,32)&"（"&VLOOKUP(O21,入力データ!$A$3:$AK$35,37)&"）" -> ・（） | O21: 501
B22: 2 | C22: =VLOOKUP(O22,入力データ!$A$3:$AK$35,4) -> 0 | D22: 2 | E22: =VLOOKUP(O22,入力データ!$A$3:$AK$35,5)&"（"&VLOOKUP(O22,入力データ!$A$3:$AK$35,10)&"）" -> （） | F22: 2 | G22: =VLOOKUP(O22,入力データ!$A$3:$AK$35,11)&"・"&VLOOKUP(O22,入力データ!$A$3:$AK$35,15)&"（"&VLOOKUP(O22,入力データ!$A$3:$AK$35,20)&"）" -> ・（） | H22: 2 | I22: =VLOOKUP(O22,入力データ!$A$3:$AK$35,21) -> 0 | J22: 2 | K22: =VLOOKUP(O22,入力データ!$A$3:$AK$35,22)&"（"&VLOOKUP(O22,入力データ!$A$3:$AK$35,27)&"）" -> （） | L22: 2 | M22: =VLOOKUP(O22,入力データ!$A$3:$AK$35,28)&"・"&VLOOKUP(O22,入力データ!$A$3:$AK$35,32)&"（"&VLOOKUP(O22,入力データ!$A$3:$AK$35,37)&"）" -> ・（） | O22: 502
B23: 3 | D23: 3 | F23: 3 | H23: 3 | J23: 3 | K23: =VLOOKUP(O23,入力データ!$A$3:$AK$35,22)&"（"&VLOOKUP(O23,入力データ!$A$3:$AK$35,27)&"）" -> （） | L23: 3 | O23: 503
A24: 中 | B24: 1 | C24: =VLOOKUP(O24,入力データ!$A$3:$AK$35,4) -> 0 | D24: 1 | E24: =VLOOKUP(O24,入力データ!$A$3:$AK$35,5)&"（"&VLOOKUP(O24,入力データ!$A$3:$AK$35,10)&"）" -> （） | F24: 1 | G24: =VLOOKUP(O24,入力データ!$A$3:$AK$35,11)&"・"&VLOOKUP(O24,入力データ!$A$3:$AK$35,15)&"（"&VLOOKUP(O24,入力データ!$A$3:$AK$35,20)&"）" -> ・（） | H24: 1 | I24: =VLOOKUP(O24,入力データ!$A$3:$AK$35,21) -> 0 | J24: 1 | K24: =VLOOKUP(O24,入力データ!$A$3:$AK$35,22)&"（"&VLOOKUP(O24,入力データ!$A$3:$AK$35,27)&"）" -> （） | L24: 1 | M24: =VLOOKUP(O24,入力データ!$A$3:$AK$35,28)&"・"&VLOOKUP(O24,入力データ!$A$3:$AK$35,32)&"（"&VLOOKUP(O24,入力データ!$A$3:$AK$35,37)&"）" -> ・（） | O24: 601
B25: 2 | D25: 2 | E25: =VLOOKUP(O25,入力データ!$A$3:$AK$35,5)&"（"&VLOOKUP(O25,入力データ!$A$3:$AK$35,10)&"）" -> （） | F25: 2 | G25: =VLOOKUP(O25,入力データ!$A$3:$AK$35,11)&"・"&VLOOKUP(O25,入力データ!$A$3:$AK$35,15)&"（"&VLOOKUP(O25,入力データ!$A$3:$AK$35,20)&"）" -> ・（） | H25: 2 | I25: =VLOOKUP(O25,入力データ!$A$3:$AK$35,21) -> 0 | J25: 2 | K25: =VLOOKUP(O25,入力データ!$A$3:$AK$35,22)&"（"&VLOOKUP(O25,入力データ!$A$3:$AK$35,27)&"）" -> （） | L25: 2 | M25: =VLOOKUP(O25,入力データ!$A$3:$AK$35,28)&"・"&VLOOKUP(O25,入力データ!$A$3:$AK$35,32)&"（"&VLOOKUP(O25,入力データ!$A$3:$AK$35,37)&"）" -> ・（） | O25: 602
B26: 3 | D26: 3 | E26: =VLOOKUP(O26,入力データ!$A$3:$AK$35,5)&"（"&VLOOKUP(O26,入力データ!$A$3:$AK$35,10)&"）" -> （） | F26: 3 | G26: =VLOOKUP(O26,入力データ!$A$3:$AK$35,11)&"・"&VLOOKUP(O26,入力データ!$A$3:$AK$35,15)&"（"&VLOOKUP(O26,入力データ!$A$3:$AK$35,20)&"）" -> ・（） | H26: 3 | J26: 3 | L26: 3 | O26: 603
A27: 県央 | B27: 1 | C27: =VLOOKUP(O27,入力データ!$A$3:$AK$35,4) -> 0 | D27: 1 | E27: =VLOOKUP(O27,入力データ!$A$3:$AK$35,5)&"（"&VLOOKUP(O27,入力データ!$A$3:$AK$35,10)&"）" -> （） | F27: 1 | G27: =VLOOKUP(O27,入力データ!$A$3:$AK$35,11)&"・"&VLOOKUP(O27,入力データ!$A$3:$AK$35,15)&"（"&VLOOKUP(O27,入力データ!$A$3:$AK$35,20)&"）" -> ・（） | H27: 1 | I27: =VLOOKUP(O27,入力データ!$A$3:$AK$35,21) -> 0 | J27: 1 | K27: =VLOOKUP(O27,入力データ!$A$3:$AK$35,22)&"（"&VLOOKUP(O27,入力データ!$A$3:$AK$35,27)&"）" -> （） | L27: 1 | M27: =VLOOKUP(O27,入力データ!$A$3:$AK$35,28)&"・"&VLOOKUP(O27,入力データ!$A$3:$AK$35,32)&"（"&VLOOKUP(O27,入力データ!$A$3:$AK$35,37)&"）" -> ・（） | O27: 701
B28: 2 | C28: =VLOOKUP(O28,入力データ!$A$3:$AK$35,4) -> 0 | D28: 2 | E28: =VLOOKUP(O28,入力データ!$A$3:$AK$35,5)&"（"&VLOOKUP(O28,入力データ!$A$3:$AK$35,10)&"）" -> （） | F28: 2 | G28: =VLOOKUP(O28,入力データ!$A$3:$AK$35,11)&"・"&VLOOKUP(O28,入力データ!$A$3:$AK$35,15)&"（"&VLOOKUP(O28,入力データ!$A$3:$AK$35,20)&"）" -> ・（） | H28: 2 | I28: =VLOOKUP(O28,入力データ!$A$3:$AK$35,21) -> 0 | J28: 2 | K28: =VLOOKUP(O28,入力データ!$A$3:$AK$35,22)&"（"&VLOOKUP(O28,入力データ!$A$3:$AK$35,27)&"）" -> （） | L28: 2 | M28: =VLOOKUP(O28,入力データ!$A$3:$AK$35,28)&"・"&VLOOKUP(O28,入力データ!$A$3:$AK$35,32)&"（"&VLOOKUP(O28,入力データ!$A$3:$AK$35,37)&"）" -> ・（） | O28: 702
B29: 3 | C29: =VLOOKUP(O29,入力データ!$A$3:$AK$35,4) -> 0 | D29: 3 | E29: =VLOOKUP(O29,入力データ!$A$3:$AK$35,5)&"（"&VLOOKUP(O29,入力データ!$A$3:$AK$35,10)&"）" -> （） | F29: 3 | G29: =VLOOKUP(O29,入力データ!$A$3:$AK$35,11)&"・"&VLOOKUP(O29,入力データ!$A$3:$AK$35,15)&"（"&VLOOKUP(O29,入力データ!$A$3:$AK$35,20)&"）" -> ・（） | H29: 3 | I29: =VLOOKUP(O29,入力データ!$A$3:$AK$35,21) -> 0 | J29: 3 | K29: =VLOOKUP(O29,入力データ!$A$3:$AK$35,22)&"（"&VLOOKUP(O29,入力データ!$A$3:$AK$35,27)&"）" -> （） | L29: 3 | M29: =VLOOKUP(O29,入力データ!$A$3:$AK$35,28)&"・"&VLOOKUP(O29,入力データ!$A$3:$AK$35,32)&"（"&VLOOKUP(O29,入力データ!$A$3:$AK$35,37)&"）" -> ・（） | O29: 703
B30: 4 | C30: =VLOOKUP(O30,入力データ!$A$3:$AK$35,4) -> 0 | D30: 4 | F30: 3 | H30: 3 | J30: 3 | L30: 3 | O30: 704
A31: 県西 | B31: 1 | C31: =VLOOKUP(O31,入力データ!$A$3:$AK$35,4) -> 0 | D31: 1 | E31: =VLOOKUP(O31,入力データ!$A$3:$AK$35,5)&"（"&VLOOKUP(O31,入力データ!$A$3:$AK$35,10)&"）" -> （） | F31: 1 | G31: =VLOOKUP(O31,入力データ!$A$3:$AK$35,11)&"・"&VLOOKUP(O31,入力データ!$A$3:$AK$35,15)&"（"&VLOOKUP(O31,入力データ!$A$3:$AK$35,20)&"）" -> ・（） | H31: 13 | I31: =VLOOKUP(O31,入力データ!$A$3:$AK$35,21) -> 0 | J31: 1 | K31: =VLOOKUP(O31,入力データ!$A$3:$AK$35,22)&"（"&VLOOKUP(O31,入力データ!$A$3:$AK$35,27)&"）" -> （） | L31: 1 | M31: =VLOOKUP(O31,入力データ!$A$3:$AK$35,28)&"・"&VLOOKUP(O31,入力データ!$A$3:$AK$35,32)&"（"&VLOOKUP(O31,入力データ!$A$3:$AK$35,37)&"）" -> ・（） | O31: 801
B32: 2 | C32: =VLOOKUP(O32,入力データ!$A$3:$AK$35,4) -> 0 | D32: 2 | E32: =VLOOKUP(O32,入力データ!$A$3:$AK$35,5)&"（"&VLOOKUP(O32,入力データ!$A$3:$AK$35,10)&"）" -> （） | F32: 2 | G32: =VLOOKUP(O32,入力データ!$A$3:$AK$35,11)&"・"&VLOOKUP(O32,入力データ!$A$3:$AK$35,15)&"（"&VLOOKUP(O32,入力データ!$A$3:$AK$35,20)&"）" -> ・（） | H32: 14 | I32: =VLOOKUP(O32,入力データ!$A$3:$AK$35,21) -> 0 | J32: 2 | K32: =VLOOKUP(O32,入力データ!$A$3:$AK$35,22)&"（"&VLOOKUP(O32,入力データ!$A$3:$AK$35,27)&"）" -> （） | L32: 2 | M32: =VLOOKUP(O32,入力データ!$A$3:$AK$35,28)&"・"&VLOOKUP(O32,入力データ!$A$3:$AK$35,32)&"（"&VLOOKUP(O32,入力データ!$A$3:$AK$35,37)&"）" -> ・（） | O32: 802
B33: 3 | D33: 3 | F33: 3 | H33: 3 | I33: =VLOOKUP(O33,入力データ!$A$3:$AK$35,21) -> 0 | J33: 3 | L33: 3 | O33: 803
C34: =COUNTA(C4:C33) -> 24 | E34: =COUNTA(E4:E33) -> 26 | F34: =COUNTA(F4:F33) -> 29 | G34: =COUNTA(G4:G33) -> 26 | H34: =COUNTA(H4:H33) -> 30 | I34: =COUNTA(I4:I33) -> 26 | J34: =COUNTA(J4:J33) -> 30 | K34: =COUNTA(K4:K33) -> 26 | L34: =COUNTA(L4:L33) -> 30 | M34: =COUNTA(M4:M33) -> 26
A35: 出場校数及び出場者数 ブロック代表制
A36: ブロック | B36: 男子団体 | D36: 男子ｼﾝｸﾞﾙｽ | F36: 男子ﾀﾞﾌﾞﾙｽ | H36: 女子団体 | J36: 女子ｼﾝｸﾞﾙｽ | L36: 女子ﾀﾞﾌﾞﾙｽ
A37: 横浜 | B37: 8 | D37: 8 | F37: 8 | H37: 8 | J37: 8 | L37: 8
A38: 川崎 | B38: 3 | D38: 4 | F38: 4 | H38: 4 | J38: 4 | L38: 5 | M38: 新人戦優勝
A39: 相模原 | B39: 2 | D39: 2 | F39: 2 | H39: 2 | J39: 2 | L39: 2
A40: 横須賀 | B40: 2 | D40: 2 | F40: 2 | H40: 2 | J40: 2 | L40: 2
A41: 湘南 | B41: 2 | D41: 2 | F41: 2 | H41: 2 | J41: 3 | K41: 新人戦優勝 | L41: 2
...

Sheet カード
A1: 男子 団体 | B1: =入力データ!B5 -> 横浜 | C1: =入力データ!C5 -> 1 | D1: =入力データ!D5 -> 0
A2: 男子 団体 | B2: =入力データ!B6 -> 横浜 | C2: =入力データ!C6 -> 2 | D2: =入力データ!D6 -> 0
A3: 男子 団体 | B3: =入力データ!B7 -> 横浜 | C3: =入力データ!C7 -> 3 | D3: =入力データ!D7 -> 0
A4: 男子 団体 | B4: =入力データ!B8 -> 横浜 | C4: =入力データ!C8 -> 4 | D4: =入力データ!D8 -> 0
A5: 男子 団体 | B5: =入力データ!B9 -> 横浜 | C5: =入力データ!C9 -> 5 | D5: =入力データ!D9 -> 0
A6: 男子 団体 | B6: =入力データ!B10 -> 横浜 | C6: =入力データ!C10 -> 6 | D6: =入力データ!D10 -> 0
A7: 男子 団体 | B7: =入力データ!B11 -> 横浜 | C7: =入力データ!C11 -> 7 | D7: =入力データ!D11 -> 0
A8: 男子 団体 | B8: =入力データ!B12 -> 横浜 | C8: =入力データ!C12 -> 8 | D8: =入力データ!D12 -> 0
A9: 男子 団体 | B9: =入力データ!B13 -> 川崎 | C9: =入力データ!C13 -> 1 | D9: =入力データ!D13 -> 0
A10: 男子 団体 | B10: =入力データ!B14 -> 川崎 | C10: =入力データ!C14 -> 2 | D10: =入力データ!D14 -> 0
A11: 男子 団体 | B11: =入力データ!B15 -> 川崎 | C11: =入力データ!C15 -> 3 | D11: =入力データ!D15 -> 0
A12: 男子 団体 | B12: =入力データ!B18 -> 相模原 | C12: =入力データ!C18 -> 1 | D12: =入力データ!D18 -> 0
A13: 男子 団体 | B13: =入力データ!B19 -> 相模原 | C13: =入力データ!C19 -> 2 | D13: =入力データ!D19 -> 0
A14: 男子 団体 | B14: =入力データ!B20 -> 横須賀 | C14: =入力データ!C20 -> 1 | D14: =入力データ!D20 -> 0
A15: 男子 団体 | B15: =入力データ!B21 -> 横須賀 | C15: =入力データ!C21 -> 2 | D15: =入力データ!D21 -> 0
A16: 男子 団体 | B16: =入力データ!B22 -> 湘南 | C16: =入力データ!C22 -> 1 | D16: =入力データ!D22 -> 0
A17: 男子 団体 | B17: =入力データ!B24 -> 湘南 | C17: =入力データ!C23 -> 2 | D17: =入力データ!D23 -> 0
A18: 男子 団体 | B18: =入力データ!B25 -> 中 | C18: =入力データ!C25 -> 1 | D18: =入力データ!D25 -> 0
A19: 男子 団体 | B19: =入力データ!B27 -> 中 | C19: =入力データ!C26 -> 2 | D19: =入力データ!D26 -> 0
A20: 男子 団体 | B20: =入力データ!B30 -> 県央 | C20: =入力データ!C29 -> 1 | D20: =入力データ!D29 -> 0
A21: 男子 団体 | B21: =入力データ!B29 -> 県央 | C21: =入力データ!C30 -> 2 | D21: =入力データ!D30 -> 0
A22: 男子 団体 | B22: =入力データ!B31 -> 県央 | C22: =入力データ!C31 -> 3 | D22: =入力データ!D31 -> 0
A23: 男子 団体 | B23: =入力データ!B32 -> 県央 | C23: =入力データ!C32 -> 4 | D23: =入力データ!D32 -> 0
A24: 男子 団体 | B24: =入力データ!B33 -> 県西 | C24: =入力データ!C33 -> 1 | D24: =入力データ!D33 -> 0
A25: 男子 団体 | B25: =入力データ!B34 -> 県西 | C25: =入力データ!C34 -> 2 | D25: =入力データ!D34 -> 0
A26: 女子 団体 | B26: =入力データ!B5 -> 横浜 | C26: =入力データ!C5 -> 1 | D26: =入力データ!U5 -> 0
A27: 女子 団体 | B27: =入力データ!B6 -> 横浜 | C27: =入力データ!C6 -> 2 | D27: =入力データ!U6 -> 0
A28: 女子 団体 | B28: =入力データ!B7 -> 横浜 | C28: =入力データ!C7 -> 3 | D28: =入力データ!U7 -> 0
A29: 女子 団体 | B29: =入力データ!B8 -> 横浜 | C29: =入力データ!C8 -> 4 | D29: =入力データ!U8 -> 0
A30: 女子 団体 | B30: =入力データ!B9 -> 横浜 | C30: =入力データ!C9 -> 5 | D30: =入力データ!U9 -> 0
A31: 女子 団体 | B31: =入力データ!B10 -> 横浜 | C31: =入力データ!C10 -> 6 | D31: =入力データ!U10 -> 0
A32: 女子 団体 | B32: =入力データ!B11 -> 横浜 | C32: =入力データ!C11 -> 7 | D32: =入力データ!U11 -> 0
A33: 女子 団体 | B33: =入力データ!B12 -> 横浜 | C33: =入力データ!C12 -> 8 | D33: =入力データ!U12 -> 0
A34: 女子 団体 | B34: =入力データ!B13 -> 川崎 | C34: =入力データ!C13 -> 1 | D34: =入力データ!U13 -> 0
A35: 女子 団体 | B35: =入力データ!B14 -> 川崎 | C35: =入力データ!C14 -> 2 | D35: =入力データ!U14 -> 0
A36: 女子 団体 | B36: =入力データ!B15 -> 川崎 | C36: =入力データ!C15 -> 3 | D36: =入力データ!U15 -> 0
A37: 女子 団体 | B37: =入力データ!B17 -> 川崎 | C37: =入力データ!C17 -> 5 | D37: =入力データ!U16 -> 0
A38: 女子 団体 | B38: =入力データ!B18 -> 相模原 | C38: =入力データ!C18 -> 1 | D38: =入力データ!U18 -> 0
A39: 女子 団体 | B39: =入力データ!B19 -> 相模原 | C39: =入力データ!C19 -> 2 | D39: =入力データ!U19 -> 0
A40: 女子 団体 | B40: =入力データ!B20 -> 横須賀 | C40: =入力データ!C20 -> 1 | D40: =入力データ!U20 -> 0
...

Sheet 書記用
A1: MS | F1: MD | N1: WS | S1: WD
A2: =入力データ!E5&" "&入力データ!F5 | B2: =入力データ!I5&入力データ!J5&"学校" -> 学校 | C2: -1 | D2: =入力データ!G5 -> 0 | F2: =入力データ!K5&" "&入力データ!L5 | G2: =入力データ!O5&" "&入力データ!P5 | H2: =入力データ!S5&入力データ!T5&"学校" -> 学校 | I2: =H2 -> 学校 | J2: -1 | K2: =入力データ!M5 -> 0 | L2: =入力データ!Q5 -> 0 | N2: =入力データ!V5&" "&入力データ!W5 | O2: =入力データ!Z5&入力データ!AA5&"学校" -> 学校 | P2: -1 | Q2: =入力データ!X5 -> 0 | S2: =入力データ!AB5&" "&入力データ!AC5 | T2: =入力データ!AF5&" "&入力データ!AG5 | U2: =入力データ!AJ5&入力データ!AK5&"学校" -> 学校 | V2: =U2 -> 学校 | W2: -1 | X2: =入力データ!AD5 -> 0 | Y2: =入力データ!AH5 -> 0
A3: =入力データ!E6&" "&入力データ!F6 | B3: =入力データ!I6&入力データ!J6&"学校" -> 学校 | C3: -1 | D3: =入力データ!G6 -> 0 | F3: =入力データ!K6&" "&入力データ!L6 | G3: =入力データ!O6&" "&入力データ!P6 | H3: =入力データ!S6&入力データ!T6&"学校" -> 学校 | I3: =H3 -> 学校 | J3: -1 | K3: =入力データ!M6 -> 0 | L3: =入力データ!Q6 -> 0 | N3: =入力データ!V6&" "&入力データ!W6 | O3: =入力データ!Z6&入力データ!AA6&"学校" -> 学校 | P3: -1 | Q3: =入力データ!X6 -> 0 | S3: =入力データ!AB6&" "&入力データ!AC6 | T3: =入力データ!AF6&" "&入力データ!AG6 | U3: =入力データ!AJ6&入力データ!AK6&"学校" -> 学校 | V3: =U3 -> 学校 | W3: -1 | X3: =入力データ!AD6 -> 0 | Y3: =入力データ!AH6 -> 0
A4: =入力データ!E7&" "&入力データ!F7 | B4: =入力データ!I7&入力データ!J7&"学校" -> 学校 | C4: -1 | D4: =入力データ!G7 -> 0 | F4: =入力データ!K7&" "&入力データ!L7 | G4: =入力データ!O7&" "&入力データ!P7 | H4: =入力データ!S7&入力データ!T7&"学校" -> 学校 | I4: =H4 -> 学校 | J4: -1 | K4: =入力データ!M7 -> 0 | L4: =入力データ!Q7 -> 0 | N4: =入力データ!V7&" "&入力データ!W7 | O4: =入力データ!Z7&入力データ!AA7&"学校" -> 学校 | P4: -1 | Q4: =入力データ!X7 -> 0 | S4: =入力データ!AB7&" "&入力データ!AC7 | T4: =入力データ!AF7&" "&入力データ!AG7 | U4: =入力データ!AJ7&入力データ!AK7&"学校" -> 学校 | V4: =U4 -> 学校 | W4: -1 | X4: =入力データ!AD7 -> 0 | Y4: =入力データ!AH7 -> 0
A5: =入力データ!E8&" "&入力データ!F8 | B5: =入力データ!I8&入力データ!J8&"学校" -> 学校 | C5: -1 | D5: =入力データ!G8 -> 0 | F5: =入力データ!K8&" "&入力データ!L8 | G5: =入力データ!O8&" "&入力データ!P8 | H5: =入力データ!S8&入力データ!T8&"学校" -> 学校 | I5: =H5 -> 学校 | J5: -1 | K5: =入力データ!M8 -> 0 | L5: =入力データ!Q8 -> 0 | N5: =入力データ!V8&" "&入力データ!W8 | O5: =入力データ!Z8&入力データ!AA8&"学校" -> 学校 | P5: -1 | Q5: =入力データ!X8 -> 0 | S5: =入力データ!AB8&" "&入力データ!AC8 | T5: =入力データ!AF8&" "&入力データ!AG8 | U5: =入力データ!AJ8&入力データ!AK8&"学校" -> 学校 | V5: =U5 -> 学校 | W5: -1 | X5: =入力データ!AD8 -> 0 | Y5: =入力データ!AH8 -> 0
A6: =入力データ!E9&" "&入力データ!F9 | B6: =入力データ!I9&入力データ!J9&"学校" -> 学校 | C6: -1 | D6: =入力データ!G9 -> 0 | F6: =入力データ!K9&" "&入力データ!L9 | G6: =入力データ!O9&" "&入力データ!P9 | H6: =入力データ!S9&入力データ!T9&"学校" -> 学校 | I6: =H6 -> 学校 | J6: -1 | K6: =入力データ!M9 -> 0 | L6: =入力データ!Q9 -> 0 | N6: =入力データ!V9&" "&入力データ!W9 | O6: =入力データ!Z9&入力データ!AA9&"学校" -> 学校 | P6: -1 | Q6: =入力データ!X9 -> 0 | S6: =入力データ!AB9&" "&入力データ!AC9 | T6: =入力データ!AF9&" "&入力データ!AG9 | U6: =入力データ!AJ9&入力データ!AK9&"学校" -> 学校 | V6: =U6 -> 学校 | W6: -1 | X6: =入力データ!AD9 -> 0 | Y6: =入力データ!AH9 -> 0
A7: =入力データ!E10&" "&入力データ!F10 | B7: =入力データ!I10&入力データ!J10&"学校" -> 学校 | C7: -1 | D7: =入力データ!G10 -> 0 | F7: =入力データ!K10&" "&入力データ!L10 | G7: =入力データ!O10&" "&入力データ!P10 | H7: =入力データ!S10&入力データ!T10&"学校" -> 学校 | I7: =H7 -> 学校 | J7: -1 | K7: =入力データ!M10 -> 0 | L7: =入力データ!Q10 -> 0 | N7: =入力データ!V10&" "&入力データ!W10 | O7: =入力データ!Z10&入力データ!AA10&"学校" -> 学校 | P7: -1 | Q7: =入力データ!X10 -> 0 | S7: =入力データ!AB10&" "&入力データ!AC10 | T7: =入力データ!AF10&" "&入力データ!AG10 | U7: =入力データ!AJ10&入力データ!AK10&"学校" -> 学校 | V7: =U7 -> 学校 | W7: -1 | X7: =入力データ!AD10 -> 0 | Y7: =入力データ!AH10 -> 0
A8: =入力データ!E11&" "&入力データ!F11 | B8: =入力データ!I11&入力データ!J11&"学校" -> 学校 | C8: -1 | D8: =入力データ!G11 -> 0 | F8: =入力データ!K11&" "&入力データ!L11 | G8: =入力データ!O11&" "&入力データ!P11 | H8: =入力データ!S11&入力データ!T11&"学校" -> 学校 | I8: =H8 -> 学校 | J8: -1 | K8: =入力データ!M11 -> 0 | L8: =入力データ!Q11 -> 0 | N8: =入力データ!V11&" "&入力データ!W11 | O8: =入力データ!Z11&入力データ!AA11&"学校" -> 学校 | P8: -1 | Q8: =入力データ!X11 -> 0 | S8: =入力データ!AB11&" "&入力データ!AC11 | T8: =入力データ!AF11&" "&入力データ!AG11 | U8: =入力データ!AJ11&入力データ!AK11&"学校" -> 学校 | V8: =U8 -> 学校 | W8: -1 | X8: =入力データ!AD11 -> 0 | Y8: =入力データ!AH11 -> 0
A9: =入力データ!E12&" "&入力データ!F12 | B9: =入力データ!I12&入力データ!J12&"学校" -> 学校 | C9: -1 | D9: =入力データ!G12 -> 0 | F9: =入力データ!K12&" "&入力データ!L12 | G9: =入力データ!O12&" "&入力データ!P12 | H9: =入力データ!S12&入力データ!T12&"学校" -> 学校 | I9: =H9 -> 学校 | J9: -1 | K9: =入力データ!M12 -> 0 | L9: =入力データ!Q12 -> 0 | N9: =入力データ!V12&" "&入力データ!W12 | O9: =入力データ!Z12&入力データ!AA12&"学校" -> 学校 | P9: -1 | Q9: =入力データ!X12 -> 0 | S9: =入力データ!AB12&" "&入力データ!AC12 | T9: =入力データ!AF12&" "&入力データ!AG12 | U9: =入力データ!AJ12&入力データ!AK12&"学校" -> 学校 | V9: =U9 -> 学校 | W9: -1 | X9: =入力データ!AD12 -> 0 | Y9: =入力データ!AH12 -> 0
A10: =入力データ!E13&" "&入力データ!F13 | B10: =入力データ!I13&入力データ!J13&"学校" -> 学校 | C10: -1 | D10: =入力データ!G13 -> 0 | F10: =入力データ!K13&" "&入力データ!L13 | G10: =入力データ!O13&" "&入力データ!P13 | H10: =入力データ!S13&入力データ!T13&"学校" -> 学校 | I10: =H10 -> 学校 | J10: -1 | K10: =入力データ!M13 -> 0 | L10: =入力データ!Q13 -> 0 | N10: =入力データ!V13&" "&入力データ!W13 | O10: =入力データ!Z13&入力データ!AA13&"学校" -> 学校 | P10: -1 | Q10: =入力データ!X13 -> 0 | S10: =入力データ!AB13&" "&入力データ!AC13 | T10: =入力データ!AF13&" "&入力データ!AG13 | U10: =入力データ!AJ13&入力データ!AK13&"学校" -> 学校 | V10: =U10 -> 学校 | W10: -1 | X10: =入力データ!AD13 -> 0 | Y10: =入力データ!AH13 -> 0
A11: =入力データ!E14&" "&入力データ!F14 | B11: =入力データ!I14&入力データ!J14&"学校" -> 学校 | C11: -1 | D11: =入力データ!G14 -> 0 | F11: =入力データ!K14&" "&入力データ!L14 | G11: =入力データ!O14&" "&入力データ!P14 | H11: =入力データ!S14&入力データ!T14&"学校" -> 学校 | I11: =H11 -> 学校 | J11: -1 | K11: =入力データ!M14 -> 0 | L11: =入力データ!Q14 -> 0 | N11: =入力データ!V14&" "&入力データ!W14 | O11: =入力データ!Z14&入力データ!AA14&"学校" -> 学校 | P11: -1 | Q11: =入力データ!X14 -> 0 | S11: =入力データ!AB14&" "&入力データ!AC14 | T11: =入力データ!AF14&" "&入力データ!AG14 | U11: =入力データ!AJ14&入力データ!AK14&"学校" -> 学校 | V11: =U11 -> 学校 | W11: -1 | X11: =入力データ!AD14 -> 0 | Y11: =入力データ!AH14 -> 0
A12: =入力データ!E15&" "&入力データ!F15 | B12: =入力データ!I15&入力データ!J15&"学校" -> 学校 | C12: -1 | D12: =入力データ!G15 -> 0 | F12: =入力データ!K15&" "&入力データ!L15 | G12: =入力データ!O15&" "&入力データ!P15 | H12: =入力データ!S15&入力データ!T15&"学校" -> 学校 | I12: =H12 -> 学校 | J12: -1 | K12: =入力データ!M15 -> 0 | L12: =入力データ!Q15 -> 0 | N12: =入力データ!V15&" "&入力データ!W15 | O12: =入力データ!Z15&入力データ!AA15&"学校" -> 学校 | P12: -1 | Q12: =入力データ!X15 -> 0 | S12: =入力データ!AB15&" "&入力データ!AC15 | T12: =入力データ!AF15&" "&入力データ!AG15 | U12: =入力データ!AJ15&入力データ!AK15&"学校" -> 学校 | V12: =U12 -> 学校 | W12: -1 | X12: =入力データ!AD15 -> 0 | Y12: =入力データ!AH15 -> 0
A13: =入力データ!E17&" "&入力データ!F17 | B13: =入力データ!I17&入力データ!J17&"学校" -> 学校 | C13: -1 | D13: =入力データ!G17 -> 0 | F13: =入力データ!K17&" "&入力データ!L17 | G13: =入力データ!O17&" "&入力データ!P17 | H13: =入力データ!S17&入力データ!T17&"学校" -> 学校 | I13: =H13 -> 学校 | J13: -1 | K13: =入力データ!M17 -> 0 | L13: =入力データ!Q17 -> 0 | N13: =入力データ!V17&" "&入力データ!W17 | O13: =入力データ!Z17&入力データ!AA17&"学校" -> 学校 | P13: -1 | Q13: =入力データ!X17 -> 0 | S13: =入力データ!AB17&" "&入力データ!AC17 | T13: =入力データ!AF17&" "&入力データ!AG17 | U13: =入力データ!AJ17&入力データ!AK17&"学校" -> 学校 | V13: =U13 -> 学校 | W13: -1 | X13: =入力データ!AD17 -> 0 | Y13: =入力データ!AH17 -> 0
A14: =入力データ!E18&" "&入力データ!F18 | B14: =入力データ!I18&入力データ!J18&"学校" -> 学校 | C14: -1 | D14: =入力データ!G18 -> 0 | F14: =入力データ!K18&" "&入力データ!L18 | G14: =入力データ!O18&" "&入力データ!P18 | H14: =入力データ!S18&入力データ!T18&"学校" -> 学校 | I14: =H14 -> 学校 | J14: -1 | K14: =入力データ!M18 -> 0 | L14: =入力データ!Q18 -> 0 | N14: =入力データ!V18&" "&入力データ!W18 | O14: =入力データ!Z18&入力データ!AA18&"学校" -> 学校 | P14: -1 | Q14: =入力データ!X18 -> 0 | S14: =入力データ!AB18&" "&入力データ!AC18 | T14: =入力データ!AF18&" "&入力データ!AG18 | U14: =入力データ!AJ18&入力データ!AK18&"学校" -> 学校 | V14: =U14 -> 学校 | W14: -1 | X14: =入力データ!AD18 -> 0 | Y14: =入力データ!AH18 -> 0
A15: =入力データ!E19&" "&入力データ!F19 | B15: =入力データ!I19&入力データ!J19&"学校" -> 学校 | C15: -2 | D15: =入力データ!G19 -> 0 | F15: =入力データ!K19&" "&入力データ!L19 | G15: =入力データ!O19&" "&入力データ!P19 | H15: =入力データ!S19&入力データ!T19&"学校" -> 学校 | I15: =H15 -> 学校 | J15: -2 | K15: =入力データ!M19 -> 0 | L15: =入力データ!Q19 -> 0 | N15: =入力データ!V19&" "&入力データ!W19 | O15: =入力データ!Z19&入力データ!AA19&"学校" -> 学校 | P15: -2 | Q15: =入力データ!X19 -> 0 | S15: =入力データ!AB19&" "&入力データ!AC19 | T15: =入力データ!AF19&" "&入力データ!AG19 | U15: =入力データ!AJ19&入力データ!AK19&"学校" -> 学校 | V15: =U15 -> 学校 | W15: -2 | X15: =入力データ!AD19 -> 0 | Y15: =入力データ!AH19 -> 0
A16: =入力データ!E20&" "&入力データ!F20 | B16: =入力データ!I20&入力データ!J20&"学校" -> 学校 | C16: -1 | D16: =入力データ!G20 -> 0 | F16: =入力データ!K20&" "&入力データ!L20 | G16: =入力データ!O20&" "&入力データ!P20 | H16: =入力データ!S20&入力データ!T20&"学校" -> 学校 | I16: =H16 -> 学校 | J16: -1 | K16: =入力データ!M20 -> 0 | L16: =入力データ!Q20 -> 0 | N16: =入力データ!V20&" "&入力データ!W20 | O16: =入力データ!Z20&入力データ!AA20&"学校" -> 学校 | P16: -1 | Q16: =入力データ!X20 -> 0 | S16: =入力データ!AB20&" "&入力データ!AC20 | T16: =入力データ!AF20&" "&入力データ!AG20 | U16: =入力データ!AJ20&入力データ!AK20&"学校" -> 学校 | V16: =U16 -> 学校 | W16: -1 | X16: =入力データ!AD20 -> 0 | Y16: =入力データ!AH20 -> 0
A17: =入力データ!E21&" "&入力データ!F21 | B17: =入力データ!I21&入力データ!J21&"学校" -> 学校 | C17: -1 | D17: =入力データ!G21 -> 0 | F17: =入力データ!K21&" "&入力データ!L21 | G17: =入力データ!O21&" "&入力データ!P21 | H17: =入力データ!S21&入力データ!T21&"学校" -> 学校 | I17: =H17 -> 学校 | J17: -1 | K17: =入力データ!M21 -> 0 | L17: =入力データ!Q21 -> 0 | N17: =入力データ!V21&" "&入力データ!W21 | O17: =入力データ!Z21&入力データ!AA21&"学校" -> 学校 | P17: -1 | Q17: =入力データ!X21 -> 0 | S17: =入力データ!AB21&" "&入力データ!AC21 | T17: =入力データ!AF21&" "&入力データ!AG21 | U17: =入力データ!AJ21&入力データ!AK21&"学校" -> 学校 | V17: =U17 -> 学校 | W17: -1 | X17: =入力データ!AD21 -> 0 | Y17: =入力データ!AH21 -> 0
A18: =入力データ!E22&" "&入力データ!F22 | B18: =入力データ!I22&入力データ!J22&"学校" -> 学校 | C18: -1 | D18: =入力データ!G22 -> 0 | F18: =入力データ!K22&" "&入力データ!L22 | G18: =入力データ!O22&" "&入力データ!P22 | H18: =入力データ!S22&入力データ!T22&"学校" -> 学校 | I18: =H18 -> 学校 | J18: -1 | K18: =入力データ!M22 -> 0 | L18: =入力データ!Q22 -> 0 | N18: =入力データ!V22&" "&入力データ!W22 | O18: =入力データ!Z22&入力データ!AA22&"学校" -> 学校 | P18: -1 | Q18: =入力データ!X22 -> 0 | S18: =入力データ!AB22&" "&入力データ!AC22 | T18: =入力データ!AF22&" "&入力データ!AG22 | U18: =入力データ!AJ22&入力データ!AK22&"学校" -> 学校 | V18: =U18 -> 学校 | W18: -1 | X18: =入力データ!AD22 -> 0 | Y18: =入力データ!AH22 -> 0
A19: =入力データ!E23&" "&入力データ!F23 | B19: =入力データ!I23&入力データ!J23&"学校" -> 学校 | C19: -2 | D19: =入力データ!G23 -> 0 | F19: =入力データ!K23&" "&入力データ!L23 | G19: =入力データ!O23&" "&入力データ!P23 | H19: =入力データ!S23&入力データ!T23&"学校" -> 学校 | I19: =H19 -> 学校 | J19: -2 | K19: =入力データ!M23 -> 0 | L19: =入力データ!Q23 -> 0 | N19: =入力データ!V23&" "&入力データ!W23 | O19: =入力データ!Z23&入力データ!AA23&"学校" -> 学校 | P19: -2 | Q19: =入力データ!X23 -> 0 | S19: =入力データ!AB23&" "&入力データ!AC23 | T19: =入力データ!AF23&" "&入力データ!AG23 | U19: =入力データ!AJ23&入力データ!AK23&"学校" -> 学校 | V19: =U19 -> 学校 | W19: -2 | X19: =入力データ!AD23 -> 0 | Y19: =入力データ!AH23 -> 0
A20: =入力データ!E24&" "&入力データ!F24 | B20: =入力データ!I24&入力データ!J24&"学校" -> 学校 | C20: -3 | D20: =入力データ!G24 -> 0 | F20: =入力データ!K24&" "&入力データ!L24 | G20: =入力データ!O24&" "&入力データ!P24 | H20: =入力データ!S24&入力データ!T24&"学校" -> 学校 | I20: =H20 -> 学校 | J20: -3 | K20: =入力データ!M24 -> 0 | L20: =入力データ!Q24 -> 0 | N20: =入力データ!V24&" "&入力データ!W24 | O20: =入力データ!Z24&入力データ!AA24&"学校" -> 学校 | P20: -3 | Q20: =入力データ!X24 -> 0 | S20: =入力データ!AB24&" "&入力データ!AC24 | T20: =入力データ!AF24&" "&入力データ!AG24 | U20: =入力データ!AJ24&入力データ!AK24&"学校" -> 学校 | V20: =U20 -> 学校 | W20: -3 | X20: =入力データ!AD24 -> 0 | Y20: =入力データ!AH24 -> 0
A21: =入力データ!E25&" "&入力データ!F25 | B21: =入力データ!I25&入力データ!J25&"学校" -> 学校 | C21: -1 | D21: =入力データ!G25 -> 0 | F21: =入力データ!K25&" "&入力データ!L25 | G21: =入力データ!O25&" "&入力データ!P25 | H21: =入力データ!S25&入力データ!T25&"学校" -> 学校 | I21: =H21 -> 学校 | J21: -1 | K21: =入力データ!M25 -> 0 | L21: =入力データ!Q25 -> 0 | N21: =入力データ!V25&" "&入力データ!W25 | O21: =入力データ!Z25&入力データ!AA25&"学校" -> 学校 | P21: -1 | Q21: =入力データ!X25 -> 0 | S21: =入力データ!AB25&" "&入力データ!AC25 | T21: =入力データ!AF25&" "&入力データ!AG25 | U21: =入力データ!AJ25&入力データ!AK25&"学校" -> 学校 | V21: =U21 -> 学校 | W21: -1 | X21: =入力データ!AD25 -> 0 | Y21: =入力データ!AH25 -> 0
A22: =入力データ!E26&" "&入力データ!F26 | B22: =入力データ!I26&入力データ!J26&"学校" -> 学校 | C22: -2 | D22: =入力データ!G26 -> 0 | F22: =入力データ!K26&" "&入力データ!L26 | G22: =入力データ!O26&" "&入力データ!P26 | H22: =入力データ!S26&入力データ!T26&"学校" -> 学校 | I22: =H22 -> 学校 | J22: -2 | K22: =入力データ!M26 -> 0 | L22: =入力データ!Q26 -> 0 | N22: =入力データ!V26&" "&入力データ!W26 | O22: =入力データ!Z26&入力データ!AA26&"学校" -> 学校 | P22: -2 | Q22: =入力データ!X26 -> 0 | S22: =入力データ!AB26&" "&入力データ!AC26 | T22: =入力データ!AF26&" "&入力データ!AG26 | U22: =入力データ!AJ26&入力データ!AK26&"学校" -> 学校 | V22: =U22 -> 学校 | W22: -2 | X22: =入力データ!AD26 -> 0 | Y22: =入力データ!AH26 -> 0
A23: =入力データ!E27&" "&入力データ!F27 | B23: =入力データ!I27&入力データ!J27&"学校" -> 学校 | C23: -3 | D23: =入力データ!G27 -> 0 | F23: =入力データ!K27&" "&入力データ!L27 | G23: =入力データ!O27&" "&入力データ!P27 | H23: =入力データ!S27&入力データ!T27&"学校" -> 学校 | I23: =H23 -> 学校 | J23: -3 | K23: =入力データ!M27 -> 0 | L23: =入力データ!Q27 -> 0 | N23: =入力データ!V27&" "&入力データ!W27 | O23: =入力データ!Z27&入力データ!AA27&"学校" -> 学校 | P23: -3 | Q23: =入力データ!X27 -> 0 | S23: =入力データ!AB27&" "&入力データ!AC27 | T23: =入力データ!AF27&" "&入力データ!AG27 | U23: =入力データ!AJ27&入力データ!AK27&"学校" -> 学校 | V23: =U23 -> 学校 | W23: -3 | X23: =入力データ!AD27 -> 0 | Y23: =入力データ!AH27 -> 0
A24: =入力データ!E28&" "&入力データ!F28 | B24: =入力データ!I28&入力データ!J28&"学校" -> 学校 | C24: -4 | D24: =入力データ!G28 -> 0 | F24: =入力データ!K28&" "&入力データ!L28 | G24: =入力データ!O28&" "&入力データ!P28 | H24: =入力データ!S28&入力データ!T28&"学校" -> 学校 | I24: =H24 -> 学校 | J24: -4 | K24: =入力データ!M28 -> 0 | L24: =入力データ!Q28 -> 0 | N24: =入力データ!V28&" "&入力データ!W28 | O24: =入力データ!Z28&入力データ!AA28&"学校" -> 学校 | P24: -4 | Q24: =入力データ!X28 -> 0 | S24: =入力データ!AB28&" "&入力データ!AC28 | T24: =入力データ!AF28&" "&入力データ!AG28 | U24: =入力データ!AJ28&入力データ!AK28&"学校" -> 学校 | V24: =U24 -> 学校 | W24: -4 | X24: =入力データ!AD28 -> 0 | Y24: =入力データ!AH28 -> 0
... A31: =入力データ!E35&" "&入力データ!F35 | B31: =入力データ!I35&入力データ!J35&"学校" -> 学校 | C31: -1 | D31: =入力データ!G35 -> 0 | F31: =入力データ!K35&" "&入力データ!L35 | G31: =入力データ!O35&" "&入力データ!P35 | H31: =入力データ!S35&入力データ!T35&"学校" -> 学校 | I31: =H31 -> 学校 | J31: -1 | K31: =入力データ!M35 -> 0 | L31: =入力データ!Q35 -> 0 | N31: =入力データ!V35&" "&入力データ!W35 | O31: =入力データ!Z35&入力データ!AA35&"学校" -> 学校 | P31: -1 | Q31: =入力データ!X35 -> 0 | S31: =入力データ!AB35&" "&入力データ!AC35 | T31: =入力データ!AF35&" "&入力データ!AG35 | U31: =入力データ!AJ35&入力データ!AK35&"学校" -> 学校 | V31: =U31 -> 学校 | W31: -1 | X31: =入力データ!AD35 -> 0 | Y31: =入力データ!AH35 -> 0

Sheet アサミtai貼り付け用_個人
A1: MS | D1: -1
A2: MS | D2: -1
A3: MS | D3: -1
A4: MS | D4: -1
A5: MS | D5: -1
A6: MS | D6: -1
A7: MS | D7: -1
A8: MS | D8: -1
A9: MS | D9: -1
A10: MS | D10: -1
A11: MS | D11: -1
A12: MS | D12: -1
... A26: MS | D26: -1
A27: MD | D27: 横浜市立金沢中学校 | F27: -1 | G27: すぎやま しゅん | H27: しいな こたろう
A28: MD | D28: 横浜市立もえぎ野中学校 | F28: -1 | G28: しまおか なおき | H28: あらせ たかと
A29: MD | D29: 横浜市立金沢中学校 | F29: -1 | G29: さとう さくや | H29: しむら りお
A30: MD | D30: 横浜市立南瀬谷中学校 | F30: -1 | G30: うえの ひろみち | H30: たにぐち りょう
A31: MD | D31: 横浜市立あざみ野中学校 | F31: -1 | G31: やまさき ゆう | H31: きのした ひとし
A32: MD | D32: 横浜市立南瀬谷中学校 | F32: -1 | G32: たかはし ううと | H32: はらだ かいと
A33: MD | D33: 横浜市立若葉台中学校 | F33: -1 | G33: かとう りゅうせい | H33: きみしま たつや
A34: MD | D34: 横浜市立浜中学校 | F34: -1 | G34: あらい ひなた | H34: なかい ゆいと
A35: MD | D35: 横浜市立豊田中学校 | F35: -1 | G35: ひもと まもる | H35: よしわら たくま
A36: MD | D36: 川崎市立大師中学校 | F36: -1 | G36: てらど はやと | H36: うえはら ひびき
A37: MD | D37: 川崎市立東橘中学校 | F37: -1 | G37: たじま きょうたろう | H37: ひろべ そうだい
A38: MD | D38: 川崎市立金程中学校 | F38: -1 | G38: こはら ちひろ | H38: みのわ ゆうご
... A52: MD | D52: 小田原市立国府津中学校 | F52: -1 | G52: ごみ はると | H52: さとう かい
A53: WS | D53: -1
A54: WS | D54: -1
A55: WS | D55: -1
A56: WS | D56: -1
A57: WS | D57: -1
A58: WS | D58: -1
A59: WS | D59: -1
A60: WS | D60: -1
A61: WS | D61: -1
A62: WS | D62: -1
A63: WS | D63: -1
A64: WS | D64: -1
... A78: WS | D78: -1
A79: WD | D79: 横浜市立東山田中学校 | F79: -1 | G79: とくら えみか | H79: いいじま まき
...

Sheet アサミTAI貼り付け用_団体
A1: WT | C1: -1
A2: WT | C2: -1
A3: WT | C3: -1
A4: WT | C4: -1
A5: WT | C5: -1
A6: WT | C6: -1
A7: WT | C7: -1
A8: WT | C8: -1
A9: WT | C9: -1
A10: WT | C10: -1
A11: WT | C11: -1
A12: WT | C12: -1
... A50: MT | C50: -1

Sheet アサミDAN貼り付け用
A1: 団体
A2: 監督
A3: コーチ
A4: 選手
A5: 団体
A6: 監督
A7: コーチ
A8: 選手
A9: 団体
A10: 監督
A11: コーチ
A12: 選手
... A200: 選手
