Workbook

Sheet データベース
A1: 令和６年度 全日本ジュニア県予選会 出場選手入力フォーム
A2: 1 | B2: 2 | C2: 3 | D2: 4 | E2: 5 | F2: 6 | G2: 7 | H2: 8 | I2: 9 | J2: 10 | K2: 11 | L2: 12 | M2: 13 | N2: 14 | O2: 15 | P2: 16 | Q2: 17 | R2: 18 | S2: 19 | T2: 20 | U2: 21 | V2: 22 | W2: 23 | X2: 24 | Y2: 25
C3: 順位 | D3: 男子シングルス | H3: 男子ダブルス | O3: 女子シングルス | S3: 女子ダブルス
D4: 氏名１ | E4: ふりがな1 | F4: 学年1 | G4: 学校名 | H4: 氏名１ | I4: 氏名２ | J4: ふりがな1 | K4: ふりがな2 | L4: 学年1 | M4: 学年2 | N4: 学校名 | O4: 氏名１ | P4: ふりがな1 | Q4: 学年1 | R4: 学校名 | S4: 氏名１ | T4: 氏名２ | U4: ふりがな1 | V4: ふりがな2 | W4: 学年1 | X4: 学年2 | Y4: 学校名
A5: 101 | B5: 横浜 | C5: 1
A6: 102 | B6: 横浜 | C6: 2
A7: 103 | B7: 横浜 | C7: 3
A8: 104 | B8: 横浜 | C8: 4
A9: 201 | B9: 川崎 | C9: 1
A10: =A9+1 -> 202 | B10: 川崎 | C10: 2
A11: =A10+1 -> 203 | B11: 川崎 | C11: 3
A12: =A11+1 -> 204 | B12: 川崎 | C12: 4
A13: 301 | B13: 相模原 | C13: 1
A14: =A13+1 -> 302 | B14: 相模原 | C14: 2
A15: =A14+1 -> 303 | B15: 相模原 | C15: 3
A16: =A15+1 -> 304 | B16: 相模原 | C16: 4
A17: 401 | B17: 横須賀 | C17: 1
A18: =A17+1 -> 402 | B18: 横須賀 | C18: 2
A19: =A18+1 -> 403 | B19: 横須賀 | C19: 3
A20: =A19+1 -> 404 | B20: 横須賀 | C20: 4
A21: 501 | B21: 湘南 | C21: 1
A22: =A21+1 -> 502 | B22: 湘南 | C22: 2
A23: =A22+1 -> 503 | B23: 湘南 | C23: 3
A24: =A23+1 -> 504 | B24: 湘南 | C24: 4
A25: 601 | B25: 中 | C25: 1
A26: =A25+1 -> 602 | B26: 中 | C26: 2
A27: =A26+1 -> 603 | B27: 中 | C27: 3
A28: =A27+1 -> 604 | B28: 中 | C28: 4
A29: 701 | B29: 県央 | C29: 1
A30: =A29+1 -> 702 | B30: 県央 | C30: 2
A31: =A30+1 -> 703 | B31: 県央 | C31: 3
A32: =A31+1 -> 704 | B32: 県央 | C32: 4
A33: 801 | B33: 県西 | C33: 1
A34: =A33+1 -> 802 | B34: 県西 | C34: 2
A35: =A34+1 -> 803 | B35: 県西 | C35: 3
A36: =A35+1 -> 804 | B36: 県西 | C36: 4
A37: 901 | B37: 小体連 | C37: 1
A38: =A37+1 -> 902 | B38: 小体連 | C38: 2
A39: =A38+1 -> 903 | B39: 小体連 | C39: 3
A40: =A39+1 -> 904 | B40: 小体連 | C40: 4
...

Sheet 出場選手一覧（男子）
A1: 出 場 選 手 一 覧 令和4年度
A3: ブロック | B3: 男子シングルス | D3: 男子ダブルス
A4: 横浜 | B4: 1 | C4: =VLOOKUP(G4,データベース!$A$5:$Y$42,4)&"("&VLOOKUP(G4,データベース!$A$5:$Y$42,7)&")" -> () | D4: 1 | E4: =VLOOKUP(G4,データベース!$A$5:$Y$42,8)&"・"&VLOOKUP(G4,データベース!$A$5:$Y$42,9)&"("&VLOOKUP(G4,データベース!$A$5:$Y$42,14)&")" -> ・() | G4: 101
B5: 2 | C5: =VLOOKUP(G5,データベース!$A$5:$Y$42,4)&"("&VLOOKUP(G5,データベース!$A$5:$Y$42,7)&")" -> () | D5: 2 | E5: =VLOOKUP(G5,データベース!$A$5:$Y$42,8)&"・"&VLOOKUP(G5,データベース!$A$5:$Y$42,9)&"("&VLOOKUP(G5,データベース!$A$5:$Y$42,14)&")" -> ・() | G5: 102
B6: 3 | C6: =VLOOKUP(G6,データベース!$A$5:$Y$42,4)&"("&VLOOKUP(G6,データベース!$A$5:$Y$42,7)&")" -> () | D6: 3 | E6: =VLOOKUP(G6,データベース!$A$5:$Y$42,8)&"・"&VLOOKUP(G6,データベース!$A$5:$Y$42,9)&"("&VLOOKUP(G6,データベース!$A$5:$Y$42,14)&")" -> ・() | G6: 103
C7: =VLOOKUP(G7,データベース!$A$5:$Y$42,4)&"("&VLOOKUP(G7,データベース!$A$5:$Y$42,7)&")" -> () | E7: =VLOOKUP(G7,データベース!$A$5:$Y$42,8)&"・"&VLOOKUP(G7,データベース!$A$5:$Y$42,9)&"("&VLOOKUP(G7,データベース!$A$5:$Y$42,14)&")" -> ・() | G7: 104
A8: 川崎 | B8: 1 | C8: =VLOOKUP(G8,データベース!$A$5:$Y$42,4)&"("&VLOOKUP(G8,データベース!$A$5:$Y$42,7)&")" -> () | D8: 1 | E8: =VLOOKUP(G8,データベース!$A$5:$Y$42,8)&"・"&VLOOKUP(G8,データベース!$A$5:$Y$42,9)&"("&VLOOKUP(G8,データベース!$A$5:$Y$42,14)&")" -> ・() | G8: 201
B9: 2 | C9: =VLOOKUP(G9,データベース!$A$5:$Y$42,4)&"("&VLOOKUP(G9,データベース!$A$5:$Y$42,7)&")" -> () | D9: 2 | E9: =VLOOKUP(G9,データベース!$A$5:$Y$42,8)&"・"&VLOOKUP(G9,データベース!$A$5:$Y$42,9)&"("&VLOOKUP(G9,データベース!$A$5:$Y$42,14)&")" -> ・() | G9: 202
B10: 3 | C10: =VLOOKUP(G10,データベース!$A$5:$Y$42,4)&"("&VLOOKUP(G10,データベース!$A$5:$Y$42,7)&")" -> () | D10: 3 | E10: =VLOOKUP(G10,データベース!$A$5:$Y$42,8)&"・"&VLOOKUP(G10,データベース!$A$5:$Y$42,9)&"("&VLOOKUP(G10,データベース!$A$5:$Y$42,14)&")" -> ・() | G10: 203
C11: =VLOOKUP(G11,データベース!$A$5:$Y$42,4)&"("&VLOOKUP(G11,データベース!$A$5:$Y$42,7)&")" -> () | E11: =VLOOKUP(G11,データベース!$A$5:$Y$42,8)&"・"&VLOOKUP(G11,データベース!$A$5:$Y$42,9)&"("&VLOOKUP(G11,データベース!$A$5:$Y$42,14)&")" -> ・() | G11: 204
A12: 相模原 | B12: 1 | C12: =VLOOKUP(G12,データベース!$A$5:$Y$42,4)&"("&VLOOKUP(G12,データベース!$A$5:$Y$42,7)&")" -> () | D12: 1 | E12: =VLOOKUP(G12,データベース!$A$5:$Y$42,8)&"・"&VLOOKUP(G12,データベース!$A$5:$Y$42,9)&"("&VLOOKUP(G12,データベース!$A$5:$Y$42,14)&")" -> ・() | G12: 301
B13: 2 | C13: =VLOOKUP(G13,データベース!$A$5:$Y$42,4)&"("&VLOOKUP(G13,データベース!$A$5:$Y$42,7)&")" -> () | D13: 2 | E13: =VLOOKUP(G13,データベース!$A$5:$Y$42,8)&"・"&VLOOKUP(G13,データベース!$A$5:$Y$42,9)&"("&VLOOKUP(G13,データベース!$A$5:$Y$42,14)&")" -> ・() | G13: 302
B14: 3 | C14: =VLOOKUP(G14,データベース!$A$5:$Y$42,4)&"("&VLOOKUP(G14,データベース!$A$5:$Y$42,7)&")" -> () | D14: 3 | E14: =VLOOKUP(G14,データベース!$A$5:$Y$42,8)&"・"&VLOOKUP(G14,データベース!$A$5:$Y$42,9)&"("&VLOOKUP(G14,データベース!$A$5:$Y$42,14)&")" -> ・() | G14: 303
C15: =VLOOKUP(G15,データベース!$A$5:$Y$42,4)&"("&VLOOKUP(G15,データベース!$A$5:$Y$42,7)&")" -> () | E15: =VLOOKUP(G15,データベース!$A$5:$Y$42,8)&"・"&VLOOKUP(G15,データベース!$A$5:$Y$42,9)&"("&VLOOKUP(G15,データベース!$A$5:$Y$42,14)&")" -> ・() | G15: 304
A16: 横須賀 | B16: 1 | C16: =VLOOKUP(G16,データベース!$A$5:$Y$42,4)&"("&VLOOKUP(G16,データベース!$A$5:$Y$42,7)&")" -> () | D16: 1 | E16: =VLOOKUP(G16,データベース!$A$5:$Y$42,8)&"・"&VLOOKUP(G16,データベース!$A$5:$Y$42,9)&"("&VLOOKUP(G16,データベース!$A$5:$Y$42,14)&")" -> ・() | G16: 401
B17: 2 | C17: =VLOOKUP(G17,データベース!$A$5:$Y$42,4)&"("&VLOOKUP(G17,データベース!$A$5:$Y$42,7)&")" -> () | D17: 2 | E17: =VLOOKUP(G17,データベース!$A$5:$Y$42,8)&"・"&VLOOKUP(G17,データベース!$A$5:$Y$42,9)&"("&VLOOKUP(G17,データベース!$A$5:$Y$42,14)&")" -> ・() | G17: 402
B18: 3 | C18: =VLOOKUP(G18,データベース!$A$5:$Y$42,4)&"("&VLOOKUP(G18,データベース!$A$5:$Y$42,7)&")" -> () | D18: 3 | E18: =VLOOKUP(G18,データベース!$A$5:$Y$42,8)&"・"&VLOOKUP(G18,データベース!$A$5:$Y$42,9)&"("&VLOOKUP(G18,データベース!$A$5:$Y$42,14)&")" -> ・() | G18: 403
C19: =VLOOKUP(G19,データベース!$A$5:$Y$42,4)&"("&VLOOKUP(G19,データベース!$A$5:$Y$42,7)&")" -> () | E19: =VLOOKUP(G19,データベース!$A$5:$Y$42,8)&"・"&VLOOKUP(G19,データベース!$A$5:$Y$42,9)&"("&VLOOKUP(G19,データベース!$A$5:$Y$42,14)&")" -> ・() | G19: 404
A20: 湘南 | B20: 1 | C20: =VLOOKUP(G20,データベース!$A$5:$Y$42,4)&"("&VLOOKUP(G20,データベース!$A$5:$Y$42,7)&")" -> () | D20: 1 | E20: =VLOOKUP(G20,データベース!$A$5:$Y$42,8)&"・"&VLOOKUP(G20,データベース!$A$5:$Y$42,9)&"("&VLOOKUP(G20,データベース!$A$5:$Y$42,14)&")" -> ・() | G20: 501
B21: 2 | C21: =VLOOKUP(G21,データベース!$A$5:$Y$42,4)&"("&VLOOKUP(G21,データベース!$A$5:$Y$42,7)&")" -> () | D21: 2 | E21: =VLOOKUP(G21,データベース!$A$5:$Y$42,8)&"・"&VLOOKUP(G21,データベース!$A$5:$Y$42,9)&"("&VLOOKUP(G21,データベース!$A$5:$Y$42,14)&")" -> ・() | G21: 502
B22: 3 | C22: =VLOOKUP(G22,データベース!$A$5:$Y$42,4)&"("&VLOOKUP(G22,データベース!$A$5:$Y$42,7)&")" -> () | D22: 3 | E22: =VLOOKUP(G22,データベース!$A$5:$Y$42,8)&"・"&VLOOKUP(G22,データベース!$A$5:$Y$42,9)&"("&VLOOKUP(G22,データベース!$A$5:$Y$42,14)&")" -> ・() | G22: 503
C23: =VLOOKUP(G23,データベース!$A$5:$Y$42,4)&"("&VLOOKUP(G23,データベース!$A$5:$Y$42,7)&")" -> () | E23: =VLOOKUP(G23,データベース!$A$5:$Y$42,8)&"・"&VLOOKUP(G23,データベース!$A$5:$Y$42,9)&"("&VLOOKUP(G23,データベース!$A$5:$Y$42,14)&")" -> ・() | G23: 504
A24: 中 | B24: 1 | C24: =VLOOKUP(G24,データベース!$A$5:$Y$42,4)&"("&VLOOKUP(G24,データベース!$A$5:$Y$42,7)&")" -> () | D24: 1 | E24: =VLOOKUP(G24,データベース!$A$5:$Y$42,8)&"・"&VLOOKUP(G24,データベース!$A$5:$Y$42,9)&"("&VLOOKUP(G24,データベース!$A$5:$Y$42,14)&")" -> ・() | G24: 601
B25: 2 | C25: =VLOOKUP(G25,データベース!$A$5:$Y$42,4)&"("&VLOOKUP(G25,データベース!$A$5:$Y$42,7)&")" -> () | D25: 2 | E25: =VLOOKUP(G25,データベース!$A$5:$Y$42,8)&"・"&VLOOKUP(G25,データベース!$A$5:$Y$42,9)&"("&VLOOKUP(G25,データベース!$A$5:$Y$42,14)&")" -> ・() | G25: 602
B26: 3 | C26: =VLOOKUP(G26,データベース!$A$5:$Y$42,4)&"("&VLOOKUP(G26,データベース!$A$5:$Y$42,7)&")" -> () | D26: 3 | E26: =VLOOKUP(G26,データベース!$A$5:$Y$42,8)&"・"&VLOOKUP(G26,データベース!$A$5:$Y$42,9)&"("&VLOOKUP(G26,データベース!$A$5:$Y$42,14)&")" -> ・() | G26: 603
C27: =VLOOKUP(G27,データベース!$A$5:$Y$42,4)&"("&VLOOKUP(G27,データベース!$A$5:$Y$42,7)&")" -> () | E27: =VLOOKUP(G27,データベース!$A$5:$Y$42,8)&"・"&VLOOKUP(G27,データベース!$A$5:$Y$42,9)&"("&VLOOKUP(G27,データベース!$A$5:$Y$42,14)&")" -> ・() | G27: 604
A28: 県央 | B28: 1 | C28: =VLOOKUP(G28,データベース!$A$5:$Y$42,4)&"("&VLOOKUP(G28,データベース!$A$5:$Y$42,7)&")" -> () | D28: 1 | E28: =VLOOKUP(G28,データベース!$A$5:$Y$42,8)&"・"&VLOOKUP(G28,データベース!$A$5:$Y$42,9)&"("&VLOOKUP(G28,データベース!$A$5:$Y$42,14)&")" -> ・() | G28: 701
B29: 2 | C29: =VLOOKUP(G29,データベース!$A$5:$Y$42,4)&"("&VLOOKUP(G29,データベース!$A$5:$Y$42,7)&")" -> () | D29: 2 | E29: =VLOOKUP(G29,データベース!$A$5:$Y$42,8)&"・"&VLOOKUP(G29,データベース!$A$5:$Y$42,9)&"("&VLOOKUP(G29,データベース!$A$5:$Y$42,14)&")" -> ・() | G29: 702
B30: 3 | C30: =VLOOKUP(G30,データベース!$A$5:$Y$42,4)&"("&VLOOKUP(G30,データベース!$A$5:$Y$42,7)&")" -> () | D30: 3 | E30: =VLOOKUP(G30,データベース!$A$5:$Y$42,8)&"・"&VLOOKUP(G30,データベース!$A$5:$Y$42,9)&"("&VLOOKUP(G30,データベース!$A$5:$Y$42,14)&")" -> ・() | G30: 703
C31: =VLOOKUP(G31,データベース!$A$5:$Y$42,4)&"("&VLOOKUP(G31,データベース!$A$5:$Y$42,7)&")" -> () | E31: =VLOOKUP(G31,データベース!$A$5:$Y$42,8)&"・"&VLOOKUP(G31,データベース!$A$5:$Y$42,9)&"("&VLOOKUP(G31,データベース!$A$5:$Y$42,14)&")" -> ・() | G31: 704
A32: 県西 | B32: 1 | C32: =VLOOKUP(G32,データベース!$A$5:$Y$42,4)&"("&VLOOKUP(G32,データベース!$A$5:$Y$42,7)&")" -> () | D32: 1 | E32: =VLOOKUP(G32,データベース!$A$5:$Y$42,8)&"・"&VLOOKUP(G32,データベース!$A$5:$Y$42,9)&"("&VLOOKUP(G32,データベース!$A$5:$Y$42,14)&")" -> ・() | G32: 801
B33: 2 | C33: =VLOOKUP(G33,データベース!$A$5:$Y$42,4)&"("&VLOOKUP(G33,データベース!$A$5:$Y$42,7)&")" -> () | D33: 2 | E33: =VLOOKUP(G33,データベース!$A$5:$Y$42,8)&"・"&VLOOKUP(G33,データベース!$A$5:$Y$42,9)&"("&VLOOKUP(G33,データベース!$A$5:$Y$42,14)&")" -> ・() | G33: 802
B34: 3 | C34: =VLOOKUP(G34,データベース!$A$5:$Y$42,4)&"("&VLOOKUP(G34,データベース!$A$5:$Y$42,7)&")" -> () | D34: 3 | E34: =VLOOKUP(G34,データベース!$A$5:$Y$42,8)&"・"&VLOOKUP(G34,データベース!$A$5:$Y$42,9)&"("&VLOOKUP(G34,データベース!$A$5:$Y$42,14)&")" -> ・() | G34: 803
C35: =VLOOKUP(G35,データベース!$A$5:$Y$42,4)&"("&VLOOKUP(G35,データベース!$A$5:$Y$42,7)&")" -> () | E35: =VLOOKUP(G35,データベース!$A$5:$Y$42,8)&"・"&VLOOKUP(G35,データベース!$A$5:$Y$42,9)&"("&VLOOKUP(G35,データベース!$A$5:$Y$42,14)&")" -> ・() | G35: 804
A36: 小学生 連盟 | B36: 1 | C36: =VLOOKUP(G36,データベース!$A$5:$Y$42,4)&"("&VLOOKUP(G36,データベース!$A$5:$Y$42,7)&")" -> () | G36: 901
B37: 2 | C37: =VLOOKUP(G37,データベース!$A$5:$Y$42,4)&"("&VLOOKUP(G37,データベース!$A$5:$Y$42,7)&")" -> () | G37: 902
B38: 3 | C38: =VLOOKUP(G38,データベース!$A$5:$Y$42,4)&"("&VLOOKUP(G38,データベース!$A$5:$Y$42,7)&")" -> () | G38: 903
C39: =VLOOKUP(G39,データベース!$A$5:$Y$42,4)&"("&VLOOKUP(G39,データベース!$A$5:$Y$42,7)&")" -> () | G39: 904
A40: クラブ チーム | C40: =VLOOKUP(G40,データベース!$A$5:$Y$42,4)&"("&VLOOKUP(G40,データベース!$A$5:$Y$42,7)&")" -> () | G40: 1001
C41: =VLOOKUP(G41,データベース!$A$5:$Y$42,4)&"("&VLOOKUP(G41,データベース!$A$5:$Y$42,7)&")" -> () | G41: 1002
...

Sheet 出場選手一覧（女子）
A1: 出 場 選 手 一 覧 令和4年度
A3: ブロック | B3: 女子シングルス | D3: 女子ダブルス
A4: 横浜 | B4: 1 | C4: =VLOOKUP(G4,データベース!$A$5:$Y$42,15)&"("&VLOOKUP(G4,データベース!$A$5:$Y$42,18)&")" -> () | D4: 1 | E4: =VLOOKUP(G4,データベース!$A$5:$Y$42,19)&"・"&VLOOKUP(G4,データベース!$A$5:$Y$42,20)&"("&VLOOKUP(G4,データベース!$A$5:$Y$42,25)&")" -> ・() | G4: 101
B5: 2 | C5: =VLOOKUP(G5,データベース!$A$5:$Y$42,15)&"("&VLOOKUP(G5,データベース!$A$5:$Y$42,18)&")" -> () | D5: 2 | E5: =VLOOKUP(G5,データベース!$A$5:$Y$42,19)&"・"&VLOOKUP(G5,データベース!$A$5:$Y$42,20)&"("&VLOOKUP(G5,データベース!$A$5:$Y$42,25)&")" -> ・() | G5: 102
B6: 3 | C6: =VLOOKUP(G6,データベース!$A$5:$Y$42,15)&"("&VLOOKUP(G6,データベース!$A$5:$Y$42,18)&")" -> () | D6: 3 | E6: =VLOOKUP(G6,データベース!$A$5:$Y$42,19)&"・"&VLOOKUP(G6,データベース!$A$5:$Y$42,20)&"("&VLOOKUP(G6,データベース!$A$5:$Y$42,25)&")" -> ・() | G6: 103
C7: =VLOOKUP(G7,データベース!$A$5:$Y$42,15)&"("&VLOOKUP(G7,データベース!$A$5:$Y$42,18)&")" -> () | E7: =VLOOKUP(G7,データベース!$A$5:$Y$42,19)&"・"&VLOOKUP(G7,データベース!$A$5:$Y$42,20)&"("&VLOOKUP(G7,データベース!$A$5:$Y$42,25)&")" -> ・() | G7: 104
A8: 川崎 | B8: 1 | C8: =VLOOKUP(G8,データベース!$A$5:$Y$42,15)&"("&VLOOKUP(G8,データベース!$A$5:$Y$42,18)&")" -> () | D8: 1 | E8: =VLOOKUP(G8,データベース!$A$5:$Y$42,19)&"・"&VLOOKUP(G8,データベース!$A$5:$Y$42,20)&"("&VLOOKUP(G8,データベース!$A$5:$Y$42,25)&")" -> ・() | G8: 201
B9: 2 | C9: =VLOOKUP(G9,データベース!$A$5:$Y$42,15)&"("&VLOOKUP(G9,データベース!$A$5:$Y$42,18)&")" -> () | D9: 2 | E9: =VLOOKUP(G9,データベース!$A$5:$Y$42,19)&"・"&VLOOKUP(G9,データベース!$A$5:$Y$42,20)&"("&VLOOKUP(G9,データベース!$A$5:$Y$42,25)&")" -> ・() | G9: 202
B10: 3 | C10: =VLOOKUP(G10,データベース!$A$5:$Y$42,15)&"("&VLOOKUP(G10,データベース!$A$5:$Y$42,18)&")" -> () | D10: 3 | E10: =VLOOKUP(G10,データベース!$A$5:$Y$42,19)&"・"&VLOOKUP(G10,データベース!$A$5:$Y$42,20)&"("&VLOOKUP(G10,データベース!$A$5:$Y$42,25)&")" -> ・() | G10: 203
C11: =VLOOKUP(G11,データベース!$A$5:$Y$42,15)&"("&VLOOKUP(G11,データベース!$A$5:$Y$42,18)&")" -> () | E11: =VLOOKUP(G11,データベース!$A$5:$Y$42,19)&"・"&VLOOKUP(G11,データベース!$A$5:$Y$42,20)&"("&VLOOKUP(G11,データベース!$A$5:$Y$42,25)&")" -> ・() | G11: 204
A12: 相模原 | B12: 1 | C12: =VLOOKUP(G12,データベース!$A$5:$Y$42,15)&"("&VLOOKUP(G12,データベース!$A$5:$Y$42,18)&")" -> () | D12: 1 | E12: =VLOOKUP(G12,データベース!$A$5:$Y$42,19)&"・"&VLOOKUP(G12,データベース!$A$5:$Y$42,20)&"("&VLOOKUP(G12,データベース!$A$5:$Y$42,25)&")" -> ・() | G12: 301
B13: 2 | C13: =VLOOKUP(G13,データベース!$A$5:$Y$42,15)&"("&VLOOKUP(G13,データベース!$A$5:$Y$42,18)&")" -> () | D13: 2 | E13: =VLOOKUP(G13,データベース!$A$5:$Y$42,19)&"・"&VLOOKUP(G13,データベース!$A$5:$Y$42,20)&"("&VLOOKUP(G13,データベース!$A$5:$Y$42,25)&")" -> ・() | G13: 302
B14: 3 | C14: =VLOOKUP(G14,データベース!$A$5:$Y$42,15)&"("&VLOOKUP(G14,データベース!$A$5:$Y$42,18)&")" -> () | D14: 3 | E14: =VLOOKUP(G14,データベース!$A$5:$Y$42,19)&"・"&VLOOKUP(G14,データベース!$A$5:$Y$42,20)&"("&VLOOKUP(G14,データベース!$A$5:$Y$42,25)&")" -> ・() | G14: 303
C15: =VLOOKUP(G15,データベース!$A$5:$Y$42,15)&"("&VLOOKUP(G15,データベース!$A$5:$Y$42,18)&")" -> () | E15: =VLOOKUP(G15,データベース!$A$5:$Y$42,19)&"・"&VLOOKUP(G15,データベース!$A$5:$Y$42,20)&"("&VLOOKUP(G15,データベース!$A$5:$Y$42,25)&")" -> ・() | G15: 304
A16: 横須賀 | B16: 1 | C16: =VLOOKUP(G16,データベース!$A$5:$Y$42,15)&"("&VLOOKUP(G16,データベース!$A$5:$Y$42,18)&")" -> () | D16: 1 | E16: =VLOOKUP(G16,データベース!$A$5:$Y$42,19)&"・"&VLOOKUP(G16,データベース!$A$5:$Y$42,20)&"("&VLOOKUP(G16,データベース!$A$5:$Y$42,25)&")" -> ・() | G16: 401
B17: 2 | C17: =VLOOKUP(G17,データベース!$A$5:$Y$42,15)&"("&VLOOKUP(G17,データベース!$A$5:$Y$42,18)&")" -> () | D17: 2 | E17: =VLOOKUP(G17,データベース!$A$5:$Y$42,19)&"・"&VLOOKUP(G17,データベース!$A$5:$Y$42,20)&"("&VLOOKUP(G17,データベース!$A$5:$Y$42,25)&")" -> ・() | G17: 402
B18: 3 | C18: =VLOOKUP(G18,データベース!$A$5:$Y$42,15)&"("&VLOOKUP(G18,データベース!$A$5:$Y$42,18)&")" -> () | D18: 3 | E18: =VLOOKUP(G18,データベース!$A$5:$Y$42,19)&"・"&VLOOKUP(G18,データベース!$A$5:$Y$42,20)&"("&VLOOKUP(G18,データベース!$A$5:$Y$42,25)&")" -> ・() | G18: 403
C19: =VLOOKUP(G19,データベース!$A$5:$Y$42,15)&"("&VLOOKUP(G19,データベース!$A$5:$Y$42,18)&")" -> () | E19: =VLOOKUP(G19,データベース!$A$5:$Y$42,19)&"・"&VLOOKUP(G19,データベース!$A$5:$Y$42,20)&"("&VLOOKUP(G19,データベース!$A$5:$Y$42,25)&")" -> ・() | G19: 404
A20: 湘南 | B20: 1 | C20: =VLOOKUP(G20,データベース!$A$5:$Y$42,15)&"("&VLOOKUP(G20,データベース!$A$5:$Y$42,18)&")" -> () | D20: 1 | E20: =VLOOKUP(G20,データベース!$A$5:$Y$42,19)&"・"&VLOOKUP(G20,データベース!$A$5:$Y$42,20)&"("&VLOOKUP(G20,データベース!$A$5:$Y$42,25)&")" -> ・() | G20: 501
B21: 2 | C21: =VLOOKUP(G21,データベース!$A$5:$Y$42,15)&"("&VLOOKUP(G21,データベース!$A$5:$Y$42,18)&")" -> () | D21: 2 | E21: =VLOOKUP(G21,データベース!$A$5:$Y$42,19)&"・"&VLOOKUP(G21,データベース!$A$5:$Y$42,20)&"("&VLOOKUP(G21,データベース!$A$5:$Y$42,25)&")" -> ・() | G21: 502
B22: 3 | C22: =VLOOKUP(G22,データベース!$A$5:$Y$42,15)&"("&VLOOKUP(G22,データベース!$A$5:$Y$42,18)&")" -> () | D22: 3 | E22: =VLOOKUP(G22,データベース!$A$5:$Y$42,19)&"・"&VLOOKUP(G22,データベース!$A$5:$Y$42,20)&"("&VLOOKUP(G22,データベース!$A$5:$Y$42,25)&")" -> ・() | G22: 503
C23: =VLOOKUP(G23,データベース!$A$5:$Y$42,15)&"("&VLOOKUP(G23,データベース!$A$5:$Y$42,18)&")" -> () | E23: =VLOOKUP(G23,データベース!$A$5:$Y$42,19)&"・"&VLOOKUP(G23,データベース!$A$5:$Y$42,20)&"("&VLOOKUP(G23,データベース!$A$5:$Y$42,25)&")" -> ・() | G23: 504
A24: 中 | B24: 1 | C24: =VLOOKUP(G24,データベース!$A$5:$Y$42,15)&"("&VLOOKUP(G24,データベース!$A$5:$Y$42,18)&")" -> () | D24: 1 | E24: =VLOOKUP(G24,データベース!$A$5:$Y$42,19)&"・"&VLOOKUP(G24,データベース!$A$5:$Y$42,20)&"("&VLOOKUP(G24,データベース!$A$5:$Y$42,25)&")" -> ・() | G24: 601
B25: 2 | C25: =VLOOKUP(G25,データベース!$A$5:$Y$42,15)&"("&VLOOKUP(G25,データベース!$A$5:$Y$42,18)&")" -> () | D25: 2 | E25: =VLOOKUP(G25,データベース!$A$5:$Y$42,19)&"・"&VLOOKUP(G25,データベース!$A$5:$Y$42,20)&"("&VLOOKUP(G25,データベース!$A$5:$Y$42,25)&")" -> ・() | G25: 602
B26: 3 | C26: =VLOOKUP(G26,データベース!$A$5:$Y$42,15)&"("&VLOOKUP(G26,データベース!$A$5:$Y$42,18)&")" -> () | D26: 3 | E26: =VLOOKUP(G26,データベース!$A$5:$Y$42,19)&"・"&VLOOKUP(G26,データベース!$A$5:$Y$42,20)&"("&VLOOKUP(G26,データベース!$A$5:$Y$42,25)&")" -> ・() | G26: 603
C27: =VLOOKUP(G27,データベース!$A$5:$Y$42,15)&"("&VLOOKUP(G27,データベース!$A$5:$Y$42,18)&")" -> () | E27: =VLOOKUP(G27,データベース!$A$5:$Y$42,19)&"・"&VLOOKUP(G27,データベース!$A$5:$Y$42,20)&"("&VLOOKUP(G27,データベース!$A$5:$Y$42,25)&")" -> ・() | G27: 604
A28: 県央 | B28: 1 | C28: =VLOOKUP(G28,データベース!$A$5:$Y$42,15)&"("&VLOOKUP(G28,データベース!$A$5:$Y$42,18)&")" -> () | D28: 1 | E28: =VLOOKUP(G28,データベース!$A$5:$Y$42,19)&"・"&VLOOKUP(G28,データベース!$A$5:$Y$42,20)&"("&VLOOKUP(G28,データベース!$A$5:$Y$42,25)&")" -> ・() | G28: 701
B29: 2 | C29: =VLOOKUP(G29,データベース!$A$5:$Y$42,15)&"("&VLOOKUP(G29,データベース!$A$5:$Y$42,18)&")" -> () | D29: 2 | E29: =VLOOKUP(G29,データベース!$A$5:$Y$42,19)&"・"&VLOOKUP(G29,データベース!$A$5:$Y$42,20)&"("&VLOOKUP(G29,データベース!$A$5:$Y$42,25)&")" -> ・() | G29: 702
B30: 3 | C30: =VLOOKUP(G30,データベース!$A$5:$Y$42,15)&"("&VLOOKUP(G30,データベース!$A$5:$Y$42,18)&")" -> () | D30: 3 | E30: =VLOOKUP(G30,データベース!$A$5:$Y$42,19)&"・"&VLOOKUP(G30,データベース!$A$5:$Y$42,20)&"("&VLOOKUP(G30,データベース!$A$5:$Y$42,25)&")" -> ・() | G30: 703
C31: =VLOOKUP(G31,データベース!$A$5:$Y$42,15)&"("&VLOOKUP(G31,データベース!$A$5:$Y$42,18)&")" -> () | E31: =VLOOKUP(G31,データベース!$A$5:$Y$42,19)&"・"&VLOOKUP(G31,データベース!$A$5:$Y$42,20)&"("&VLOOKUP(G31,データベース!$A$5:$Y$42,25)&")" -> ・() | G31: 704
A32: 県西 | B32: 1 | C32: =VLOOKUP(G32,データベース!$A$5:$Y$42,15)&"("&VLOOKUP(G32,データベース!$A$5:$Y$42,18)&")" -> () | D32: 1 | E32: =VLOOKUP(G32,データベース!$A$5:$Y$42,19)&"・"&VLOOKUP(G32,データベース!$A$5:$Y$42,20)&"("&VLOOKUP(G32,データベース!$A$5:$Y$42,25)&")" -> ・() | G32: 801
B33: 2 | C33: =VLOOKUP(G33,データベース!$A$5:$Y$42,15)&"("&VLOOKUP(G33,データベース!$A$5:$Y$42,18)&")" -> () | D33: 2 | E33: =VLOOKUP(G33,データベース!$A$5:$Y$42,19)&"・"&VLOOKUP(G33,データベース!$A$5:$Y$42,20)&"("&VLOOKUP(G33,データベース!$A$5:$Y$42,25)&")" -> ・() | G33: 802
B34: 3 | C34: =VLOOKUP(G34,データベース!$A$5:$Y$42,15)&"("&VLOOKUP(G34,データベース!$A$5:$Y$42,18)&")" -> () | D34: 3 | E34: =VLOOKUP(G34,データベース!$A$5:$Y$42,19)&"・"&VLOOKUP(G34,データベース!$A$5:$Y$42,20)&"("&VLOOKUP(G34,データベース!$A$5:$Y$42,25)&")" -> ・() | G34: 803
C35: =VLOOKUP(G35,データベース!$A$5:$Y$42,15)&"("&VLOOKUP(G35,データベース!$A$5:$Y$42,18)&")" -> () | E35: =VLOOKUP(G35,データベース!$A$5:$Y$42,19)&"・"&VLOOKUP(G35,データベース!$A$5:$Y$42,20)&"("&VLOOKUP(G35,データベース!$A$5:$Y$42,25)&")" -> ・() | G35: 804
A36: 小学生 連盟 | B36: 1 | C36: =VLOOKUP(G36,データベース!$A$5:$Y$42,15)&"("&VLOOKUP(G36,データベース!$A$5:$Y$42,18)&")" -> () | G36: 901
B37: 2 | C37: =VLOOKUP(G37,データベース!$A$5:$Y$42,15)&"("&VLOOKUP(G37,データベース!$A$5:$Y$42,18)&")" -> () | G37: 902
B38: 3 | C38: =VLOOKUP(G38,データベース!$A$5:$Y$42,15)&"("&VLOOKUP(G38,データベース!$A$5:$Y$42,18)&")" -> () | G38: 903
C39: =VLOOKUP(G39,データベース!$A$5:$Y$42,15)&"("&VLOOKUP(G39,データベース!$A$5:$Y$42,18)&")" -> () | G39: 904
A40: クラブ チーム | C40: =VLOOKUP(G40,データベース!$A$5:$Y$42,15)&"("&VLOOKUP(G40,データベース!$A$5:$Y$42,18)&")" -> () | G40: 1001
C41: =VLOOKUP(G41,データベース!$A$5:$Y$42,15)&"("&VLOOKUP(G41,データベース!$A$5:$Y$42,18)&")" -> () | G41: 1002
...

Sheet 組合せカード
C1: 男子シングルス | G1: 男子ダブルス | L1: 女子シングルス | P1: 女子ダブルス
C2: 氏名１ | D2: 学校名 | G2: 氏名１ | H2: 氏名２ | I2: 学校名 | L2: 氏名１ | M2: 学校名 | P2: 氏名１ | Q2: 氏名２ | R2: 学校名
A3: 横浜 | B3: 1 | C3: =データベース!D5 -> 0 | D3: =データベース!G5 -> 0 | E3: 横浜 | F3: 1 | G3: =データベース!H5 -> 0 | H3: =データベース!I5 -> 0 | I3: =データベース!N5 -> 0 | J3: 横浜 | K3: 1 | L3: =データベース!O5 -> 0 | M3: =データベース!R5 -> 0 | N3: 横浜 | O3: 1 | P3: =データベース!S5 -> 0 | Q3: =データベース!T5 -> 0 | R3: =データベース!Y5 -> 0
A4: 横浜 | B4: 2 | C4: =データベース!D6 -> 0 | D4: =データベース!G6 -> 0 | E4: 横浜 | F4: 2 | G4: =データベース!H6 -> 0 | H4: =データベース!I6 -> 0 | I4: =データベース!N6 -> 0 | J4: 横浜 | K4: 2 | L4: =データベース!O6 -> 0 | M4: =データベース!R6 -> 0 | N4: 横浜 | O4: 2 | P4: =データベース!S6 -> 0 | Q4: =データベース!T6 -> 0 | R4: =データベース!Y6 -> 0
A5: 横浜 | B5: 3 | C5: =データベース!D7 -> 0 | D5: =データベース!G7 -> 0 | E5: 横浜 | F5: 3 | G5: =データベース!H7 -> 0 | H5: =データベース!I7 -> 0 | I5: =データベース!N7 -> 0 | J5: 横浜 | K5: 3 | L5: =データベース!O7 -> 0 | M5: =データベース!R7 -> 0 | N5: 横浜 | O5: 3 | P5: =データベース!S7 -> 0 | Q5: =データベース!T7 -> 0 | R5: =データベース!Y7 -> 0
A6: 横浜 | B6: 4 | C6: =データベース!D8 -> 0 | D6: =データベース!G8 -> 0 | E6: 横浜 | F6: 4 | G6: =データベース!H8 -> 0 | H6: =データベース!I8 -> 0 | I6: =データベース!N8 -> 0 | J6: 横浜 | K6: 4 | L6: =データベース!O8 -> 0 | M6: =データベース!R8 -> 0 | N6: 横浜 | O6: 4 | P6: =データベース!S8 -> 0 | Q6: =データベース!T8 -> 0 | R6: =データベース!Y8 -> 0
A7: 川崎 | B7: 1 | C7: =データベース!D9 -> 0 | D7: =データベース!G9 -> 0 | E7: 川崎 | F7: 1 | G7: =データベース!H9 -> 0 | H7: =データベース!I9 -> 0 | I7: =データベース!N9 -> 0 | J7: 川崎 | K7: 1 | L7: =データベース!O9 -> 0 | M7: =データベース!R9 -> 0 | N7: 川崎 | O7: 1 | P7: =データベース!S9 -> 0 | Q7: =データベース!T9 -> 0 | R7: =データベース!Y9 -> 0
A8: 川崎 | B8: 2 | C8: =データベース!D10 -> 0 | D8: =データベース!G10 -> 0 | E8: 川崎 | F8: 2 | G8: =データベース!H10 -> 0 | H8: =データベース!I10 -> 0 | I8: =データベース!N10 -> 0 | J8: 川崎 | K8: 2 | L8: =データベース!O10 -> 0 | M8: =データベース!R10 -> 0 | N8: 川崎 | O8: 2 | P8: =データベース!S10 -> 0 | Q8: =データベース!T10 -> 0 | R8: =データベース!Y10 -> 0
A9: 川崎 | B9: 3 | C9: =データベース!D11 -> 0 | D9: =データベース!G11 -> 0 | E9: 川崎 | F9: 3 | G9: =データベース!H11 -> 0 | H9: =データベース!I11 -> 0 | I9: =データベース!N11 -> 0 | J9: 川崎 | K9: 3 | L9: =データベース!O11 -> 0 | M9: =データベース!R11 -> 0 | N9: 川崎 | O9: 3 | P9: =データベース!S11 -> 0 | Q9: =データベース!T11 -> 0 | R9: =データベース!Y11 -> 0
A10: 川崎 | B10: 4 | C10: =データベース!D12 -> 0 | D10: =データベース!G12 -> 0 | E10: 川崎 | F10: 4 | G10: =データベース!H12 -> 0 | H10: =データベース!I12 -> 0 | I10: =データベース!N12 -> 0 | J10: 川崎 | K10: 4 | L10: =データベース!O12 -> 0 | M10: =データベース!R12 -> 0 | N10: 川崎 | O10: 4 | P10: =データベース!S12 -> 0 | Q10: =データベース!T12 -> 0 | R10: =データベース!Y12 -> 0
A11: 相模原 | B11: 1 | C11: =データベース!D13 -> 0 | D11: =データベース!G13 -> 0 | E11: 相模原 | F11: 1 | G11: =データベース!H13 -> 0 | H11: =データベース!I13 -> 0 | I11: =データベース!N13 -> 0 | J11: 相模原 | K11: 1 | L11: =データベース!O13 -> 0 | M11: =データベース!R13 -> 0 | N11: 相模原 | O11: 1 | P11: =データベース!S13 -> 0 | Q11: =データベース!T13 -> 0 | R11: =データベース!Y13 -> 0
A12: 相模原 | B12: 2 | C12: =データベース!D14 -> 0 | D12: =データベース!G14 -> 0 | E12: 相模原 | F12: 2 | G12: =データベース!H14 -> 0 | H12: =データベース!I14 -> 0 | I12: =データベース!N14 -> 0 | J12: 相模原 | K12: 2 | L12: =データベース!O14 -> 0 | M12: =データベース!R14 -> 0 | N12: 相模原 | O12: 2 | P12: =データベース!S14 -> 0 | Q12: =データベース!T14 -> 0 | R12: =データベース!Y14 -> 0
A13: 相模原 | B13: 3 | C13: =データベース!D15 -> 0 | D13: =データベース!G15 -> 0 | E13: 相模原 | F13: 3 | G13: =データベース!H15 -> 0 | H13: =データベース!I15 -> 0 | I13: =データベース!N15 -> 0 | J13: 相模原 | K13: 3 | L13: =データベース!O15 -> 0 | M13: =データベース!R15 -> 0 | N13: 相模原 | O13: 3 | P13: =データベース!S15 -> 0 | Q13: =データベース!T15 -> 0 | R13: =データベース!Y15 -> 0
A14: 相模原 | B14: 4 | C14: =データベース!D16 -> 0 | D14: =データベース!G16 -> 0 | E14: 相模原 | F14: 4 | G14: =データベース!H16 -> 0 | H14: =データベース!I16 -> 0 | I14: =データベース!N16 -> 0 | J14: 相模原 | K14: 4 | L14: =データベース!O16 -> 0 | M14: =データベース!R16 -> 0 | N14: 相模原 | O14: 4 | P14: =データベース!S16 -> 0 | Q14: =データベース!T16 -> 0 | R14: =データベース!Y16 -> 0
... A22: 湘南 | B22: 4 | C22: =データベース!D24 -> 0 | D22: =データベース!G24 -> 0 | E22: 湘南 | F22: 4 | G22: =データベース!H24 -> 0 | H22: =データベース!I24 -> 0 | I22: =データベース!N24 -> 0 | J22: 湘南 | K22: 4 | L22: =データベース!O24 -> 0 | M22: =データベース!R24 -> 0 | N22: 湘南 | O22: 4 | P22: =データベース!S24 -> 0 | Q22: =データベース!T24 -> 0 | R22: =データベース!Y24 -> 0
A23: 中 | B23: 1 | C23: =データベース!D25 -> 0 | D23: =データベース!N25 -> 0 | E23: 中 | F23: 1 | G23: =データベース!H25 -> 0 | H23: =データベース!I25 -> 0 | I23: =データベース!N25 -> 0 | J23: 中 | K23: 1 | L23: =データベース!O25 -> 0 | M23: =データベース!R25 -> 0 | N23: 中 | O23: 1 | P23: =データベース!S25 -> 0 | Q23: =データベース!T25 -> 0 | R23: =データベース!Y25 -> 0
A24: 中 | B24: 2 | C24: =データベース!D26 -> 0 | D24: =データベース!G26 -> 0 | E24: 中 | F24: 2 | G24: =データベース!H26 -> 0 | H24: =データベース!I26 -> 0 | I24: =データベース!N26 -> 0 | J24: 中 | K24: 2 | L24: =データベース!O26 -> 0 | M24: =データベース!R26 -> 0 | N24: 中 | O24: 2 | P24: =データベース!S26 -> 0 | Q24: =データベース!T26 -> 0 | R24: =データベース!Y26 -> 0
A25: 中 | B25: 3 | C25: =データベース!D27 -> 0 | D25: =データベース!G27 -> 0 | E25: 中 | F25: 3 | G25: =データベース!H27 -> 0 | H25: =データベース!I27 -> 0 | I25: =データベース!N27 -> 0 | J25: 中 | K25: 3 | L25: =データベース!O27 -> 0 | M25: =データベース!R27 -> 0 | N25: 中 | O25: 3 | P25: =データベース!S27 -> 0 | Q25: =データベース!T27 -> 0 | R25: =データベース!Y27 -> 0
A26: 中 | B26: 4 | C26: =データベース!D28 -> 0 | D26: =データベース!G28 -> 0 | E26: 中 | F26: 4 | G26: =データベース!H28 -> 0 | H26: =データベース!I28 -> 0 | I26: =データベース!N28 -> 0 | J26: 中 | K26: 4 | L26: =データベース!O28 -> 0 | M26: =データベース!R28 -> 0 | N26: 中 | O26: 4 | P26: =データベース!S28 -> 0 | Q26: =データベース!T28 -> 0 | R26: =データベース!Y28 -> 0
A27: 県央 | B27: 1 | C27: =データベース!D29 -> 0 | D27: =データベース!G29 -> 0 | E27: 県央 | F27: 1 | G27: =データベース!H29 -> 0 | H27: =データベース!I29 -> 0 | I27: =データベース!N29 -> 0 | J27: 県央 | K27: 1 | L27: =データベース!O29 -> 0 | M27: =データベース!R29 -> 0 | N27: 県央 | O27: 1 | P27: =データベース!S29 -> 0 | Q27: =データベース!T29 -> 0 | R27: =データベース!Y29 -> 0
A28: 県央 | B28: 2 | C28: =データベース!D30 -> 0 | D28: =データベース!G30 -> 0 | E28: 県央 | F28: 2 | G28: =データベース!H30 -> 0 | H28: =データベース!I30 -> 0 | I28: =データベース!N30 -> 0 | J28: 県央 | K28: 2 | L28: =データベース!O30 -> 0 | M28: =データベース!R30 -> 0 | N28: 県央 | O28: 2 | P28: =データベース!S30 -> 0 | Q28: =データベース!T30 -> 0 | R28: =データベース!Y30 -> 0
A29: 県央 | B29: 3 | C29: =データベース!D31 -> 0 | D29: =データベース!G31 -> 0 | E29: 県央 | F29: 3 | G29: =データベース!H31 -> 0 | H29: =データベース!I31 -> 0 | I29: =データベース!N31 -> 0 | J29: 県央 | K29: 3 | L29: =データベース!O31 -> 0 | M29: =データベース!R31 -> 0 | N29: 県央 | O29: 3 | P29: =データベース!S31 -> 0 | Q29: =データベース!T31 -> 0 | R29: =データベース!Y31 -> 0
A30: 県央 | B30: 4 | C30: =データベース!D32 -> 0 | D30: =データベース!G32 -> 0 | E30: 県央 | F30: 4 | G30: =データベース!H32 -> 0 | H30: =データベース!I32 -> 0 | I30: =データベース!N32 -> 0 | J30: 県央 | K30: 4 | L30: =データベース!O32 -> 0 | M30: =データベース!R32 -> 0 | N30: 県央 | O30: 4 | P30: =データベース!S32 -> 0 | Q30: =データベース!T32 -> 0 | R30: =データベース!Y32 -> 0
A31: 県西 | B31: 1 | C31: =データベース!D33 -> 0 | D31: =データベース!G33 -> 0 | E31: 県西 | F31: 1 | G31: =データベース!H33 -> 0 | H31: =データベース!I33 -> 0 | I31: =データベース!N33 -> 0 | J31: 県西 | K31: 1 | L31: =データベース!O33 -> 0 | M31: =データベース!R33 -> 0 | N31: 県西 | O31: 1 | P31: =データベース!S33 -> 0 | Q31: =データベース!T33 -> 0 | R31: =データベース!Y33 -> 0
A32: 県西 | B32: 2 | C32: =データベース!D34 -> 0 | D32: =データベース!G34 -> 0 | E32: 県西 | F32: 2 | G32: =データベース!H34 -> 0 | H32: =データベース!I34 -> 0 | I32: =データベース!N34 -> 0 | J32: 県西 | K32: 2 | L32: =データベース!O34 -> 0 | M32: =データベース!R34 -> 0 | N32: 県西 | O32: 2 | P32: =データベース!S34 -> 0 | Q32: =データベース!T34 -> 0 | R32: =データベース!Y34 -> 0
A33: 県西 | B33: 3 | C33: =データベース!D35 -> 0 | D33: =データベース!G35 -> 0 | E33: 県西 | F33: 3 | G33: =データベース!H35 -> 0 | H33: =データベース!I35 -> 0 | I33: =データベース!N35 -> 0 | J33: 県西 | K33: 3 | L33: =データベース!O35 -> 0 | M33: =データベース!R35 -> 0 | N33: 県西 | O33: 3 | P33: =データベース!S35 -> 0 | Q33: =データベース!T35 -> 0 | R33: =データベース!Y35 -> 0
A34: 県西 | B34: 4 | C34: =データベース!D36 -> 0 | D34: =データベース!G36 -> 0 | E34: 県西 | F34: 4 | G34: =データベース!H36 -> 0 | H34: =データベース!I36 -> 0 | I34: =データベース!N36 -> 0 | J34: 県西 | K34: 4 | L34: =データベース!O36 -> 0 | M34: =データベース!R36 -> 0 | N34: 県西 | O34: 4 | P34: =データベース!S36 -> 0 | Q34: =データベース!T36 -> 0 | R34: =データベース!Y36 -> 0
A35: 小体連 | B35: 1 | C35: =データベース!D37 -> 0 | D35: =データベース!G37 -> 0 | E35: 小体連 | F35: 1 | J35: 小体連 | K35: 1 | L35: =データベース!O37 -> 0 | M35: =データベース!R37 -> 0 | N35: 小体連 | O35: 1
A36: 小体連 | B36: 2 | C36: =データベース!D38 -> 0 | D36: =データベース!G38 -> 0 | E36: 小体連 | F36: 2 | J36: 小体連 | K36: 2 | L36: =データベース!O38 -> 0 | M36: =データベース!R38 -> 0 | N36: 小体連 | O36: 2
A37: 小体連 | B37: 3 | C37: =データベース!D39 -> 0 | D37: =データベース!G39 -> 0 | E37: 小体連 | F37: 3 | J37: 小体連 | K37: 3 | L37: =データベース!O39 -> 0 | M37: =データベース!R39 -> 0 | N37: 小体連 | O37: 3
A38: 小体連 | B38: 4 | C38: =データベース!D40 -> 0 | D38: =データベース!G40 -> 0 | E38: 小体連 | F38: 4 | J38: 小体連 | K38: 4 | L38: =データベース!O40 -> 0 | M38: =データベース!R40 -> 0 | N38: 小体連 | O38: 4
A39: クラブ | C39: =データベース!D41 -> 0 | D39: =データベース!G41 -> 0 | E39: クラブ | G39: =データベース!H41 -> 0 | H39: =データベース!I41 -> 0 | I39: =データベース!N41 -> 0 | J39: クラブ | L39: =データベース!O41 -> 0 | M39: =データベース!R41 -> 0 | N39: クラブ | P39: =データベース!S41 -> 0 | Q39: =データベース!T41 -> 0 | R39: =データベース!Y41 -> 0
A40: クラブ | C40: =データベース!D42 -> 0 | D40: =データベース!G42 -> 0 | E40: クラブ | G40: =データベース!H42 -> 0 | H40: =データベース!I42 -> 0 | I40: =データベース!N42 -> 0 | J40: クラブ | L40: =データベース!O42 -> 0 | M40: =データベース!R42 -> 0 | N40: クラブ | P40: =データベース!S42 -> 0 | Q40: =データベース!T42 -> 0 | R40: =データベース!Y42 -> 0
A41: クラブ | C41: =データベース!#REF! -> #REF! | D41: =データベース!#REF! -> #REF! | E41: クラブ | G41: =データベース!#REF! -> #REF! | H41: =データベース!#REF! -> #REF! | I41: =データベース!#REF! -> #REF! | J41: クラブ | L41: =データベース!#REF! -> #REF! | M41: =データベース!#REF! -> #REF! | N41: クラブ | P41: =データベース!#REF! -> #REF! | Q41: =データベース!#REF! -> #REF! | R41: =データベース!#REF! -> #REF!

Sheet 出場校一覧
A1: 平成２９年度 全日本ジュニア県予選 出場校一覧
A3: 男子 | H3: 女子
A4: No | B4: ブロック | C4: 学校名 | D4: S | E4: D | F4: 参加費 | H4: No | I4: ブロック | J4: 学校名 | K4: S | L4: D | M4: 参加費
A5: 1 | B5: 川崎 | C5: 川崎市立中野島中 | D5: 1 | E5: 0 | F5: =D5*1200+E5*2400 -> 1200 | H5: 1 | I5: 川崎 | J5: 川崎市立宮前平中 | K5: 1 | L5: 0 | M5: =K5*1200+L5*2400 -> 1200
A6: =A5+1 -> 2 | B6: 川崎 | C6: 川崎市立西中原中 | D6: 1 | E6: 0 | F6: =D6*1200+E6*2400 -> 1200 | H6: =H5+1 -> 2 | I6: 川崎 | J6: 川崎市立東高津中 | K6: 1 | L6: 0 | M6: =K6*1200+L6*2400 -> 1200
A7: =A6+1 -> 3 | B7: 川崎 | C7: 川崎市立東高津中 | D7: 1 | E7: 0 | F7: =D7*1200+E7*2400 -> 1200 | H7: =H6+1 -> 3 | I7: 川崎 | J7: 川崎市立有馬中 | K7: 1 | L7: 0 | M7: =K7*1200+L7*2400 -> 1200
A8: =A7+1 -> 4 | B8: 川崎 | C8: 川崎市立麻生中 | D8: 1 | E8: 0 | F8: =D8*1200+E8*2400 -> 1200 | H8: =H7+1 -> 4 | I8: 川崎 | J8: 川崎市立川中島中 | K8: 1 | L8: 2 | M8: =K8*1200+L8*2400 -> 6000
A9: =A8+1 -> 5 | B9: 川崎 | C9: 川崎市立西高津中 | D9: 0 | E9: 1 | F9: =D9*1200+E9*2400 -> 2400 | H9: =H8+1 -> 5 | I9: 川崎 | J9: 川崎市立柿生中 | K9: 0 | L9: 1 | M9: =K9*1200+L9*2400 -> 2400
A10: =A9+1 -> 6 | B10: 川崎 | C10: 川崎市立渡田中 | D10: 0 | E10: 2 | F10: =D10*1200+E10*2400 -> 4800 | H10: =H9+1 -> 6 | I10: 川崎 | J10: 川崎市立はるひ野中 | K10: 0 | L10: 1 | M10: =K10*1200+L10*2400 -> 2400
A11: =A10+1 -> 7 | B11: 川崎 | C11: 川崎市立稲田中 | D11: 0 | E11: 1 | F11: =D11*1200+E11*2400 -> 2400 | H11: =H10+1 -> 7 | I11: クラブ | J11: 大和市ジュニア | K11: 1 | L11: 0 | M11: =K11*1200+L11*2400 -> 1200
A12: =A11+1 -> 8 | B12: クラブ | C12: THE FIRST | D12: 1 | E12: 0 | F12: =D12*1200+E12*2400 -> 1200 | H12: =H11+1 -> 8 | I12: クラブ | J12: THE FIRST | K12: 1 | L12: 0 | M12: =K12*1200+L12*2400 -> 1200
A13: =A12+1 -> 9 | B13: クラブ | C13: 法政クラブ | D13: 1 | E13: 0 | F13: =D13*1200+E13*2400 -> 1200 | H13: =H12+1 -> 9 | I13: クラブ | J13: Selfish | K13: 0 | L13: 1 | M13: =K13*1200+L13*2400 -> 2400
A14: =A13+1 -> 10 | B14: 県央 | C14: 大和市立渋谷中 | D14: 1 | E14: 0 | F14: =D14*1200+E14*2400 -> 1200 | H14: =H13+1 -> 10 | I14: 県央 | J14: 愛川町立愛川東中 | K14: 1 | L14: 0 | M14: =K14*1200+L14*2400 -> 1200
A15: =A14+1 -> 11 | B15: 県央 | C15: 綾瀬市立城山中 | D15: 1 | E15: 1 | F15: =D15*1200+E15*2400 -> 3600 | H15: =H14+1 -> 11 | I15: 県央 | J15: 大和市立光丘中 | K15: 1 | L15: 0 | M15: =K15*1200+L15*2400 -> 1200
A16: =A15+1 -> 12 | B16: 県央 | C16: 海老名市立今泉中 | D16: 1 | E16: 0 | F16: =D16*1200+E16*2400 -> 1200 | H16: =H15+1 -> 12 | I16: 県央 | J16: 海老名市立大谷中 | K16: 1 | L16: 0 | M16: =K16*1200+L16*2400 -> 1200
A17: =A16+1 -> 13 | B17: 県央 | C17: 海老名市立柏ヶ谷中 | D17: 1 | E17: 1 | F17: =D17*1200+E17*2400 -> 3600 | H17: =H16+1 -> 13 | I17: 県央 | J17: 海老名市立今泉中 | K17: 1 | L17: 1 | M17: =K17*1200+L17*2400 -> 3600
... A52: =A51+1 -> 48 | B52: 横浜 | C52: 横浜市立あかね台中 | D52: 0 | E52: 1 | F52: =D52*1200+E52*2400 -> 2400 | H52: =H51+1 -> 48 | I52: 横浜 | J52: 横浜市立山内中 | K52: 0 | L52: 1 | M52: =K52*1200+L52*2400 -> 2400
D53: =SUM(D5:D52) -> 38 | E53: =SUM(E5:E52) -> 32 | F53: =SUM(F5:F52) -> 122400 | H53: =H52+1 -> 49 | I53: 横浜 | J53: 横浜市立中山中 | K53: 0 | L53: 1 | M53: =K53*1200+L53*2400 -> 2400
H54: =H53+1 -> 50 | I54: 横浜 | J54: 横浜市立鴨居中 | K54: 0 | L54: 1 | M54: =K54*1200+L54*2400 -> 2400
K55: =SUM(K5:K54) -> 38 | L55: =SUM(L5:L54) -> 33 | M55: =SUM(M5:M54) -> 124800

Sheet 領収書
B1: =O3 -> 9 | I1: =B1+1 -> 10
B3: 領 収 書 | I3: 領 収 書 | O3: 9
C4: 42961 | J4: 42961
B6: =VLOOKUP(B1,出場校一覧!$A$5:$F$52,3,FALSE)&"学校 様" -> 法政クラブ学校 様 | I6: =VLOOKUP(I1,出場校一覧!$A$5:$F$52,3,FALSE)&"学校 様" -> 大和市立渋谷中学校 様 | O6: =O3+8 -> 17
C8: =VLOOKUP(B1,出場校一覧!$A$5:$F$52,6,FALSE) -> 1200 | D8: － | J8: =VLOOKUP(I1,出場校一覧!$A$5:$F$52,6,FALSE) -> 1200 | K8: －
C10: 但、全日本ジュニアバドミントン大会 神奈川県予選大会参加費として、 上記、正に領収いたしました。 | J10: 但、全日本ジュニアバドミントン大会 神奈川県予選大会参加費として、 上記、正に領収いたしました。
C12: 神奈川県バドミントン協会 | J12: 神奈川県バドミントン協会
C13: 理 事 飯 田 弘 二 | J13: 理 事 飯 田 弘 二
B15: =B1+2 -> 11 | I15: =I1+2 -> 12
B17: 領 収 書 | I17: 領 収 書
C18: 42961 | J18: 42961
B20: =VLOOKUP(B15,出場校一覧!$A$5:$F$52,3,FALSE)&"学校 様" -> 綾瀬市立城山中学校 様 | I20: =VLOOKUP(I15,出場校一覧!$A$5:$F$52,3,FALSE)&"学校 様" -> 海老名市立今泉中学校 様
C22: =VLOOKUP(B15,出場校一覧!$A$5:$F$52,6,FALSE) -> 3600 | D22: － | J22: =VLOOKUP(I15,出場校一覧!$A$5:$F$52,6,FALSE) -> 1200 | K22: －
C24: 但、全日本ジュニアバドミントン大会 神奈川県予選大会参加費として、 上記、正に領収いたしました。 | J24: 但、全日本ジュニアバドミントン大会 神奈川県予選大会参加費として、 上記、正に領収いたしました。
C26: 神奈川県バドミントン協会 | J26: 神奈川県バドミントン協会
C27: 理 事 飯 田 弘 二 | J27: 理 事 飯 田 弘 二
B29: =B15+2 -> 13 | I29: =I15+2 -> 14
B31: 領 収 書 | I31: 領 収 書
C32: 42961 | J32: 42961
B34: =VLOOKUP(B29,出場校一覧!$A$5:$F$52,3,FALSE)&"学校 様" -> 海老名市立柏ヶ谷中学校 様 | I34: =VLOOKUP(I29,出場校一覧!$A$5:$F$52,3,FALSE)&"学校 様" -> 海老名市立有馬中学校 様
C36: =VLOOKUP(B29,出場校一覧!$A$5:$F$52,6,FALSE) -> 3600 | D36: － | J36: =VLOOKUP(I29,出場校一覧!$A$5:$F$52,6,FALSE) -> 4800 | K36: －
C38: 但、全日本ジュニアバドミントン大会 神奈川県予選大会参加費として、 上記、正に領収いたしました。 | J38: 但、全日本ジュニアバドミントン大会 神奈川県予選大会参加費として、 上記、正に領収いたしました。
C40: 神奈川県バドミントン協会 | J40: 神奈川県バドミントン協会
C41: 理 事 飯 田 弘 二 | J41: 理 事 飯 田 弘 二
B43: =B29+2 -> 15 | I43: =I29+2 -> 16
B45: 領 収 書 | I45: 領 収 書
C46: 42961 | J46: 42961
B48: =VLOOKUP(B43,出場校一覧!$A$5:$F$52,3,FALSE)&"学校 様" -> 小田原市立城北中学校 様 | I48: =VLOOKUP(I43,出場校一覧!$A$5:$F$52,3,FALSE)&"学校 様" -> 小田原市立泉中学校 様
C50: =VLOOKUP(B43,出場校一覧!$A$5:$F$52,6,FALSE) -> 2400 | D50: － | J50: =VLOOKUP(I43,出場校一覧!$A$5:$F$52,6,FALSE) -> 4800 | K50: －
C52: 但、全日本ジュニアバドミントン大会 神奈川県予選大会参加費として、 上記、正に領収いたしました。 | J52: 但、全日本ジュニアバドミントン大会 神奈川県予選大会参加費として、 上記、正に領収いたしました。
C54: 神奈川県バドミントン協会 | J54: 神奈川県バドミントン協会
C55: 理 事 飯 田 弘 二 | J55: 理 事 飯 田 弘 二

Sheet 表彰データ
A1: 1 | B1: 種目 | C1: 賞 | D1: 氏名１ | E1: 氏名２ | F1: 学校名
A2: 2 | B2: 男子シングルス | C2: 優勝 | D2: 鈴鹿航一朗 | F2: 横浜市立戸塚中学校
A3: 3 | B3: 男子シングルス | C3: 準優勝 | D3: 川端 唯人 | F3: 相模原市立大沢中学校
A4: 4 | B4: 男子シングルス | C4: 第三位 | D4: 棚田 光翔 | F4: 横須賀市立神明中学校
A5: 5 | B5: 男子シングルス | C5: 第三位 | D5: 田代 陸人 | F5: 法政クラブ
A6: 6 | B6: 女子シングルス | C6: 優勝 | D6: 金成 志優 | F6: 相模原市立大野南中学校
A7: 7 | B7: 女子シングルス | C7: 準優勝 | D7: 福田 紗奈 | F7: 横浜市立中川西中学校
A8: 8 | B8: 女子シングルス | C8: 第三位 | D8: 西尾 実莉 | F8: 相模原市立若草中学校
A9: 9 | B9: 女子シングルス | C9: 第三位 | D9: 田村 光里 | F9: 平塚市立浜岳中学校
A10: 10 | B10: 男子ダブルス | C10: 優勝 | D10: 新貝 康介 | E10: 谷島 新 | F10: 藤沢市立大庭中学校
A11: 11 | B11: 男子ダブルス | C11: 優勝 | D11: 谷島 新 | E11: 新貝 康介 | F11: 藤沢市立大庭中学校
A12: 12 | B12: 男子ダブルス | C12: 準優勝 | D12: 桝本 悠生 | E12: 簗取 稜真 | F12: 横浜市立泉が丘中学校
A13: 13 | B13: 男子ダブルス | C13: 準優勝 | D13: 簗取 稜真 | E13: 桝本 悠生 | F13: 横浜市立泉が丘中学校
A14: 14 | B14: 男子ダブルス | C14: 第三位 | D14: 小谷 慶眞 | E14: 茜ヶ久保寛太 | F14: 横浜市立金沢中学校
A15: 15 | B15: 男子ダブルス | C15: 第三位 | D15: 茜ヶ久保寛太 | E15: 小谷 慶眞 | F15: 横浜市立金沢中学校
A16: 16 | B16: 男子ダブルス | C16: 第三位 | D16: 黒澤 由宏 | E16: 桑垣 直也 | F16: 横浜市立あかね台中学校
A17: 17 | B17: 男子ダブルス | C17: 第三位 | D17: 桑垣 直也 | E17: 黒澤 由宏 | F17: 横浜市立あかね台中学校
A18: 18 | B18: 女子ダブルス | C18: 準優勝 | D18: 鈴木あおい | E18: 品川 凛緒 | F18: 小田原市立橘中学校
A19: 19 | B19: 女子ダブルス | C19: 準優勝 | D19: 品川 凛緒 | E19: 鈴木あおい | F19: 小田原市立橘中学校
A20: 20 | B20: 女子ダブルス | C20: 優勝 | D20: 國領 咲希 | E20: 田中 珠鈴 | F20: 川崎市立川中島中学校
A21: 21 | B21: 女子ダブルス | C21: 優勝 | D21: 田中 珠鈴 | E21: 國領 咲希 | F21: 川崎市立川中島中学校
... A25: 25 | B25: 女子ダブルス | C25: 第三位 | D25: 益田かおる | E25: 進藤 英 | F25: 横浜市立もえぎ野中学校

Sheet 書記用
A1: MS | F1: MD | M1: WS | R1: WD
A2: =データベース!D5 -> 0 | B2: =データベース!G5 -> 0 | C2: -1 | D2: =データベース!E5 -> 0 | F2: =データベース!H5 -> 0 | G2: =データベース!I5 -> 0 | H2: =データベース!N5 -> 0 | I2: -1 | J2: =データベース!J5 -> 0 | K2: =データベース!K5 -> 0 | M2: =データベース!O5 -> 0 | N2: =データベース!R5 -> 0 | O2: -1 | P2: =データベース!P5 -> 0 | R2: =データベース!S5 -> 0 | S2: =データベース!T5 -> 0 | T2: =データベース!Y5 -> 0 | U2: -1 | V2: =データベース!U5 -> 0 | W2: =データベース!V5 -> 0
A3: =データベース!D6 -> 0 | B3: =データベース!G6 -> 0 | C3: -1 | D3: =データベース!E6 -> 0 | F3: =データベース!H6 -> 0 | G3: =データベース!I6 -> 0 | H3: =データベース!N6 -> 0 | I3: -1 | J3: =データベース!J6 -> 0 | K3: =データベース!K6 -> 0 | M3: =データベース!O6 -> 0 | N3: =データベース!R6 -> 0 | O3: -1 | P3: =データベース!P6 -> 0 | R3: =データベース!S6 -> 0 | S3: =データベース!T6 -> 0 | T3: =データベース!Y6 -> 0 | U3: -1 | V3: =データベース!U6 -> 0 | W3: =データベース!V6 -> 0
A4: =データベース!D7 -> 0 | B4: =データベース!G7 -> 0 | C4: -1 | D4: =データベース!E7 -> 0 | F4: =データベース!H7 -> 0 | G4: =データベース!I7 -> 0 | H4: =データベース!N7 -> 0 | I4: -1 | J4: =データベース!J7 -> 0 | K4: =データベース!K7 -> 0 | M4: =データベース!O7 -> 0 | N4: =データベース!R7 -> 0 | O4: -1 | P4: =データベース!P7 -> 0 | R4: =データベース!S7 -> 0 | S4: =データベース!T7 -> 0 | T4: =データベース!Y7 -> 0 | U4: -1 | V4: =データベース!U7 -> 0 | W4: =データベース!V7 -> 0
A5: =データベース!D8 -> 0 | B5: =データベース!G8 -> 0 | C5: -1 | D5: =データベース!E8 -> 0 | F5: =データベース!H8 -> 0 | G5: =データベース!I8 -> 0 | H5: =データベース!N8 -> 0 | I5: -1 | J5: =データベース!J8 -> 0 | K5: =データベース!K8 -> 0 | M5: =データベース!O8 -> 0 | N5: =データベース!R8 -> 0 | O5: -1 | P5: =データベース!P8 -> 0 | R5: =データベース!S8 -> 0 | S5: =データベース!T8 -> 0 | T5: =データベース!Y8 -> 0 | U5: -1 | V5: =データベース!U8 -> 0 | W5: =データベース!V8 -> 0
A6: =データベース!D9 -> 0 | B6: =データベース!G9 -> 0 | C6: -1 | D6: =データベース!E9 -> 0 | F6: =データベース!H9 -> 0 | G6: =データベース!I9 -> 0 | H6: =データベース!N9 -> 0 | I6: -1 | J6: =データベース!J9 -> 0 | K6: =データベース!K9 -> 0 | M6: =データベース!O9 -> 0 | N6: =データベース!R9 -> 0 | O6: -1 | P6: =データベース!P9 -> 0 | R6: =データベース!S9 -> 0 | S6: =データベース!T9 -> 0 | T6: =データベース!Y9 -> 0 | U6: -1 | V6: =データベース!U9 -> 0 | W6: =データベース!V9 -> 0
A7: =データベース!D10 -> 0 | B7: =データベース!G10 -> 0 | C7: -1 | D7: =データベース!E10 -> 0 | F7: =データベース!H10 -> 0 | G7: =データベース!I10 -> 0 | H7: =データベース!N10 -> 0 | I7: -1 | J7: =データベース!J10 -> 0 | K7: =データベース!K10 -> 0 | M7: =データベース!O10 -> 0 | N7: =データベース!R10 -> 0 | O7: -1 | P7: =データベース!P10 -> 0 | R7: =データベース!S10 -> 0 | S7: =データベース!T10 -> 0 | T7: =データベース!Y10 -> 0 | U7: -1 | V7: =データベース!U10 -> 0 | W7: =データベース!V10 -> 0
A8: =データベース!D11 -> 0 | B8: =データベース!G11 -> 0 | C8: -1 | D8: =データベース!E11 -> 0 | F8: =データベース!H11 -> 0 | G8: =データベース!I11 -> 0 | H8: =データベース!N11 -> 0 | I8: -1 | J8: =データベース!J11 -> 0 | K8: =データベース!K11 -> 0 | M8: =データベース!O11 -> 0 | N8: =データベース!R11 -> 0 | O8: -1 | P8: =データベース!P11 -> 0 | R8: =データベース!S11 -> 0 | S8: =データベース!T11 -> 0 | T8: =データベース!Y11 -> 0 | U8: -1 | V8: =データベース!U11 -> 0 | W8: =データベース!V11 -> 0
A9: =データベース!D12 -> 0 | B9: =データベース!G12 -> 0 | C9: -1 | D9: =データベース!E12 -> 0 | F9: =データベース!H12 -> 0 | G9: =データベース!I12 -> 0 | H9: =データベース!N12 -> 0 | I9: -1 | J9: =データベース!J12 -> 0 | K9: =データベース!K12 -> 0 | M9: =データベース!O12 -> 0 | N9: =データベース!R12 -> 0 | O9: -1 | P9: =データベース!P12 -> 0 | R9: =データベース!S12 -> 0 | S9: =データベース!T12 -> 0 | T9: =データベース!Y12 -> 0 | U9: -1 | V9: =データベース!U12 -> 0 | W9: =データベース!V12 -> 0
A10: =データベース!D13 -> 0 | B10: =データベース!G13 -> 0 | C10: -1 | D10: =データベース!E13 -> 0 | F10: =データベース!H13 -> 0 | G10: =データベース!I13 -> 0 | H10: =データベース!N13 -> 0 | I10: -1 | J10: =データベース!J13 -> 0 | K10: =データベース!K13 -> 0 | M10: =データベース!O13 -> 0 | N10: =データベース!R13 -> 0 | O10: -1 | P10: =データベース!P13 -> 0 | R10: =データベース!S13 -> 0 | S10: =データベース!T13 -> 0 | T10: =データベース!Y13 -> 0 | U10: -1 | V10: =データベース!U13 -> 0 | W10: =データベース!V13 -> 0
A11: =データベース!D14 -> 0 | B11: =データベース!G14 -> 0 | C11: -1 | D11: =データベース!E14 -> 0 | F11: =データベース!H14 -> 0 | G11: =データベース!I14 -> 0 | H11: =データベース!N14 -> 0 | I11: -1 | J11: =データベース!J14 -> 0 | K11: =データベース!K14 -> 0 | M11: =データベース!O14 -> 0 | N11: =データベース!R14 -> 0 | O11: -1 | P11: =データベース!P14 -> 0 | R11: =データベース!S14 -> 0 | S11: =データベース!T14 -> 0 | T11: =データベース!Y14 -> 0 | U11: -1 | V11: =データベース!U14 -> 0 | W11: =データベース!V14 -> 0
A12: =データベース!D15 -> 0 | B12: =データベース!G15 -> 0 | C12: -1 | D12: =データベース!E15 -> 0 | F12: =データベース!H15 -> 0 | G12: =データベース!I15 -> 0 | H12: =データベース!N15 -> 0 | I12: -1 | J12: =データベース!J15 -> 0 | K12: =データベース!K15 -> 0 | M12: =データベース!O15 -> 0 | N12: =データベース!R15 -> 0 | O12: -1 | P12: =データベース!P15 -> 0 | R12: =データベース!S15 -> 0 | S12: =データベース!T15 -> 0 | T12: =データベース!Y15 -> 0 | U12: -1 | V12: =データベース!U15 -> 0 | W12: =データベース!V15 -> 0
A13: =データベース!D16 -> 0 | B13: =データベース!G16 -> 0 | C13: -1 | D13: =データベース!E16 -> 0 | F13: =データベース!H16 -> 0 | G13: =データベース!I16 -> 0 | H13: =データベース!N16 -> 0 | I13: -1 | J13: =データベース!J16 -> 0 | K13: =データベース!K16 -> 0 | M13: =データベース!O16 -> 0 | N13: =データベース!R16 -> 0 | O13: -1 | P13: =データベース!P16 -> 0 | R13: =データベース!S16 -> 0 | S13: =データベース!T16 -> 0 | T13: =データベース!Y16 -> 0 | U13: -1 | V13: =データベース!U16 -> 0 | W13: =データベース!V16 -> 0
... A39: =データベース!D42 -> 0 | B39: =データベース!G42 -> 0 | C39: -1 | D39: =データベース!E42 -> 0 | F39: =データベース!H42 -> 0 | G39: =データベース!I42 -> 0 | H39: =データベース!N42 -> 0 | I39: -1 | J39: =データベース!J42 -> 0 | K39: =データベース!K42 -> 0 | M39: =データベース!O42 -> 0 | N39: =データベース!R42 -> 0 | O39: -1 | P39: =データベース!P42 -> 0 | R39: =データベース!S42 -> 0 | S39: =データベース!T42 -> 0 | T39: =データベース!Y42 -> 0 | U39: -1 | V39: =データベース!U42 -> 0 | W39: =データベース!V42 -> 0

Sheet アサミtai貼り付け用
A1: MS
A2: MS
A3: MS
A4: MS
A5: MS
A6: MS
A7: MS
A8: MS
A9: MS
A10: MS
A11: MS
A12: MS
... A152: WD
