Workbook

Sheet 申込書（入力）
A1: 令和６年度 神奈川県中学校体育連盟優秀選手強化事業
A2: 第３２回 神奈川県中学生選抜ジュニア強化バドミントン大会
A3: 参加申込書
G4: 令和６年 月 日
B6: 学校名
B8: 所在地
B10: TEL | E10: FAX
C12: （○で囲む）
E13: 監督（校長・顧問・部活動指導員・代表）氏名 | F13: 印
E15: コーチ氏名
E17: 緊急連絡先（携帯番号）
B19: 登録選手（ 男子 ・ 女子 ） | F19: いずれかに○を
B21: 番号 | C21: 選 手 名 | E21: 協会登録番号 | J21: 学年
B22: 1
B23: 2
B24: 3
B25: 4
B26: 5
B27: 6
B28: 7
B29: 8
B30: 部活動申込 仮申込 メール10月22日（火） 本申込 郵送 10月28日（火） クラブ申込 仮申込 メール 9月29日（日） 本申込 郵送 9月30日（月） （メールにて仮申込した文書と正式申込書の記入内容に差異がないように注意する） ※神奈川県中学校体育連盟バドミントン専門部ホームページ http://www3.hp-ez.com/hp/kanacyubad ※大会参加申込書送信先 kanacyu_bad@yahoo.co.jp

Sheet データ読取
A3: 学校名 | B3: ='申込書（入力）'!C6 -> 0
A4: 住所 | B4: ='申込書（入力）'!C8 -> 0
A5: TEL | B5: ='申込書（入力）'!C10 -> 0
A6: FAX | B6: ='申込書（入力）'!F10 -> 0
A7: 顧問 | B7: ='申込書（入力）'!#REF! -> #REF!
A8: コーチ | B8: ='申込書（入力）'!F15 -> 0
A9: 携帯 | B9: ='申込書（入力）'!F17 -> 0
A10: 選手１ | B10: ='申込書（入力）'!C22 -> 0 | C10: ='申込書（入力）'!D22 -> 0 | D10: ='申込書（入力）'!#REF! -> #REF!
A11: 選手２ | B11: ='申込書（入力）'!C23 -> 0 | C11: ='申込書（入力）'!D23 -> 0 | D11: ='申込書（入力）'!#REF! -> #REF!
A12: 選手３ | B12: ='申込書（入力）'!C24 -> 0 | C12: ='申込書（入力）'!D24 -> 0 | D12: ='申込書（入力）'!#REF! -> #REF!
A13: 選手４ | B13: ='申込書（入力）'!C25 -> 0 | C13: ='申込書（入力）'!D25 -> 0 | D13: ='申込書（入力）'!#REF! -> #REF!
A14: 選手５ | B14: ='申込書（入力）'!C26 -> 0 | C14: ='申込書（入力）'!D26 -> 0 | D14: ='申込書（入力）'!#REF! -> #REF!
A15: 選手６ | B15: ='申込書（入力）'!C27 -> 0 | C15: ='申込書（入力）'!D27 -> 0 | D15: ='申込書（入力）'!#REF! -> #REF!
A16: 選手７ | B16: ='申込書（入力）'!C28 -> 0 | C16: ='申込書（入力）'!D28 -> 0 | D16: ='申込書（入力）'!#REF! -> #REF!
A17: 選手８ | B17: ='申込書（入力）'!C29 -> 0 | C17: ='申込書（入力）'!D29 -> 0 | D17: ='申込書（入力）'!#REF! -> #REF!
