Workbook

Sheet 入力データ
A1: 令和７年度 新人戦 出場選手入力フォーム
A2: 1 | B2: 2 | C2: 3 | D2: 4 | E2: 5 | F2: 6 | G2: 7 | H2: 8 | I2: 9 | J2: 10 | K2: 11 | L2: 12 | M2: 13 | N2: 14 | O2: 15 | P2: 16 | Q2: 17 | R2: 18 | S2: 19 | T2: 20 | U2: 21 | V2: 22 | W2: 23 | X2: 24 | Y2: 25 | Z2: 26 | AA2: 27 | AB2: 28 | AC2: 29 | AD2: 30 | AE2: 31 | AF2: 32 | AG2: 33 | AH2: 34 | AI2: 35 | AJ2: 36 | AK2: 37
C3: 順位 | E3: 男子シングルス | K3: 男子ダブルス | V3: 女子シングルス | AB3: 女子ダブルス
E4: 姓 | F4: 名 | G4: ふりがな | H4: 学年 | I4: 自治体 | J4: 学校名 | K4: 姓 | L4: 名 | M4: ふりがな | N4: 学年 | O4: 姓 | P4: 名 | Q4: ふりがな | R4: 学年 | S4: 自治体 | T4: 学校名 | V4: 姓 | W4: 名 | X4: ふりがな | Y4: 学年 | Z4: 自治体 | AA4: 学校名 | AB4: 姓 | AC4: 名 | AD4: ふりがな | AE4: 学年 | AF4: 姓 | AG4: 名 | AH4: ふりがな | AI4: 学年 | AJ4: 自治体 | AK4: 学校名
A5: 101 | B5: 横浜 | C5: 1
A6: 102 | B6: 横浜 | C6: 2
A7: 103 | B7: 横浜 | C7: 3
A8: 104 | B8: 横浜 | C8: 3
A9: 105 | B9: 横浜 | C9: 5
A10: 106 | B10: 横浜 | C10: 5
A11: 107 | B11: 横浜 | C11: 5
A12: 108 | B12: 横浜 | C12: 5
A13: 109 | B13: 横浜 | C13: 9
A14: 110 | B14: 横浜 | C14: 9
A15: 111 | B15: 横浜 | C15: 9
A16: 112 | B16: 横浜 | C16: 9
... A21: 201 | B21: 川崎 | C21: 1
A22: =A21+1 -> 202 | B22: 川崎 | C22: 2
A23: =A22+1 -> 203 | B23: 川崎 | C23: 3
A24: 204 | B24: 川崎 | C24: 3
A25: 205 | B25: 川崎 | C25: 5
A26: 206 | B26: 川崎 | C26: 5
A27: 207 | B27: 川崎 | C27: 5
A28: 208 | B28: 川崎 | C28: 5
A29: 301 | B29: 相模原 | C29: 1
A30: 302 | B30: 相模原 | C30: 2
A31: 303 | B31: 相模原 | C31: 3
A32: 304 | B32: 相模原 | C32: 3
A33: 305 | B33: 相模原 | C33: 5
A34: 306 | B34: 相模原 | C34: 5
A35: 401 | B35: 横須賀 | C35: 1
... A47: 601 | B47: 中 | C47: 1
A48: =A47+1 -> 602 | B48: 中 | C48: 2
A49: 603 | B49: 中 | C49: 3
A50: 604 | B50: 中 | C50: 3
A51: 701 | B51: 県央 | C51: 1
A52: 702 | B52: 県央 | C52: 2
A53: 703 | B53: 県央 | C53: 3
A54: 704 | B54: 県央 | C54: 3
A55: 705 | B55: 県央 | C55: 5
...

Sheet 出場選手男子
A1: 令和７年度 新人戦出場選手 男子
A3: ブロック | B3: 男子ｼﾝｸﾞﾙｽ | D3: 男子ﾀﾞﾌﾞﾙｽ
A4: 横浜 | B4: 1 | C4: =入力データ!E5&" "&入力データ!F5&IF(入力データ!H5=1,"①","")&"("&入力データ!I5&入力データ!J5&"学校"&")" -> (学校) | D4: 1 | E4: =入力データ!K5&" "&入力データ!L5&IF(入力データ!N5=1,"①","")&"・"&入力データ!O5&" "&入力データ!P5&IF(入力データ!R5=1,"①","")&"("&入力データ!S5&入力データ!T5&"学校"&")" -> ・ (学校) | G4: 101
A5: 横浜 | B5: 2 | C5: =入力データ!E6&" "&入力データ!F6&IF(入力データ!H6=1,"①","")&"("&入力データ!I6&入力データ!J6&"学校"&")" -> (学校) | D5: 2 | E5: =入力データ!K6&" "&入力データ!L6&IF(入力データ!N6=1,"①","")&"・"&入力データ!O6&" "&入力データ!P6&IF(入力データ!R6=1,"①","")&"("&入力データ!S6&入力データ!T6&"学校"&")" -> ・ (学校) | G5: 102
A6: 横浜 | B6: 3 | C6: =入力データ!E7&" "&入力データ!F7&IF(入力データ!H7=1,"①","")&"("&入力データ!I7&入力データ!J7&"学校"&")" -> (学校) | D6: 3 | E6: =入力データ!K7&" "&入力データ!L7&IF(入力データ!N7=1,"①","")&"・"&入力データ!O7&" "&入力データ!P7&IF(入力データ!R7=1,"①","")&"("&入力データ!S7&入力データ!T7&"学校"&")" -> ・ (学校) | G6: 103
A7: 横浜 | B7: 3 | C7: =入力データ!E8&" "&入力データ!F8&IF(入力データ!H8=1,"①","")&"("&入力データ!I8&入力データ!J8&"学校"&")" -> (学校) | D7: 3 | E7: =入力データ!K8&" "&入力データ!L8&IF(入力データ!N8=1,"①","")&"・"&入力データ!O8&" "&入力データ!P8&IF(入力データ!R8=1,"①","")&"("&入力データ!S8&入力データ!T8&"学校"&")" -> ・ (学校) | G7: 104
A8: 横浜 | B8: 5 | C8: =入力データ!E9&" "&入力データ!F9&IF(入力データ!H9=1,"①","")&"("&入力データ!I9&入力データ!J9&"学校"&")" -> (学校) | D8: 5 | E8: =入力データ!K9&" "&入力データ!L9&IF(入力データ!N9=1,"①","")&"・"&入力データ!O9&" "&入力データ!P9&IF(入力データ!R9=1,"①","")&"("&入力データ!S9&入力データ!T9&"学校"&")" -> ・ (学校) | G8: 105
A9: 横浜 | B9: 5 | C9: =入力データ!E10&" "&入力データ!F10&IF(入力データ!H10=1,"①","")&"("&入力データ!I10&入力データ!J10&"学校"&")" -> (学校) | D9: 5 | E9: =入力データ!K10&" "&入力データ!L10&IF(入力データ!N10=1,"①","")&"・"&入力データ!O10&" "&入力データ!P10&IF(入力データ!R10=1,"①","")&"("&入力データ!S10&入力データ!T10&"学校"&")" -> ・ (学校) | G9: 106
A10: 横浜 | B10: 5 | C10: =入力データ!E11&" "&入力データ!F11&IF(入力データ!H11=1,"①","")&"("&入力データ!I11&入力データ!J11&"学校"&")" -> (学校) | D10: 5 | E10: =入力データ!K11&" "&入力データ!L11&IF(入力データ!N11=1,"①","")&"・"&入力データ!O11&" "&入力データ!P11&IF(入力データ!R11=1,"①","")&"("&入力データ!S11&入力データ!T11&"学校"&")" -> ・ (学校) | G10: 107
A11: 横浜 | B11: 5 | C11: =入力データ!E12&" "&入力データ!F12&IF(入力データ!H12=1,"①","")&"("&入力データ!I12&入力データ!J12&"学校"&")" -> (学校) | D11: 5 | E11: =入力データ!K12&" "&入力データ!L12&IF(入力データ!N12=1,"①","")&"・"&入力データ!O12&" "&入力データ!P12&IF(入力データ!R12=1,"①","")&"("&入力データ!S12&入力データ!T12&"学校"&")" -> ・ (学校) | G11: 108
A12: 横浜 | B12: 9 | C12: =入力データ!E13&" "&入力データ!F13&IF(入力データ!H13=1,"①","")&"("&入力データ!I13&入力データ!J13&"学校"&")" -> (学校) | D12: 9 | E12: =入力データ!K13&" "&入力データ!L13&IF(入力データ!N13=1,"①","")&"・"&入力データ!O13&" "&入力データ!P13&IF(入力データ!R13=1,"①","")&"("&入力データ!S13&入力データ!T13&"学校"&")" -> ・ (学校) | G12: 109
A13: 横浜 | B13: 9 | C13: =入力データ!E14&" "&入力データ!F14&IF(入力データ!H14=1,"①","")&"("&入力データ!I14&入力データ!J14&"学校"&")" -> (学校) | D13: 9 | E13: =入力データ!K14&" "&入力データ!L14&IF(入力データ!N14=1,"①","")&"・"&入力データ!O14&" "&入力データ!P14&IF(入力データ!R14=1,"①","")&"("&入力データ!S14&入力データ!T14&"学校"&")" -> ・ (学校) | G13: =G12+1 -> 110
A14: 横浜 | B14: 9 | C14: =入力データ!E15&" "&入力データ!F15&IF(入力データ!H15=1,"①","")&"("&入力データ!I15&入力データ!J15&"学校"&")" -> (学校) | D14: 9 | E14: =入力データ!K15&" "&入力データ!L15&IF(入力データ!N15=1,"①","")&"・"&入力データ!O15&" "&入力データ!P15&IF(入力データ!R15=1,"①","")&"("&入力データ!S15&入力データ!T15&"学校"&")" -> ・ (学校) | G14: =G13+1 -> 111
A15: 横浜 | B15: 9 | C15: =入力データ!E16&" "&入力データ!F16&IF(入力データ!H16=1,"①","")&"("&入力データ!I16&入力データ!J16&"学校"&")" -> (学校) | D15: 9 | E15: =入力データ!K16&" "&入力データ!L16&IF(入力データ!N16=1,"①","")&"・"&入力データ!O16&" "&入力データ!P16&IF(入力データ!R16=1,"①","")&"("&入力データ!S16&入力データ!T16&"学校"&")" -> ・ (学校) | G15: =G14+1 -> 112
A16: 横浜 | B16: 9 | C16: =入力データ!E17&" "&入力データ!F17&IF(入力データ!H17=1,"①","")&"("&入力データ!I17&入力データ!J17&"学校"&")" -> (学校) | D16: 9 | E16: =入力データ!K17&" "&入力データ!L17&IF(入力データ!N17=1,"①","")&"・"&入力データ!O17&" "&入力データ!P17&IF(入力データ!R17=1,"①","")&"("&入力データ!S17&入力データ!T17&"学校"&")" -> ・ (学校) | G16: =G15+1 -> 113
A17: 横浜 | B17: 9 | C17: =入力データ!E18&" "&入力データ!F18&IF(入力データ!H18=1,"①","")&"("&入力データ!I18&入力データ!J18&"学校"&")" -> (学校) | D17: 9 | E17: =入力データ!K18&" "&入力データ!L18&IF(入力データ!N18=1,"①","")&"・"&入力データ!O18&" "&入力データ!P18&IF(入力データ!R18=1,"①","")&"("&入力データ!S18&入力データ!T18&"学校"&")" -> ・ (学校) | G17: =G16+1 -> 114
A18: 横浜 | B18: 9 | C18: =入力データ!E19&" "&入力データ!F19&IF(入力データ!H19=1,"①","")&"("&入力データ!I19&入力データ!J19&"学校"&")" -> (学校) | D18: 9 | E18: =入力データ!K19&" "&入力データ!L19&IF(入力データ!N19=1,"①","")&"・"&入力データ!O19&" "&入力データ!P19&IF(入力データ!R19=1,"①","")&"("&入力データ!S19&入力データ!T19&"学校"&")" -> ・ (学校) | G18: =G17+1 -> 115
A19: 横浜 | B19: 9 | C19: =入力データ!E20&" "&入力データ!F20&IF(入力データ!H20=1,"①","")&"("&入力データ!I20&入力データ!J20&"学校"&")" -> (学校) | D19: 9 | E19: =入力データ!K20&" "&入力データ!L20&IF(入力データ!N20=1,"①","")&"・"&入力データ!O20&" "&入力データ!P20&IF(入力データ!R20=1,"①","")&"("&入力データ!S20&入力データ!T20&"学校"&")" -> ・ (学校) | G19: =G18+1 -> 116
A20: 川崎 | B20: 1 | C20: =入力データ!E21&" "&入力データ!F21&IF(入力データ!H21=1,"①","")&"("&入力データ!I21&入力データ!J21&"学校"&")" -> (学校) | D20: 1 | E20: =入力データ!K21&" "&入力データ!L21&IF(入力データ!N21=1,"①","")&"・"&入力データ!O21&" "&入力データ!P21&IF(入力データ!R21=1,"①","")&"("&入力データ!S21&入力データ!T21&"学校"&")" -> ・ (学校) | G20: 201
A21: 川崎 | B21: 2 | C21: =入力データ!E22&" "&入力データ!F22&IF(入力データ!H22=1,"①","")&"("&入力データ!I22&入力データ!J22&"学校"&")" -> (学校) | D21: 2 | E21: =入力データ!K22&" "&入力データ!L22&IF(入力データ!N22=1,"①","")&"・"&入力データ!O22&" "&入力データ!P22&IF(入力データ!R22=1,"①","")&"("&入力データ!S22&入力データ!T22&"学校"&")" -> ・ (学校) | G21: =G20+1 -> 202
A22: 川崎 | B22: 3 | C22: =入力データ!E23&" "&入力データ!F23&IF(入力データ!H23=1,"①","")&"("&入力データ!I23&入力データ!J23&"学校"&")" -> (学校) | D22: 3 | E22: =入力データ!K23&" "&入力データ!L23&IF(入力データ!N23=1,"①","")&"・"&入力データ!O23&" "&入力データ!P23&IF(入力データ!R23=1,"①","")&"("&入力データ!S23&入力データ!T23&"学校"&")" -> ・ (学校) | G22: =G21+1 -> 203
A23: 川崎 | B23: 3 | C23: =入力データ!E24&" "&入力データ!F24&IF(入力データ!H24=1,"①","")&"("&入力データ!I24&入力データ!J24&"学校"&")" -> (学校) | D23: 3 | E23: =入力データ!K24&" "&入力データ!L24&IF(入力データ!N24=1,"①","")&"・"&入力データ!O24&" "&入力データ!P24&IF(入力データ!R24=1,"①","")&"("&入力データ!S24&入力データ!T24&"学校"&")" -> ・ (学校) | G23: =G22+1 -> 204
A24: 川崎 | B24: 5 | C24: =入力データ!E25&" "&入力データ!F25&IF(入力データ!H25=1,"①","")&"("&入力データ!I25&入力データ!J25&"学校"&")" -> (学校) | D24: 5 | E24: =入力データ!K25&" "&入力データ!L25&IF(入力データ!N25=1,"①","")&"・"&入力データ!O25&" "&入力データ!P25&IF(入力データ!R25=1,"①","")&"("&入力データ!S25&入力データ!T25&"学校"&")" -> ・ (学校) | G24: =G23+1 -> 205
A25: 川崎 | B25: 5 | C25: =入力データ!E26&" "&入力データ!F26&IF(入力データ!H26=1,"①","")&"("&入力データ!I26&入力データ!J26&"学校"&")" -> (学校) | D25: 5 | E25: =入力データ!K26&" "&入力データ!L26&IF(入力データ!N26=1,"①","")&"・"&入力データ!O26&" "&入力データ!P26&IF(入力データ!R26=1,"①","")&"("&入力データ!S26&入力データ!T26&"学校"&")" -> ・ (学校) | G25: =G24+1 -> 206
A26: 川崎 | B26: 5 | C26: =入力データ!E27&" "&入力データ!F27&IF(入力データ!H27=1,"①","")&"("&入力データ!I27&入力データ!J27&"学校"&")" -> (学校) | D26: 5 | E26: =入力データ!K27&" "&入力データ!L27&IF(入力データ!N27=1,"①","")&"・"&入力データ!O27&" "&入力データ!P27&IF(入力データ!R27=1,"①","")&"("&入力データ!S27&入力データ!T27&"学校"&")" -> ・ (学校) | G26: =G25+1 -> 207
A27: 川崎 | B27: 5 | C27: =入力データ!E28&" "&入力データ!F28&IF(入力データ!H28=1,"①","")&"("&入力データ!I28&入力データ!J28&"学校"&")" -> (学校) | D27: 5 | E27: =入力データ!K28&" "&入力データ!L28&IF(入力データ!N28=1,"①","")&"・"&入力データ!O28&" "&入力データ!P28&IF(入力データ!R28=1,"①","")&"("&入力データ!S28&入力データ!T28&"学校"&")" -> ・ (学校) | G27: =G26+1 -> 208
A28: 相模原 | B28: 1 | C28: =入力データ!E29&" "&入力データ!F29&IF(入力データ!H29=1,"①","")&"("&入力データ!I29&入力データ!J29&"学校"&")" -> (学校) | D28: 1 | E28: =入力データ!K29&" "&入力データ!L29&IF(入力データ!N29=1,"①","")&"・"&入力データ!O29&" "&入力データ!P29&IF(入力データ!R29=1,"①","")&"("&入力データ!S29&入力データ!T29&"学校"&")" -> ・ (学校) | G28: 301
A29: 相模原 | B29: 2 | C29: =入力データ!E30&" "&入力データ!F30&IF(入力データ!H30=1,"①","")&"("&入力データ!I30&入力データ!J30&"学校"&")" -> (学校) | D29: 2 | E29: =入力データ!K30&" "&入力データ!L30&IF(入力データ!N30=1,"①","")&"・"&入力データ!O30&" "&入力データ!P30&IF(入力データ!R30=1,"①","")&"("&入力データ!S30&入力データ!T30&"学校"&")" -> ・ (学校) | G29: =G28+1 -> 302
A30: 相模原 | B30: 3 | C30: =入力データ!E31&" "&入力データ!F31&IF(入力データ!H31=1,"①","")&"("&入力データ!I31&入力データ!J31&"学校"&")" -> (学校) | D30: 3 | E30: =入力データ!K31&" "&入力データ!L31&IF(入力データ!N31=1,"①","")&"・"&入力データ!O31&" "&入力データ!P31&IF(入力データ!R31=1,"①","")&"("&入力データ!S31&入力データ!T31&"学校"&")" -> ・ (学校) | G30: =G29+1 -> 303
A31: 相模原 | B31: 3 | C31: =入力データ!E32&" "&入力データ!F32&IF(入力データ!H32=1,"①","")&"("&入力データ!I32&入力データ!J32&"学校"&")" -> (学校) | D31: 3 | E31: =入力データ!K32&" "&入力データ!L32&IF(入力データ!N32=1,"①","")&"・"&入力データ!O32&" "&入力データ!P32&IF(入力データ!R32=1,"①","")&"("&入力データ!S32&入力データ!T32&"学校"&")" -> ・ (学校) | G31: =G30+1 -> 304
A32: 相模原 | B32: 5 | C32: =入力データ!E33&" "&入力データ!F33&IF(入力データ!H33=1,"①","")&"("&入力データ!I33&入力データ!J33&"学校"&")" -> (学校) | D32: 5 | E32: =入力データ!K33&" "&入力データ!L33&IF(入力データ!N33=1,"①","")&"・"&入力データ!O33&" "&入力データ!P33&IF(入力データ!R33=1,"①","")&"("&入力データ!S33&入力データ!T33&"学校"&")" -> ・ (学校) | G32: =G31+1 -> 305
A33: 相模原 | B33: 5 | C33: =入力データ!E34&" "&入力データ!F34&IF(入力データ!H34=1,"①","")&"("&入力データ!I34&入力データ!J34&"学校"&")" -> (学校) | D33: 5 | E33: =入力データ!K34&" "&入力データ!L34&IF(入力データ!N34=1,"①","")&"・"&入力データ!O34&" "&入力データ!P34&IF(入力データ!R34=1,"①","")&"("&入力データ!S34&入力データ!T34&"学校"&")" -> ・ (学校) | G33: =G32+1 -> 306
A34: 横須賀 | B34: 1 | C34: =入力データ!E35&" "&入力データ!F35&IF(入力データ!H35=1,"①","")&"("&入力データ!I35&入力データ!J35&"学校"&")" -> (学校) | D34: 1 | E34: =入力データ!K35&" "&入力データ!L35&IF(入力データ!N35=1,"①","")&"・"&入力データ!O35&" "&入力データ!P35&IF(入力データ!R35=1,"①","")&"("&入力データ!S35&入力データ!T35&"学校"&")" -> ・ (学校) | G34: 401
A35: 横須賀 | B35: 2 | C35: =入力データ!E36&" "&入力データ!F36&IF(入力データ!H36=1,"①","")&"("&入力データ!I36&入力データ!J36&"学校"&")" -> (学校) | D35: 2 | E35: =入力データ!K36&" "&入力データ!L36&IF(入力データ!N36=1,"①","")&"・"&入力データ!O36&" "&入力データ!P36&IF(入力データ!R36=1,"①","")&"("&入力データ!S36&入力データ!T36&"学校"&")" -> ・ (学校) | G35: =G34+1 -> 402
A36: 横須賀 | B36: 3 | C36: =入力データ!E37&" "&入力データ!F37&IF(入力データ!H37=1,"①","")&"("&入力データ!I37&入力データ!J37&"学校"&")" -> (学校) | D36: 3 | E36: =入力データ!K37&" "&入力データ!L37&IF(入力データ!N37=1,"①","")&"・"&入力データ!O37&" "&入力データ!P37&IF(入力データ!R37=1,"①","")&"("&入力データ!S37&入力データ!T37&"学校"&")" -> ・ (学校) | G36: =G35+1 -> 403
A37: 横須賀 | B37: 3 | C37: =入力データ!E38&" "&入力データ!F38&IF(入力データ!H38=1,"①","")&"("&入力データ!I38&入力データ!J38&"学校"&")" -> (学校) | D37: 3 | E37: =入力データ!K38&" "&入力データ!L38&IF(入力データ!N38=1,"①","")&"・"&入力データ!O38&" "&入力データ!P38&IF(入力データ!R38=1,"①","")&"("&入力データ!S38&入力データ!T38&"学校"&")" -> ・ (学校) | G37: =G36+1 -> 404
A38: 横須賀 | B38: 5 | C38: =入力データ!E39&" "&入力データ!F39&IF(入力データ!H39=1,"①","")&"("&入力データ!I39&入力データ!J39&"学校"&")" -> (学校) | D38: 5 | E38: =入力データ!K39&" "&入力データ!L39&IF(入力データ!N39=1,"①","")&"・"&入力データ!O39&" "&入力データ!P39&IF(入力データ!R39=1,"①","")&"("&入力データ!S39&入力データ!T39&"学校"&")" -> ・ (学校) | G38: =G37+1 -> 405
A39: 横須賀 | B39: 5 | C39: =入力データ!E40&" "&入力データ!F40&IF(入力データ!H40=1,"①","")&"("&入力データ!I40&入力データ!J40&"学校"&")" -> (学校) | D39: 5 | E39: =入力データ!K40&" "&入力データ!L40&IF(入力データ!N40=1,"①","")&"・"&入力データ!O40&" "&入力データ!P40&IF(入力データ!R40=1,"①","")&"("&入力データ!S40&入力データ!T40&"学校"&")" -> ・ (学校) | G39: =G38+1 -> 406
A40: 湘南 | B40: 1 | C40: =入力データ!E41&" "&入力データ!F41&IF(入力データ!H41=1,"①","")&"("&入力データ!I41&入力データ!J41&"学校"&")" -> (学校) | D40: 1 | E40: =入力データ!K41&" "&入力データ!L41&IF(入力データ!N41=1,"①","")&"・"&入力データ!O41&" "&入力データ!P41&IF(入力データ!R41=1,"①","")&"("&入力データ!S41&入力データ!T41&"学校"&")" -> ・ (学校) | G40: 501
A41: 湘南 | B41: 2 | C41: =入力データ!E42&" "&入力データ!F42&IF(入力データ!H42=1,"①","")&"("&入力データ!I42&入力データ!J42&"学校"&")" -> (学校) | D41: 2 | E41: =入力データ!K42&" "&入力データ!L42&IF(入力データ!N42=1,"①","")&"・"&入力データ!O42&" "&入力データ!P42&IF(入力データ!R42=1,"①","")&"("&入力データ!S42&入力データ!T42&"学校"&")" -> ・ (学校) | G41: =G40+1 -> 502
...

Sheet 出場選手女子
A1: 令和７年度 新人戦出場選手 女子
A3: ブロック | B3: 女子ｼﾝｸﾞﾙｽ | D3: 女子ﾀﾞﾌﾞﾙｽ
A4: 横浜 | B4: 1 | C4: =入力データ!V5&" "&入力データ!W5&IF(入力データ!Y5=1,"①","")&"("&入力データ!Z5&入力データ!AA5&"学校"&")" -> (学校) | D4: 1 | E4: =入力データ!AB7&" "&入力データ!AC7&IF(入力データ!AE7=1,"①","")&"・"&入力データ!AF7&" "&入力データ!AG7&IF(入力データ!AI7=1,"①","")&"("&入力データ!AJ7&入力データ!AK7&"学校"&")" -> ・ (学校) | G4: 101
A5: 横浜 | B5: 2 | C5: =入力データ!V6&" "&入力データ!W6&IF(入力データ!Y6=1,"①","")&"("&入力データ!Z6&入力データ!AA6&"学校"&")" -> (学校) | D5: 2 | E5: =入力データ!AB8&" "&入力データ!AC8&IF(入力データ!AE8=1,"①","")&"・"&入力データ!AF8&" "&入力データ!AG8&IF(入力データ!AI8=1,"①","")&"("&入力データ!AJ8&入力データ!AK8&"学校"&")" -> ・ (学校) | G5: 102
A6: 横浜 | B6: 3 | C6: =入力データ!V7&" "&入力データ!W7&IF(入力データ!Y7=1,"①","")&"("&入力データ!Z7&入力データ!AA7&"学校"&")" -> (学校) | D6: 3 | E6: =入力データ!AB9&" "&入力データ!AC9&IF(入力データ!AE9=1,"①","")&"・"&入力データ!AF9&" "&入力データ!AG9&IF(入力データ!AI9=1,"①","")&"("&入力データ!AJ9&入力データ!AK9&"学校"&")" -> ・ (学校) | G6: 103
A7: 横浜 | B7: 3 | C7: =入力データ!V8&" "&入力データ!W8&IF(入力データ!Y8=1,"①","")&"("&入力データ!Z8&入力データ!AA8&"学校"&")" -> (学校) | D7: 3 | E7: =入力データ!AB10&" "&入力データ!AC10&IF(入力データ!AE10=1,"①","")&"・"&入力データ!AF10&" "&入力データ!AG10&IF(入力データ!AI10=1,"①","")&"("&入力データ!AJ10&入力データ!AK10&"学校"&")" -> ・ (学校) | G7: 104
A8: 横浜 | B8: 5 | C8: =入力データ!V9&" "&入力データ!W9&IF(入力データ!Y9=1,"①","")&"("&入力データ!Z9&入力データ!AA9&"学校"&")" -> (学校) | D8: 5 | E8: =入力データ!AB11&" "&入力データ!AC11&IF(入力データ!AE11=1,"①","")&"・"&入力データ!AF11&" "&入力データ!AG11&IF(入力データ!AI11=1,"①","")&"("&入力データ!AJ11&入力データ!AK11&"学校"&")" -> ・ (学校) | G8: 105
A9: 横浜 | B9: 5 | C9: =入力データ!V10&" "&入力データ!W10&IF(入力データ!Y10=1,"①","")&"("&入力データ!Z10&入力データ!AA10&"学校"&")" -> (学校) | D9: 5 | E9: =入力データ!AB12&" "&入力データ!AC12&IF(入力データ!AE12=1,"①","")&"・"&入力データ!AF12&" "&入力データ!AG12&IF(入力データ!AI12=1,"①","")&"("&入力データ!AJ12&入力データ!AK12&"学校"&")" -> ・ (学校) | G9: 106
A10: 横浜 | B10: 5 | C10: =入力データ!V11&" "&入力データ!W11&IF(入力データ!Y11=1,"①","")&"("&入力データ!Z11&入力データ!AA11&"学校"&")" -> (学校) | D10: 5 | E10: =入力データ!AB13&" "&入力データ!AC13&IF(入力データ!AE13=1,"①","")&"・"&入力データ!AF13&" "&入力データ!AG13&IF(入力データ!AI13=1,"①","")&"("&入力データ!AJ13&入力データ!AK13&"学校"&")" -> ・ (学校) | G10: 107
A11: 横浜 | B11: 5 | C11: =入力データ!V12&" "&入力データ!W12&IF(入力データ!Y12=1,"①","")&"("&入力データ!Z12&入力データ!AA12&"学校"&")" -> (学校) | D11: 5 | E11: =入力データ!AB14&" "&入力データ!AC14&IF(入力データ!AE14=1,"①","")&"・"&入力データ!AF14&" "&入力データ!AG14&IF(入力データ!AI14=1,"①","")&"("&入力データ!AJ14&入力データ!AK14&"学校"&")" -> ・ (学校) | G11: 108
A12: 横浜 | B12: 9 | C12: =入力データ!V13&" "&入力データ!W13&IF(入力データ!Y13=1,"①","")&"("&入力データ!Z13&入力データ!AA13&"学校"&")" -> (学校) | D12: 9 | E12: =入力データ!AB15&" "&入力データ!AC15&IF(入力データ!AE15=1,"①","")&"・"&入力データ!AF15&" "&入力データ!AG15&IF(入力データ!AI15=1,"①","")&"("&入力データ!AJ15&入力データ!AK15&"学校"&")" -> ・ (学校) | G12: 109
A13: 横浜 | B13: 9 | C13: =入力データ!V14&" "&入力データ!W14&IF(入力データ!Y14=1,"①","")&"("&入力データ!Z14&入力データ!AA14&"学校"&")" -> (学校) | D13: 9 | E13: =入力データ!AB16&" "&入力データ!AC16&IF(入力データ!AE16=1,"①","")&"・"&入力データ!AF16&" "&入力データ!AG16&IF(入力データ!AI16=1,"①","")&"("&入力データ!AJ16&入力データ!AK16&"学校"&")" -> ・ (学校) | G13: =G12+1 -> 110
A14: 横浜 | B14: 9 | C14: =入力データ!V15&" "&入力データ!W15&IF(入力データ!Y15=1,"①","")&"("&入力データ!Z15&入力データ!AA15&"学校"&")" -> (学校) | D14: 9 | E14: =入力データ!AB17&" "&入力データ!AC17&IF(入力データ!AE17=1,"①","")&"・"&入力データ!AF17&" "&入力データ!AG17&IF(入力データ!AI17=1,"①","")&"("&入力データ!AJ17&入力データ!AK17&"学校"&")" -> ・ (学校) | G14: =G13+1 -> 111
A15: 横浜 | B15: 9 | C15: =入力データ!V16&" "&入力データ!W16&IF(入力データ!Y16=1,"①","")&"("&入力データ!Z16&入力データ!AA16&"学校"&")" -> (学校) | D15: 9 | E15: =入力データ!AB18&" "&入力データ!AC18&IF(入力データ!AE18=1,"①","")&"・"&入力データ!AF18&" "&入力データ!AG18&IF(入力データ!AI18=1,"①","")&"("&入力データ!AJ18&入力データ!AK18&"学校"&")" -> ・ (学校) | G15: =G14+1 -> 112
A16: 横浜 | B16: 9 | C16: =入力データ!V17&" "&入力データ!W17&IF(入力データ!Y17=1,"①","")&"("&入力データ!Z17&入力データ!AA17&"学校"&")" -> (学校) | D16: 9 | E16: =入力データ!AB19&" "&入力データ!AC19&IF(入力データ!AE19=1,"①","")&"・"&入力データ!AF19&" "&入力データ!AG19&IF(入力データ!AI19=1,"①","")&"("&入力データ!AJ19&入力データ!AK19&"学校"&")" -> ・ (学校) | G16: =G15+1 -> 113
A17: 横浜 | B17: 9 | C17: =入力データ!V18&" "&入力データ!W18&IF(入力データ!Y18=1,"①","")&"("&入力データ!Z18&入力データ!AA18&"学校"&")" -> (学校) | D17: 9 | E17: =入力データ!AB20&" "&入力データ!AC20&IF(入力データ!AE20=1,"①","")&"・"&入力データ!AF20&" "&入力データ!AG20&IF(入力データ!AI20=1,"①","")&"("&入力データ!AJ20&入力データ!AK20&"学校"&")" -> ・ (学校) | G17: =G16+1 -> 114
A18: 横浜 | B18: 9 | C18: =入力データ!V19&" "&入力データ!W19&IF(入力データ!Y19=1,"①","")&"("&入力データ!Z19&入力データ!AA19&"学校"&")" -> (学校) | D18: 9 | E18: =入力データ!AB21&" "&入力データ!AC21&IF(入力データ!AE21=1,"①","")&"・"&入力データ!AF21&" "&入力データ!AG21&IF(入力データ!AI21=1,"①","")&"("&入力データ!AJ21&入力データ!AK21&"学校"&")" -> ・ (学校) | G18: =G17+1 -> 115
A19: 横浜 | B19: 9 | C19: =入力データ!V20&" "&入力データ!W20&IF(入力データ!Y20=1,"①","")&"("&入力データ!Z20&入力データ!AA20&"学校"&")" -> (学校) | D19: 9 | E19: =入力データ!AB22&" "&入力データ!AC22&IF(入力データ!AE22=1,"①","")&"・"&入力データ!AF22&" "&入力データ!AG22&IF(入力データ!AI22=1,"①","")&"("&入力データ!AJ22&入力データ!AK22&"学校"&")" -> ・ (学校) | G19: =G18+1 -> 116
A20: 川崎 | B20: 1 | C20: =入力データ!V21&" "&入力データ!W21&IF(入力データ!Y21=1,"①","")&"("&入力データ!Z21&入力データ!AA21&"学校"&")" -> (学校) | D20: 1 | E20: =入力データ!AB23&" "&入力データ!AC23&IF(入力データ!AE23=1,"①","")&"・"&入力データ!AF23&" "&入力データ!AG23&IF(入力データ!AI23=1,"①","")&"("&入力データ!AJ23&入力データ!AK23&"学校"&")" -> ・ (学校) | G20: 201
A21: 川崎 | B21: 2 | C21: =入力データ!V22&" "&入力データ!W22&IF(入力データ!Y22=1,"①","")&"("&入力データ!Z22&入力データ!AA22&"学校"&")" -> (学校) | D21: 2 | E21: =入力データ!AB24&" "&入力データ!AC24&IF(入力データ!AE24=1,"①","")&"・"&入力データ!AF24&" "&入力データ!AG24&IF(入力データ!AI24=1,"①","")&"("&入力データ!AJ24&入力データ!AK24&"学校"&")" -> ・ (学校) | G21: =G20+1 -> 202
A22: 川崎 | B22: 3 | C22: =入力データ!V25&" "&入力データ!W25&IF(入力データ!Y25=1,"①","")&"("&入力データ!Z25&入力データ!AA25&"学校"&")" -> (学校) | D22: 3 | E22: =入力データ!AB25&" "&入力データ!AC25&IF(入力データ!AE25=1,"①","")&"・"&入力データ!AF25&" "&入力データ!AG25&IF(入力データ!AI25=1,"①","")&"("&入力データ!AJ25&入力データ!AK25&"学校"&")" -> ・ (学校) | G22: =G21+1 -> 203
A23: 川崎 | B23: 3 | C23: =入力データ!V26&" "&入力データ!W26&IF(入力データ!Y26=1,"①","")&"("&入力データ!Z26&入力データ!AA26&"学校"&")" -> (学校) | D23: 3 | E23: =入力データ!AB26&" "&入力データ!AC26&IF(入力データ!AE26=1,"①","")&"・"&入力データ!AF26&" "&入力データ!AG26&IF(入力データ!AI26=1,"①","")&"("&入力データ!AJ26&入力データ!AK26&"学校"&")" -> ・ (学校) | G23: =G22+1 -> 204
A24: 川崎 | B24: 5 | C24: =入力データ!V27&" "&入力データ!W27&IF(入力データ!Y27=1,"①","")&"("&入力データ!Z27&入力データ!AA27&"学校"&")" -> (学校) | D24: 5 | E24: =入力データ!AB27&" "&入力データ!AC27&IF(入力データ!AE27=1,"①","")&"・"&入力データ!AF27&" "&入力データ!AG27&IF(入力データ!AI27=1,"①","")&"("&入力データ!AJ27&入力データ!AK27&"学校"&")" -> ・ (学校) | G24: =G23+1 -> 205
A25: 川崎 | B25: 5 | C25: =入力データ!V28&" "&入力データ!W28&IF(入力データ!Y28=1,"①","")&"("&入力データ!Z28&入力データ!AA28&"学校"&")" -> (学校) | D25: 5 | E25: =入力データ!AB28&" "&入力データ!AC28&IF(入力データ!AE28=1,"①","")&"・"&入力データ!AF28&" "&入力データ!AG28&IF(入力データ!AI28=1,"①","")&"("&入力データ!AJ28&入力データ!AK28&"学校"&")" -> ・ (学校) | G25: =G24+1 -> 206
A26: 川崎 | B26: 5 | C26: =入力データ!V29&" "&入力データ!W29&IF(入力データ!Y29=1,"①","")&"("&入力データ!Z29&入力データ!AA29&"学校"&")" -> (学校) | D26: 5 | E26: =入力データ!AB29&" "&入力データ!AC29&IF(入力データ!AE29=1,"①","")&"・"&入力データ!AF29&" "&入力データ!AG29&IF(入力データ!AI29=1,"①","")&"("&入力データ!AJ29&入力データ!AK29&"学校"&")" -> ・ (学校) | G26: =G25+1 -> 207
A27: 川崎 | B27: 5 | C27: =入力データ!V30&" "&入力データ!W30&IF(入力データ!Y30=1,"①","")&"("&入力データ!Z30&入力データ!AA30&"学校"&")" -> (学校) | D27: 5 | E27: =入力データ!AB30&" "&入力データ!AC30&IF(入力データ!AE30=1,"①","")&"・"&入力データ!AF30&" "&入力データ!AG30&IF(入力データ!AI30=1,"①","")&"("&入力データ!AJ30&入力データ!AK30&"学校"&")" -> ・ (学校) | G27: =G26+1 -> 208
A28: 相模原 | B28: 1 | C28: =入力データ!V31&" "&入力データ!W31&IF(入力データ!Y31=1,"①","")&"("&入力データ!Z31&入力データ!AA31&"学校"&")" -> (学校) | D28: 1 | E28: =入力データ!AB31&" "&入力データ!AC31&IF(入力データ!AE31=1,"①","")&"・"&入力データ!AF31&" "&入力データ!AG31&IF(入力データ!AI31=1,"①","")&"("&入力データ!AJ31&入力データ!AK31&"学校"&")" -> ・ (学校) | G28: 301
A29: 相模原 | B29: 2 | C29: =入力データ!V32&" "&入力データ!W32&IF(入力データ!Y32=1,"①","")&"("&入力データ!Z32&入力データ!AA32&"学校"&")" -> (学校) | D29: 2 | E29: =入力データ!AB32&" "&入力データ!AC32&IF(入力データ!AE32=1,"①","")&"・"&入力データ!AF32&" "&入力データ!AG32&IF(入力データ!AI32=1,"①","")&"("&入力データ!AJ32&入力データ!AK32&"学校"&")" -> ・ (学校) | G29: =G28+1 -> 302
A30: 相模原 | B30: 3 | C30: =入力データ!V33&" "&入力データ!W33&IF(入力データ!Y33=1,"①","")&"("&入力データ!Z33&入力データ!AA33&"学校"&")" -> (学校) | D30: 3 | E30: =入力データ!AB33&" "&入力データ!AC33&IF(入力データ!AE33=1,"①","")&"・"&入力データ!AF33&" "&入力データ!AG33&IF(入力データ!AI33=1,"①","")&"("&入力データ!AJ33&入力データ!AK33&"学校"&")" -> ・ (学校) | G30: =G29+1 -> 303
A31: 相模原 | B31: 3 | C31: =入力データ!V34&" "&入力データ!W34&IF(入力データ!Y34=1,"①","")&"("&入力データ!Z34&入力データ!AA34&"学校"&")" -> (学校) | D31: 3 | E31: =入力データ!AB34&" "&入力データ!AC34&IF(入力データ!AE34=1,"①","")&"・"&入力データ!AF34&" "&入力データ!AG34&IF(入力データ!AI34=1,"①","")&"("&入力データ!AJ34&入力データ!AK34&"学校"&")" -> ・ (学校) | G31: =G30+1 -> 304
A32: 相模原 | B32: 5 | C32: =入力データ!V35&" "&入力データ!W35&IF(入力データ!Y35=1,"①","")&"("&入力データ!Z35&入力データ!AA35&"学校"&")" -> (学校) | D32: 5 | E32: =入力データ!AB35&" "&入力データ!AC35&IF(入力データ!AE35=1,"①","")&"・"&入力データ!AF35&" "&入力データ!AG35&IF(入力データ!AI35=1,"①","")&"("&入力データ!AJ35&入力データ!AK35&"学校"&")" -> ・ (学校) | G32: =G31+1 -> 305
A33: 相模原 | B33: 5 | C33: =入力データ!V36&" "&入力データ!W36&IF(入力データ!Y36=1,"①","")&"("&入力データ!Z36&入力データ!AA36&"学校"&")" -> (学校) | D33: 5 | E33: =入力データ!AB36&" "&入力データ!AC36&IF(入力データ!AE36=1,"①","")&"・"&入力データ!AF36&" "&入力データ!AG36&IF(入力データ!AI36=1,"①","")&"("&入力データ!AJ36&入力データ!AK36&"学校"&")" -> ・ (学校) | G33: =G32+1 -> 306
A34: 横須賀 | B34: 1 | C34: =入力データ!V37&" "&入力データ!W37&IF(入力データ!Y37=1,"①","")&"("&入力データ!Z37&入力データ!AA37&"学校"&")" -> (学校) | D34: 1 | E34: =入力データ!AB37&" "&入力データ!AC37&IF(入力データ!AE37=1,"①","")&"・"&入力データ!AF37&" "&入力データ!AG37&IF(入力データ!AI37=1,"①","")&"("&入力データ!AJ37&入力データ!AK37&"学校"&")" -> ・ (学校) | G34: 401
A35: 横須賀 | B35: 2 | C35: =入力データ!V38&" "&入力データ!W38&IF(入力データ!Y38=1,"①","")&"("&入力データ!Z38&入力データ!AA38&"学校"&")" -> (学校) | D35: 2 | E35: =入力データ!AB38&" "&入力データ!AC38&IF(入力データ!AE38=1,"①","")&"・"&入力データ!AF38&" "&入力データ!AG38&IF(入力データ!AI38=1,"①","")&"("&入力データ!AJ38&入力データ!AK38&"学校"&")" -> ・ (学校) | G35: =G34+1 -> 402
A36: 横須賀 | B36: 3 | C36: =入力データ!V39&" "&入力データ!W39&IF(入力データ!Y39=1,"①","")&"("&入力データ!Z39&入力データ!AA39&"学校"&")" -> (学校) | D36: 3 | E36: =入力データ!AB39&" "&入力データ!AC39&IF(入力データ!AE39=1,"①","")&"・"&入力データ!AF39&" "&入力データ!AG39&IF(入力データ!AI39=1,"①","")&"("&入力データ!AJ39&入力データ!AK39&"学校"&")" -> ・ (学校) | G36: =G35+1 -> 403
A37: 横須賀 | B37: 3 | C37: =入力データ!V40&" "&入力データ!W40&IF(入力データ!Y40=1,"①","")&"("&入力データ!Z40&入力データ!AA40&"学校"&")" -> (学校) | D37: 3 | E37: =入力データ!AB40&" "&入力データ!AC40&IF(入力データ!AE40=1,"①","")&"・"&入力データ!AF40&" "&入力データ!AG40&IF(入力データ!AI40=1,"①","")&"("&入力データ!AJ40&入力データ!AK40&"学校"&")" -> ・ (学校) | G37: =G36+1 -> 404
A38: 湘南 | B38: 1 | C38: =入力データ!V41&" "&入力データ!W41&IF(入力データ!Y41=1,"①","")&"("&入力データ!Z41&入力データ!AA41&"学校"&")" -> (学校) | D38: 1 | E38: =入力データ!AB41&" "&入力データ!AC41&IF(入力データ!AE41=1,"①","")&"・"&入力データ!AF41&" "&入力データ!AG41&IF(入力データ!AI41=1,"①","")&"("&入力データ!AJ41&入力データ!AK41&"学校"&")" -> ・ (学校) | G38: 501
A39: 湘南 | B39: 2 | C39: =入力データ!V42&" "&入力データ!W42&IF(入力データ!Y42=1,"①","")&"("&入力データ!Z42&入力データ!AA42&"学校"&")" -> (学校) | D39: 2 | E39: =入力データ!AB42&" "&入力データ!AC42&IF(入力データ!AE42=1,"①","")&"・"&入力データ!AF42&" "&入力データ!AG42&IF(入力データ!AI42=1,"①","")&"("&入力データ!AJ42&入力データ!AK42&"学校"&")" -> ・ (学校) | G39: =G38+1 -> 502
A40: 湘南 | B40: 3 | C40: =入力データ!V43&" "&入力データ!W43&IF(入力データ!Y43=1,"①","")&"("&入力データ!Z43&入力データ!AA43&"学校"&")" -> (学校) | D40: 3 | E40: =入力データ!AB43&" "&入力データ!AC43&IF(入力データ!AE43=1,"①","")&"・"&入力データ!AF43&" "&入力データ!AG43&IF(入力データ!AI43=1,"①","")&"("&入力データ!AJ43&入力データ!AK43&"学校"&")" -> ・ (学校) | G40: =G39+1 -> 503
A41: 湘南 | B41: 3 | C41: =入力データ!V44&" "&入力データ!W44&IF(入力データ!Y44=1,"①","")&"("&入力データ!Z44&入力データ!AA44&"学校"&")" -> (学校) | D41: 3 | E41: =入力データ!AB44&" "&入力データ!AC44&IF(入力データ!AE44=1,"①","")&"・"&入力データ!AF44&" "&入力データ!AG44&IF(入力データ!AI44=1,"①","")&"("&入力データ!AJ44&入力データ!AK44&"学校"&")" -> ・ (学校) | G41: =G40+1 -> 504
...

Sheet カード
A1: 男子 団体 | B1: =入力データ!B5 -> 横浜 | C1: =入力データ!C5 -> 1 | D1: =入力データ!D5 -> 0
A2: 男子 団体 | B2: =入力データ!B6 -> 横浜 | C2: =入力データ!C6 -> 2 | D2: =入力データ!D6 -> 0
A3: 男子 団体 | B3: =入力データ!B7 -> 横浜 | C3: =入力データ!C7 -> 3 | D3: =入力データ!D7 -> 0
A4: 男子 団体 | B4: =入力データ!B8 -> 横浜 | C4: =入力データ!C8 -> 3 | D4: =入力データ!D8 -> 0
A5: 男子 団体 | B5: =入力データ!B9 -> 横浜 | C5: =入力データ!C9 -> 5 | D5: =入力データ!D9 -> 0
A6: 男子 団体 | B6: =入力データ!B10 -> 横浜 | C6: =入力データ!C10 -> 5 | D6: =入力データ!D10 -> 0
A7: 男子 団体 | B7: =入力データ!B11 -> 横浜 | C7: =入力データ!C11 -> 5 | D7: =入力データ!D11 -> 0
A8: 男子 団体 | B8: =入力データ!B12 -> 横浜 | C8: =入力データ!C12 -> 5 | D8: =入力データ!D12 -> 0
A9: 男子 団体 | B9: =入力データ!B20 -> 横浜 | C9: =入力データ!C20 -> 9 | D9: =入力データ!D20 -> 0
A10: 男子 団体 | B10: =入力データ!B21 -> 川崎 | C10: =入力データ!C21 -> 1 | D10: =入力データ!D21 -> 0
A11: 男子 団体 | B11: =入力データ!B22 -> 川崎 | C11: =入力データ!C22 -> 2 | D11: =入力データ!D22 -> 0
A12: 男子 団体 | B12: =入力データ!B23 -> 川崎 | C12: =入力データ!C23 -> 3 | D12: =入力データ!D23 -> 0
A13: 男子 団体 | B13: =入力データ!B24 -> 川崎 | C13: =入力データ!C24 -> 3 | D13: =入力データ!D24 -> 0
A14: 男子 団体 | B14: =入力データ!B28 -> 川崎 | C14: =入力データ!C28 -> 5 | D14: =入力データ!D28 -> 0
A15: 男子 団体 | B15: =入力データ!B29 -> 相模原 | C15: =入力データ!C29 -> 1 | D15: =入力データ!D29 -> 0
A16: 男子 団体 | B16: =入力データ!B34 -> 相模原 | C16: =入力データ!C34 -> 5 | D16: =入力データ!D34 -> 0
A17: 男子 団体 | B17: =入力データ!B35 -> 横須賀 | C17: =入力データ!C35 -> 1 | D17: =入力データ!D35 -> 0
A18: 男子 団体 | B18: =入力データ!B40 -> 横須賀 | C18: =入力データ!C40 -> 5 | D18: =入力データ!D40 -> 0
A19: 男子 団体 | B19: =入力データ!B41 -> 湘南 | C19: =入力データ!C41 -> 1 | D19: =入力データ!D41 -> 0
A20: 男子 団体 | B20: =入力データ!B42 -> 湘南 | C20: =入力データ!C42 -> 2 | D20: =入力データ!D42 -> 0
A21: 男子 団体 | B21: =入力データ!B46 -> 湘南 | C21: =入力データ!C46 -> 5 | D21: =入力データ!D46 -> 0
A22: 男子 団体 | B22: =入力データ!B47 -> 中 | C22: =入力データ!C47 -> 1 | D22: =入力データ!D47 -> 0
A23: 男子 団体 | B23: =入力データ!B48 -> 中 | C23: =入力データ!C48 -> 2 | D23: =入力データ!D48 -> 0
A24: 男子 団体 | B24: =入力データ!B50 -> 中 | C24: =入力データ!C50 -> 3 | D24: =入力データ!D50 -> 0
A25: 男子 団体 | B25: =入力データ!B51 -> 県央 | C25: =入力データ!C51 -> 1 | D25: =入力データ!D51 -> 0
A26: 男子 団体 | B26: =入力データ!B58 -> 県央 | C26: =入力データ!C58 -> 5 | D26: =入力データ!D58 -> 0
A27: 男子 団体 | B27: =入力データ!B59 -> 県西 | C27: =入力データ!C59 -> 1 | D27: =入力データ!D59 -> 0
A28: 男子 団体 | B28: =入力データ!B60 -> 県西 | C28: =入力データ!C60 -> 2 | D28: =入力データ!D60 -> 0
A29: 男子 団体 | B29: =入力データ!B62 -> 県西 | C29: =入力データ!C62 -> 3 | D29: =入力データ!D62 -> 0
A30: 女子 団体 | B30: =入力データ!B5 -> 横浜 | C30: =入力データ!C5 -> 1 | D30: =入力データ!U5 -> 0
A31: 女子 団体 | B31: =入力データ!B6 -> 横浜 | C31: =入力データ!C6 -> 2 | D31: =入力データ!U6 -> 0
A32: 女子 団体 | B32: =入力データ!B7 -> 横浜 | C32: =入力データ!C7 -> 3 | D32: =入力データ!U7 -> 0
A33: 女子 団体 | B33: =入力データ!B8 -> 横浜 | C33: =入力データ!C8 -> 3 | D33: =入力データ!U8 -> 0
A34: 女子 団体 | B34: =入力データ!B9 -> 横浜 | C34: =入力データ!C9 -> 5 | D34: =入力データ!U9 -> 0
A35: 女子 団体 | B35: =入力データ!B10 -> 横浜 | C35: =入力データ!C10 -> 5 | D35: =入力データ!U10 -> 0
A36: 女子 団体 | B36: =入力データ!B11 -> 横浜 | C36: =入力データ!C11 -> 5 | D36: =入力データ!U11 -> 0
A37: 女子 団体 | B37: =入力データ!B12 -> 横浜 | C37: =入力データ!C12 -> 5 | D37: =入力データ!U12 -> 0
A38: 女子 団体 | B38: =入力データ!B20 -> 横浜 | C38: =入力データ!C20 -> 9 | D38: =入力データ!U20 -> 0
A39: 女子 団体 | B39: =入力データ!B21 -> 川崎 | C39: =入力データ!C21 -> 1 | D39: =入力データ!U21 -> 0
A40: 女子 団体 | B40: =入力データ!B22 -> 川崎 | C40: =入力データ!C22 -> 2 | D40: =入力データ!U22 -> 0
...

Sheet 書記用
A1: MS | F1: MD | N1: WS | S1: WD
A2: =入力データ!E5&" "&入力データ!F5&IF(入力データ!H5=1,"①","") | B2: =入力データ!I5&入力データ!J5&"学校" -> 学校 | C2: -1 | D2: =入力データ!G5 -> 0 | F2: =入力データ!K5&" "&入力データ!L5&IF(入力データ!N5=1,"①","") | G2: =入力データ!O5&" "&入力データ!P5&IF(入力データ!R5=1,"①","") | H2: =入力データ!S5&入力データ!T5&"学校" -> 学校 | I2: =H2 -> 学校 | J2: -1 | K2: =入力データ!M5 -> 0 | L2: =入力データ!Q5 -> 0 | N2: =入力データ!V5&" "&入力データ!W5&IF(入力データ!Y5=1,"①","") | O2: =入力データ!Z5&入力データ!AA5&"学校" -> 学校 | P2: -1 | Q2: =入力データ!X5 -> 0 | S2: =入力データ!AB5&" "&入力データ!AC5&IF(入力データ!AE5=1,"①","") | T2: =入力データ!AF5&" "&入力データ!AG5&IF(入力データ!AI5=1,"①","") | U2: =入力データ!AJ5&入力データ!AK5&"学校" -> 学校 | V2: =U2 -> 学校 | W2: -1 | X2: =入力データ!AD5 -> 0 | Y2: =入力データ!AH5 -> 0
A3: =入力データ!E6&" "&入力データ!F6&IF(入力データ!H6=1,"①","") | B3: =入力データ!I6&入力データ!J6&"学校" -> 学校 | C3: -1 | D3: =入力データ!G6 -> 0 | F3: =入力データ!K6&" "&入力データ!L6&IF(入力データ!N6=1,"①","") | G3: =入力データ!O6&" "&入力データ!P6&IF(入力データ!R6=1,"①","") | H3: =入力データ!S6&入力データ!T6&"学校" -> 学校 | I3: =H3 -> 学校 | J3: -1 | K3: =入力データ!M6 -> 0 | L3: =入力データ!Q6 -> 0 | N3: =入力データ!V6&" "&入力データ!W6&IF(入力データ!Y6=1,"①","") | O3: =入力データ!Z6&入力データ!AA6&"学校" -> 学校 | P3: -1 | Q3: =入力データ!X6 -> 0 | S3: =入力データ!AB6&" "&入力データ!AC6&IF(入力データ!AE6=1,"①","") | T3: =入力データ!AF6&" "&入力データ!AG6&IF(入力データ!AI6=1,"①","") | U3: =入力データ!AJ6&入力データ!AK6&"学校" -> 学校 | V3: =U3 -> 学校 | W3: -1 | X3: =入力データ!AD6 -> 0 | Y3: =入力データ!AH6 -> 0
A4: =入力データ!E7&" "&入力データ!F7&IF(入力データ!H7=1,"①","") | B4: =入力データ!I7&入力データ!J7&"学校" -> 学校 | C4: -1 | D4: =入力データ!G7 -> 0 | F4: =入力データ!K7&" "&入力データ!L7&IF(入力データ!N7=1,"①","") | G4: =入力データ!O7&" "&入力データ!P7&IF(入力データ!R7=1,"①","") | H4: =入力データ!S7&入力データ!T7&"学校" -> 学校 | I4: =H4 -> 学校 | J4: -1 | K4: =入力データ!M7 -> 0 | L4: =入力データ!Q7 -> 0 | N4: =入力データ!V7&" "&入力データ!W7&IF(入力データ!Y7=1,"①","") | O4: =入力データ!Z7&入力データ!AA7&"学校" -> 学校 | P4: -1 | Q4: =入力データ!X7 -> 0 | S4: =入力データ!AB7&" "&入力データ!AC7&IF(入力データ!AE7=1,"①","") | T4: =入力データ!AF7&" "&入力データ!AG7&IF(入力データ!AI7=1,"①","") | U4: =入力データ!AJ7&入力データ!AK7&"学校" -> 学校 | V4: =U4 -> 学校 | W4: -1 | X4: =入力データ!AD7 -> 0 | Y4: =入力データ!AH7 -> 0
A5: =入力データ!E8&" "&入力データ!F8&IF(入力データ!H8=1,"①","") | B5: =入力データ!I8&入力データ!J8&"学校" -> 学校 | C5: -1 | D5: =入力データ!G8 -> 0 | F5: =入力データ!K8&" "&入力データ!L8&IF(入力データ!N8=1,"①","") | G5: =入力データ!O8&" "&入力データ!P8&IF(入力データ!R8=1,"①","") | H5: =入力データ!S8&入力データ!T8&"学校" -> 学校 | I5: =H5 -> 学校 | J5: -1 | K5: =入力データ!M8 -> 0 | L5: =入力データ!Q8 -> 0 | N5: =入力データ!V8&" "&入力データ!W8&IF(入力データ!Y8=1,"①","") | O5: =入力データ!Z8&入力データ!AA8&"学校" -> 学校 | P5: -1 | Q5: =入力データ!X8 -> 0 | S5: =入力データ!AB8&" "&入力データ!AC8&IF(入力データ!AE8=1,"①","") | T5: =入力データ!AF8&" "&入力データ!AG8&IF(入力データ!AI8=1,"①","") | U5: =入力データ!AJ8&入力データ!AK8&"学校" -> 学校 | V5: =U5 -> 学校 | W5: -1 | X5: =入力データ!AD8 -> 0 | Y5: =入力データ!AH8 -> 0
A6: =入力データ!E9&" "&入力データ!F9&IF(入力データ!H9=1,"①","") | B6: =入力データ!I9&入力データ!J9&"学校" -> 学校 | C6: -1 | D6: =入力データ!G9 -> 0 | F6: =入力データ!K9&" "&入力データ!L9&IF(入力データ!N9=1,"①","") | G6: =入力データ!O9&" "&入力データ!P9&IF(入力データ!R9=1,"①","") | H6: =入力データ!S9&入力データ!T9&"学校" -> 学校 | I6: =H6 -> 学校 | J6: -1 | K6: =入力データ!M9 -> 0 | L6: =入力データ!Q9 -> 0 | N6: =入力データ!V9&" "&入力データ!W9&IF(入力データ!Y9=1,"①","") | O6: =入力データ!Z9&入力データ!AA9&"学校" -> 学校 | P6: -1 | Q6: =入力データ!X9 -> 0 | S6: =入力データ!AB9&" "&入力データ!AC9&IF(入力データ!AE9=1,"①","") | T6: =入力データ!AF9&" "&入力データ!AG9&IF(入力データ!AI9=1,"①","") | U6: =入力データ!AJ9&入力データ!AK9&"学校" -> 学校 | V6: =U6 -> 学校 | W6: -1 | X6: =入力データ!AD9 -> 0 | Y6: =入力データ!AH9 -> 0
A7: =入力データ!E10&" "&入力データ!F10&IF(入力データ!H10=1,"①","") | B7: =入力データ!I10&入力データ!J10&"学校" -> 学校 | C7: -1 | D7: =入力データ!G10 -> 0 | F7: =入力データ!K10&" "&入力データ!L10&IF(入力データ!N10=1,"①","") | G7: =入力データ!O10&" "&入力データ!P10&IF(入力データ!R10=1,"①","") | H7: =入力データ!S10&入力データ!T10&"学校" -> 学校 | I7: =H7 -> 学校 | J7: -1 | K7: =入力データ!M10 -> 0 | L7: =入力データ!Q10 -> 0 | N7: =入力データ!V10&" "&入力データ!W10&IF(入力データ!Y10=1,"①","") | O7: =入力データ!Z10&入力データ!AA10&"学校" -> 学校 | P7: -1 | Q7: =入力データ!X10 -> 0 | S7: =入力データ!AB10&" "&入力データ!AC10&IF(入力データ!AE10=1,"①","") | T7: =入力データ!AF10&" "&入力データ!AG10&IF(入力データ!AI10=1,"①","") | U7: =入力データ!AJ10&入力データ!AK10&"学校" -> 学校 | V7: =U7 -> 学校 | W7: -1 | X7: =入力データ!AD10 -> 0 | Y7: =入力データ!AH10 -> 0
A8: =入力データ!E11&" "&入力データ!F11&IF(入力データ!H11=1,"①","") | B8: =入力データ!I11&入力データ!J11&"学校" -> 学校 | C8: -1 | D8: =入力データ!G11 -> 0 | F8: =入力データ!K11&" "&入力データ!L11&IF(入力データ!N11=1,"①","") | G8: =入力データ!O11&" "&入力データ!P11&IF(入力データ!R11=1,"①","") | H8: =入力データ!S11&入力データ!T11&"学校" -> 学校 | I8: =H8 -> 学校 | J8: -1 | K8: =入力データ!M11 -> 0 | L8: =入力データ!Q11 -> 0 | N8: =入力データ!V11&" "&入力データ!W11&IF(入力データ!Y11=1,"①","") | O8: =入力データ!Z11&入力データ!AA11&"学校" -> 学校 | P8: -1 | Q8: =入力データ!X11 -> 0 | S8: =入力データ!AB11&" "&入力データ!AC11&IF(入力データ!AE11=1,"①","") | T8: =入力データ!AF11&" "&入力データ!AG11&IF(入力データ!AI11=1,"①","") | U8: =入力データ!AJ11&入力データ!AK11&"学校" -> 学校 | V8: =U8 -> 学校 | W8: -1 | X8: =入力データ!AD11 -> 0 | Y8: =入力データ!AH11 -> 0
A9: =入力データ!E12&" "&入力データ!F12&IF(入力データ!H12=1,"①","") | B9: =入力データ!I12&入力データ!J12&"学校" -> 学校 | C9: -1 | D9: =入力データ!G12 -> 0 | F9: =入力データ!K12&" "&入力データ!L12&IF(入力データ!N12=1,"①","") | G9: =入力データ!O12&" "&入力データ!P12&IF(入力データ!R12=1,"①","") | H9: =入力データ!S12&入力データ!T12&"学校" -> 学校 | I9: =H9 -> 学校 | J9: -1 | K9: =入力データ!M12 -> 0 | L9: =入力データ!Q12 -> 0 | N9: =入力データ!V12&" "&入力データ!W12&IF(入力データ!Y12=1,"①","") | O9: =入力データ!Z12&入力データ!AA12&"学校" -> 学校 | P9: -1 | Q9: =入力データ!X12 -> 0 | S9: =入力データ!AB12&" "&入力データ!AC12&IF(入力データ!AE12=1,"①","") | T9: =入力データ!AF12&" "&入力データ!AG12&IF(入力データ!AI12=1,"①","") | U9: =入力データ!AJ12&入力データ!AK12&"学校" -> 学校 | V9: =U9 -> 学校 | W9: -1 | X9: =入力データ!AD12 -> 0 | Y9: =入力データ!AH12 -> 0
A10: =入力データ!E13&" "&入力データ!F13&IF(入力データ!H13=1,"①","") | B10: =入力データ!I13&入力データ!J13&"学校" -> 学校 | C10: -1 | D10: =入力データ!G13 -> 0 | F10: =入力データ!K13&" "&入力データ!L13&IF(入力データ!N13=1,"①","") | G10: =入力データ!O13&" "&入力データ!P13&IF(入力データ!R13=1,"①","") | H10: =入力データ!S13&入力データ!T13&"学校" -> 学校 | I10: =H10 -> 学校 | J10: -1 | K10: =入力データ!M13 -> 0 | L10: =入力データ!Q13 -> 0 | N10: =入力データ!V13&" "&入力データ!W13&IF(入力データ!Y13=1,"①","") | O10: =入力データ!Z13&入力データ!AA13&"学校" -> 学校 | P10: -1 | Q10: =入力データ!X13 -> 0 | S10: =入力データ!AB13&" "&入力データ!AC13&IF(入力データ!AE13=1,"①","") | T10: =入力データ!AF13&" "&入力データ!AG13&IF(入力データ!AI13=1,"①","") | U10: =入力データ!AJ13&入力データ!AK13&"学校" -> 学校 | V10: =U10 -> 学校 | W10: -1 | X10: =入力データ!AD13 -> 0 | Y10: =入力データ!AH13 -> 0
A11: =入力データ!E14&" "&入力データ!F14&IF(入力データ!H14=1,"①","") | B11: =入力データ!I14&入力データ!J14&"学校" -> 学校 | C11: -1 | D11: =入力データ!G14 -> 0 | F11: =入力データ!K14&" "&入力データ!L14&IF(入力データ!N14=1,"①","") | G11: =入力データ!O14&" "&入力データ!P14&IF(入力データ!R14=1,"①","") | H11: =入力データ!S14&入力データ!T14&"学校" -> 学校 | I11: =H11 -> 学校 | J11: -1 | K11: =入力データ!M14 -> 0 | L11: =入力データ!Q14 -> 0 | N11: =入力データ!V14&" "&入力データ!W14&IF(入力データ!Y14=1,"①","") | O11: =入力データ!Z14&入力データ!AA14&"学校" -> 学校 | P11: -1 | Q11: =入力データ!X14 -> 0 | S11: =入力データ!AB14&" "&入力データ!AC14&IF(入力データ!AE14=1,"①","") | T11: =入力データ!AF14&" "&入力データ!AG14&IF(入力データ!AI14=1,"①","") | U11: =入力データ!AJ14&入力データ!AK14&"学校" -> 学校 | V11: =U11 -> 学校 | W11: -1 | X11: =入力データ!AD14 -> 0 | Y11: =入力データ!AH14 -> 0
A12: =入力データ!E15&" "&入力データ!F15&IF(入力データ!H15=1,"①","") | B12: =入力データ!I15&入力データ!J15&"学校" -> 学校 | C12: -1 | D12: =入力データ!G15 -> 0 | F12: =入力データ!K15&" "&入力データ!L15&IF(入力データ!N15=1,"①","") | G12: =入力データ!O15&" "&入力データ!P15&IF(入力データ!R15=1,"①","") | H12: =入力データ!S15&入力データ!T15&"学校" -> 学校 | I12: =H12 -> 学校 | J12: -1 | K12: =入力データ!M15 -> 0 | L12: =入力データ!Q15 -> 0 | N12: =入力データ!V15&" "&入力データ!W15&IF(入力データ!Y15=1,"①","") | O12: =入力データ!Z15&入力データ!AA15&"学校" -> 学校 | P12: -1 | Q12: =入力データ!X15 -> 0 | S12: =入力データ!AB15&" "&入力データ!AC15&IF(入力データ!AE15=1,"①","") | T12: =入力データ!AF15&" "&入力データ!AG15&IF(入力データ!AI15=1,"①","") | U12: =入力データ!AJ15&入力データ!AK15&"学校" -> 学校 | V12: =U12 -> 学校 | W12: -1 | X12: =入力データ!AD15 -> 0 | Y12: =入力データ!AH15 -> 0
A13: =入力データ!E16&" "&入力データ!F16&IF(入力データ!H16=1,"①","") | B13: =入力データ!I16&入力データ!J16&"学校" -> 学校 | C13: -1 | D13: =入力データ!G16 -> 0 | F13: =入力データ!K16&" "&入力データ!L16&IF(入力データ!N16=1,"①","") | G13: =入力データ!O16&" "&入力データ!P16&IF(入力データ!R16=1,"①","") | H13: =入力データ!S16&入力データ!T16&"学校" -> 学校 | I13: =H13 -> 学校 | J13: -1 | K13: =入力データ!M16 -> 0 | L13: =入力データ!Q16 -> 0 | N13: =入力データ!V16&" "&入力データ!W16&IF(入力データ!Y16=1,"①","") | O13: =入力データ!Z16&入力データ!AA16&"学校" -> 学校 | P13: -1 | Q13: =入力データ!X16 -> 0 | S13: =入力データ!AB16&" "&入力データ!AC16&IF(入力データ!AE16=1,"①","") | T13: =入力データ!AF16&" "&入力データ!AG16&IF(入力データ!AI16=1,"①","") | U13: =入力データ!AJ16&入力データ!AK16&"学校" -> 学校 | V13: =U13 -> 学校 | W13: -1 | X13: =入力データ!AD16 -> 0 | Y13: =入力データ!AH16 -> 0
... A35: =入力データ!E38&" "&入力データ!F38&IF(入力データ!H38=1,"①","") | B35: =入力データ!I38&入力データ!J38&"学校" -> 学校 | C35: -1 | D35: =入力データ!G38 -> 0 | F35: =入力データ!K38&" "&入力データ!L38&IF(入力データ!N38=1,"①","") | G35: =入力データ!O38&" "&入力データ!P38&IF(入力データ!R38=1,"①","") | H35: =入力データ!S38&入力データ!T38&"学校" -> 学校 | I35: =H35 -> 学校 | J35: -1 | K35: =入力データ!M38 -> 0 | L35: =入力データ!Q38 -> 0 | N35: =入力データ!V38&" "&入力データ!W38&IF(入力データ!Y38=1,"①","") | O35: =入力データ!Z38&入力データ!AA38&"学校" -> 学校 | P35: -1 | Q35: =入力データ!X38 -> 0 | S35: =入力データ!AB38&" "&入力データ!AC38&IF(入力データ!AE38=1,"①","") | T35: =入力データ!AF38&" "&入力データ!AG38&IF(入力データ!AI38=1,"①","") | U35: =入力データ!AJ38&入力データ!AK38&"学校" -> 学校 | V35: =U35 -> 学校 | W35: -1 | X35: =入力データ!AD38 -> 0 | Y35: =入力データ!AH38 -> 0
A36: =入力データ!E39&" "&入力データ!F39&IF(入力データ!H39=1,"①","") | B36: =入力データ!I39&入力データ!J39&"学校" -> 学校 | C36: -1 | D36: =入力データ!G39 -> 0 | F36: =入力データ!K39&" "&入力データ!L39&IF(入力データ!N39=1,"①","") | G36: =入力データ!O39&" "&入力データ!P39&IF(入力データ!R39=1,"①","") | H36: =入力データ!S39&入力データ!T39&"学校" -> 学校 | I36: =H36 -> 学校 | J36: -1 | K36: =入力データ!M39 -> 0 | L36: =入力データ!Q39 -> 0 | N36: =入力データ!V41&" "&入力データ!W41&IF(入力データ!Y41=1,"①","") | O36: =入力データ!Z41&入力データ!AA41&"学校" -> 学校 | P36: -1 | Q36: =入力データ!X41 -> 0 | S36: =入力データ!AB41&" "&入力データ!AC41&IF(入力データ!AE41=1,"①","") | T36: =入力データ!AF41&" "&入力データ!AG41&IF(入力データ!AI41=1,"①","") | U36: =入力データ!AJ41&入力データ!AK41&"学校" -> 学校 | V36: =U36 -> 学校 | W36: -1 | X36: =入力データ!AD41 -> 0 | Y36: =入力データ!AH41 -> 0
A37: =入力データ!E40&" "&入力データ!F40&IF(入力データ!H40=1,"①","") | B37: =入力データ!I40&入力データ!J40&"学校" -> 学校 | C37: -1 | D37: =入力データ!G40 -> 0 | F37: =入力データ!K40&" "&入力データ!L40&IF(入力データ!N40=1,"①","") | G37: =入力データ!O40&" "&入力データ!P40&IF(入力データ!R40=1,"①","") | H37: =入力データ!S40&入力データ!T40&"学校" -> 学校 | I37: =H37 -> 学校 | J37: -1 | K37: =入力データ!M40 -> 0 | L37: =入力データ!Q40 -> 0 | N37: =入力データ!V42&" "&入力データ!W42&IF(入力データ!Y42=1,"①","") | O37: =入力データ!Z42&入力データ!AA42&"学校" -> 学校 | P37: -1 | Q37: =入力データ!X42 -> 0 | S37: =入力データ!AB42&" "&入力データ!AC42&IF(入力データ!AE42=1,"①","") | T37: =入力データ!AF42&" "&入力データ!AG42&IF(入力データ!AI42=1,"①","") | U37: =入力データ!AJ42&入力データ!AK42&"学校" -> 学校 | V37: =U37 -> 学校 | W37: -1 | X37: =入力データ!AD42 -> 0 | Y37: =入力データ!AH42 -> 0
A38: =入力データ!E41&" "&入力データ!F41&IF(入力データ!H41=1,"①","") | B38: =入力データ!I41&入力データ!J41&"学校" -> 学校 | C38: -1 | D38: =入力データ!G41 -> 0 | F38: =入力データ!K41&" "&入力データ!L41&IF(入力データ!N41=1,"①","") | G38: =入力データ!O41&" "&入力データ!P41&IF(入力データ!R41=1,"①","") | H38: =入力データ!S41&入力データ!T41&"学校" -> 学校 | I38: =H38 -> 学校 | J38: -1 | K38: =入力データ!M41 -> 0 | L38: =入力データ!Q41 -> 0 | N38: =入力データ!V43&" "&入力データ!W43&IF(入力データ!Y43=1,"①","") | O38: =入力データ!Z43&入力データ!AA43&"学校" -> 学校 | P38: -1 | Q38: =入力データ!X43 -> 0 | S38: =入力データ!AB43&" "&入力データ!AC43&IF(入力データ!AE43=1,"①","") | T38: =入力データ!AF43&" "&入力データ!AG43&IF(入力データ!AI43=1,"①","") | U38: =入力データ!AJ43&入力データ!AK43&"学校" -> 学校 | V38: =U38 -> 学校 | W38: -1 | X38: =入力データ!AD43 -> 0 | Y38: =入力データ!AH43 -> 0
A39: =入力データ!E42&" "&入力データ!F42&IF(入力データ!H42=1,"①","") | B39: =入力データ!I42&入力データ!J42&"学校" -> 学校 | C39: -1 | D39: =入力データ!G42 -> 0 | F39: =入力データ!K42&" "&入力データ!L42&IF(入力データ!N42=1,"①","") | G39: =入力データ!O42&" "&入力データ!P42&IF(入力データ!R42=1,"①","") | H39: =入力データ!S42&入力データ!T42&"学校" -> 学校 | I39: =H39 -> 学校 | J39: -1 | K39: =入力データ!M42 -> 0 | L39: =入力データ!Q42 -> 0 | N39: =入力データ!V44&" "&入力データ!W44&IF(入力データ!Y44=1,"①","") | O39: =入力データ!Z44&入力データ!AA44&"学校" -> 学校 | P39: -1 | Q39: =入力データ!X44 -> 0 | S39: =入力データ!AB44&" "&入力データ!AC44&IF(入力データ!AE44=1,"①","") | T39: =入力データ!AF44&" "&入力データ!AG44&IF(入力データ!AI44=1,"①","") | U39: =入力データ!AJ44&入力データ!AK44&"学校" -> 学校 | V39: =U39 -> 学校 | W39: -1 | X39: =入力データ!AD44 -> 0 | Y39: =入力データ!AH44 -> 0
A40: =入力データ!E43&" "&入力データ!F43&IF(入力データ!H43=1,"①","") | B40: =入力データ!I43&入力データ!J43&"学校" -> 学校 | C40: -1 | D40: =入力データ!G43 -> 0 | F40: =入力データ!K43&" "&入力データ!L43&IF(入力データ!N43=1,"①","") | G40: =入力データ!O43&" "&入力データ!P43&IF(入力データ!R43=1,"①","") | H40: =入力データ!S43&入力データ!T43&"学校" -> 学校 | I40: =H40 -> 学校 | J40: -1 | K40: =入力データ!M43 -> 0 | L40: =入力データ!Q43 -> 0 | N40: =入力データ!V45&" "&入力データ!W45&IF(入力データ!Y45=1,"①","") | O40: =入力データ!Z45&入力データ!AA45&"学校" -> 学校 | P40: -1 | Q40: =入力データ!X45 -> 0 | S40: =入力データ!AB45&" "&入力データ!AC45&IF(入力データ!AE45=1,"①","") | T40: =入力データ!AF45&" "&入力データ!AG45&IF(入力データ!AI45=1,"①","") | U40: =入力データ!AJ45&入力データ!AK45&"学校" -> 学校 | V40: =U40 -> 学校 | W40: -1 | X40: =入力データ!AD45 -> 0 | Y40: =入力データ!AH45 -> 0
A41: =入力データ!E44&" "&入力データ!F44&IF(入力データ!H44=1,"①","") | B41: =入力データ!I44&入力データ!J44&"学校" -> 学校 | C41: -1 | D41: =入力データ!G44 -> 0 | F41: =入力データ!K44&" "&入力データ!L44&IF(入力データ!N44=1,"①","") | G41: =入力データ!O44&" "&入力データ!P44&IF(入力データ!R44=1,"①","") | H41: =入力データ!S44&入力データ!T44&"学校" -> 学校 | I41: =H41 -> 学校 | J41: -1 | K41: =入力データ!M44 -> 0 | L41: =入力データ!Q44 -> 0 | N41: =入力データ!V46&" "&入力データ!W46&IF(入力データ!Y46=1,"①","") | O41: =入力データ!Z46&入力データ!AA46&"学校" -> 学校 | P41: -1 | Q41: =入力データ!X46 -> 0 | S41: =入力データ!AB46&" "&入力データ!AC46&IF(入力データ!AE46=1,"①","") | T41: =入力データ!AF46&" "&入力データ!AG46&IF(入力データ!AI46=1,"①","") | U41: =入力データ!AJ46&入力データ!AK46&"学校" -> 学校 | V41: =U41 -> 学校 | W41: -1 | X41: =入力データ!AD46 -> 0 | Y41: =入力データ!AH46 -> 0
A42: =入力データ!E45&" "&入力データ!F45&IF(入力データ!H45=1,"①","") | B42: =入力データ!I45&入力データ!J45&"学校" -> 学校 | C42: -1 | D42: =入力データ!G45 -> 0 | F42: =入力データ!K45&" "&入力データ!L45&IF(入力データ!N45=1,"①","") | G42: =入力データ!O45&" "&入力データ!P45&IF(入力データ!R45=1,"①","") | H42: =入力データ!S45&入力データ!T45&"学校" -> 学校 | I42: =H42 -> 学校 | J42: -1 | K42: =入力データ!M45 -> 0 | L42: =入力データ!Q45 -> 0 | N42: =入力データ!V47&" "&入力データ!W47&IF(入力データ!Y47=1,"①","") | O42: =入力データ!Z47&入力データ!AA47&"学校" -> 学校 | P42: -1 | Q42: =入力データ!X47 -> 0 | S42: =入力データ!AB47&" "&入力データ!AC47&IF(入力データ!AE47=1,"①","") | T42: =入力データ!AF47&" "&入力データ!AG47&IF(入力データ!AI47=1,"①","") | U42: =入力データ!AJ47&入力データ!AK47&"学校" -> 学校 | V42: =U42 -> 学校 | W42: -1 | X42: =入力データ!AD47 -> 0 | Y42: =入力データ!AH47 -> 0
A43: =入力データ!E46&" "&入力データ!F46&IF(入力データ!H46=1,"①","") | B43: =入力データ!I46&入力データ!J46&"学校" -> 学校 | C43: -1 | D43: =入力データ!G46 -> 0 | F43: =入力データ!K46&" "&入力データ!L46&IF(入力データ!N46=1,"①","") | G43: =入力データ!O46&" "&入力データ!P46&IF(入力データ!R46=1,"①","") | H43: =入力データ!S46&入力データ!T46&"学校" -> 学校 | I43: =H43 -> 学校 | J43: -1 | K43: =入力データ!M46 -> 0 | L43: =入力データ!Q46 -> 0 | N43: =入力データ!V48&" "&入力データ!W48&IF(入力データ!Y48=1,"①","") | O43: =入力データ!Z48&入力データ!AA48&"学校" -> 学校 | P43: -1 | Q43: =入力データ!X48 -> 0 | S43: =入力データ!AB48&" "&入力データ!AC48&IF(入力データ!AE48=1,"①","") | T43: =入力データ!AF48&" "&入力データ!AG48&IF(入力データ!AI48=1,"①","") | U43: =入力データ!AJ48&入力データ!AK48&"学校" -> 学校 | V43: =U43 -> 学校 | W43: -1 | X43: =入力データ!AD48 -> 0 | Y43: =入力データ!AH48 -> 0
A44: =入力データ!E47&" "&入力データ!F47&IF(入力データ!H47=1,"①","") | B44: =入力データ!I47&入力データ!J47&"学校" -> 学校 | C44: -1 | D44: =入力データ!G47 -> 0 | F44: =入力データ!K47&" "&入力データ!L47&IF(入力データ!N47=1,"①","") | G44: =入力データ!O47&" "&入力データ!P47&IF(入力データ!R47=1,"①","") | H44: =入力データ!S47&入力データ!T47&"学校" -> 学校 | I44: =H44 -> 学校 | J44: -1 | K44: =入力データ!M47 -> 0 | L44: =入力データ!Q47 -> 0 | N44: =入力データ!V49&" "&入力データ!W49&IF(入力データ!Y49=1,"①","") | O44: =入力データ!Z49&入力データ!AA49&"学校" -> 学校 | P44: -1 | Q44: =入力データ!X49 -> 0 | S44: =入力データ!AB49&" "&入力データ!AC49&IF(入力データ!AE49=1,"①","") | T44: =入力データ!AF49&" "&入力データ!AG49&IF(入力データ!AI49=1,"①","") | U44: =入力データ!AJ49&入力データ!AK49&"学校" -> 学校 | V44: =U44 -> 学校 | W44: -1 | X44: =入力データ!AD49 -> 0 | Y44: =入力データ!AH49 -> 0
A45: =入力データ!E48&" "&入力データ!F48&IF(入力データ!H48=1,"①","") | B45: =入力データ!I48&入力データ!J48&"学校" -> 学校 | C45: -1 | D45: =入力データ!G48 -> 0 | F45: =入力データ!K48&" "&入力データ!L48&IF(入力データ!N48=1,"①","") | G45: =入力データ!O48&" "&入力データ!P48&IF(入力データ!R48=1,"①","") | H45: =入力データ!S48&入力データ!T48&"学校" -> 学校 | I45: =H45 -> 学校 | J45: -1 | K45: =入力データ!M48 -> 0 | L45: =入力データ!Q48 -> 0 | N45: =入力データ!V50&" "&入力データ!W50&IF(入力データ!Y50=1,"①","") | O45: =入力データ!Z50&入力データ!AA50&"学校" -> 学校 | P45: -1 | Q45: =入力データ!X50 -> 0 | S45: =入力データ!AB50&" "&入力データ!AC50&IF(入力データ!AE50=1,"①","") | T45: =入力データ!AF50&" "&入力データ!AG50&IF(入力データ!AI50=1,"①","") | U45: =入力データ!AJ50&入力データ!AK50&"学校" -> 学校 | V45: =U45 -> 学校 | W45: -1 | X45: =入力データ!AD50 -> 0 | Y45: =入力データ!AH50 -> 0
A46: =入力データ!E49&" "&入力データ!F49&IF(入力データ!H49=1,"①","") | B46: =入力データ!I49&入力データ!J49&"学校" -> 学校 | C46: -1 | D46: =入力データ!G49 -> 0 | F46: =入力データ!K49&" "&入力データ!L49&IF(入力データ!N49=1,"①","") | G46: =入力データ!O49&" "&入力データ!P49&IF(入力データ!R49=1,"①","") | H46: =入力データ!S49&入力データ!T49&"学校" -> 学校 | I46: =H46 -> 学校 | J46: -1 | K46: =入力データ!M49 -> 0 | L46: =入力データ!Q49 -> 0 | N46: =入力データ!V51&" "&入力データ!W51&IF(入力データ!Y51=1,"①","") | O46: =入力データ!Z51&入力データ!AA51&"学校" -> 学校 | P46: -1 | Q46: =入力データ!X51 -> 0 | S46: =入力データ!AB51&" "&入力データ!AC51&IF(入力データ!AE51=1,"①","") | T46: =入力データ!AF51&" "&入力データ!AG51&IF(入力データ!AI51=1,"①","") | U46: =入力データ!AJ51&入力データ!AK51&"学校" -> 学校 | V46: =U46 -> 学校 | W46: -1 | X46: =入力データ!AD51 -> 0 | Y46: =入力データ!AH51 -> 0
A47: =入力データ!E50&" "&入力データ!F50&IF(入力データ!H50=1,"①","") | B47: =入力データ!I50&入力データ!J50&"学校" -> 学校 | C47: -1 | D47: =入力データ!G50 -> 0 | F47: =入力データ!K50&" "&入力データ!L50&IF(入力データ!N50=1,"①","") | G47: =入力データ!O50&" "&入力データ!P50&IF(入力データ!R50=1,"①","") | H47: =入力データ!S50&入力データ!T50&"学校" -> 学校 | I47: =H47 -> 学校 | J47: -1 | K47: =入力データ!M50 -> 0 | L47: =入力データ!Q50 -> 0 | N47: =入力データ!V52&" "&入力データ!W52&IF(入力データ!Y52=1,"①","") | O47: =入力データ!Z52&入力データ!AA52&"学校" -> 学校 | P47: -1 | Q47: =入力データ!X52 -> 0 | S47: =入力データ!AB52&" "&入力データ!AC52&IF(入力データ!AE52=1,"①","") | T47: =入力データ!AF52&" "&入力データ!AG52&IF(入力データ!AI52=1,"①","") | U47: =入力データ!AJ52&入力データ!AK52&"学校" -> 学校 | V47: =U47 -> 学校 | W47: -1 | X47: =入力データ!AD52 -> 0 | Y47: =入力データ!AH52 -> 0
... A53: =入力データ!E56&" "&入力データ!F56&IF(入力データ!H56=1,"①","") | B53: =入力データ!I56&入力データ!J56&"学校" -> 学校 | C53: -1 | D53: =入力データ!G56 -> 0 | F53: =入力データ!K56&" "&入力データ!L56&IF(入力データ!N56=1,"①","") | G53: =入力データ!O56&" "&入力データ!P56&IF(入力データ!R56=1,"①","") | H53: =入力データ!S56&入力データ!T56&"学校" -> 学校 | I53: =H53 -> 学校 | J53: -1 | K53: =入力データ!M56 -> 0 | L53: =入力データ!Q56 -> 0 | N53: =入力データ!V58&" "&入力データ!W58&IF(入力データ!Y58=1,"①","") | O53: =入力データ!Z58&入力データ!AA58&"学校" -> 学校 | P53: -1 | Q53: =入力データ!X58 -> 0 | S53: =入力データ!AB58&" "&入力データ!AC58&IF(入力データ!AE58=1,"①","") | T53: =入力データ!AF58&" "&入力データ!AG58&IF(入力データ!AI58=1,"①","") | U53: =入力データ!AJ58&入力データ!AK58&"学校" -> 学校 | V53: =U53 -> 学校 | W53: -1 | X53: =入力データ!AD58 -> 0 | Y53: =入力データ!AH58 -> 0
A54: =入力データ!E59&" "&入力データ!F59&IF(入力データ!H59=1,"①","") | B54: =入力データ!I59&入力データ!J59&"学校" -> 学校 | C54: -1 | D54: =入力データ!G59 -> 0 | F54: =入力データ!K59&" "&入力データ!L59&IF(入力データ!N59=1,"①","") | G54: =入力データ!O59&" "&入力データ!P59&IF(入力データ!R59=1,"①","") | H54: =入力データ!S59&入力データ!T59&"学校" -> 学校 | I54: =H54 -> 学校 | J54: -1 | K54: =入力データ!M59 -> 0 | L54: =入力データ!Q59 -> 0 | N54: =入力データ!V59&" "&入力データ!W59&IF(入力データ!Y59=1,"①","") | O54: =入力データ!Z59&入力データ!AA59&"学校" -> 学校 | P54: -1 | Q54: =入力データ!X59 -> 0 | S54: =入力データ!AB59&" "&入力データ!AC59&IF(入力データ!AE59=1,"①","") | T54: =入力データ!AF59&" "&入力データ!AG59&IF(入力データ!AI59=1,"①","") | U54: =入力データ!AJ59&入力データ!AK59&"学校" -> 学校 | V54: =U54 -> 学校 | W54: -1 | X54: =入力データ!AD59 -> 0 | Y54: =入力データ!AH59 -> 0
A55: =入力データ!E60&" "&入力データ!F60&IF(入力データ!H60=1,"①","") | B55: =入力データ!I60&入力データ!J60&"学校" -> 学校 | C55: -1 | D55: =入力データ!G60 -> 0 | F55: =入力データ!K60&" "&入力データ!L60&IF(入力データ!N60=1,"①","") | G55: =入力データ!O60&" "&入力データ!P60&IF(入力データ!R60=1,"①","") | H55: =入力データ!S60&入力データ!T60&"学校" -> 学校 | I55: =H55 -> 学校 | J55: -1 | K55: =入力データ!M60 -> 0 | L55: =入力データ!Q60 -> 0 | N55: =入力データ!V60&" "&入力データ!W60&IF(入力データ!Y60=1,"①","") | O55: =入力データ!Z60&入力データ!AA60&"学校" -> 学校 | P55: -1 | Q55: =入力データ!X60 -> 0 | S55: =入力データ!AB60&" "&入力データ!AC60&IF(入力データ!AE60=1,"①","") | T55: =入力データ!AF60&" "&入力データ!AG60&IF(入力データ!AI60=1,"①","") | U55: =入力データ!AJ60&入力データ!AK60&"学校" -> 学校 | V55: =U55 -> 学校 | W55: -1 | X55: =入力データ!AD60 -> 0 | Y55: =入力データ!AH60 -> 0
A56: =入力データ!E61&" "&入力データ!F61&IF(入力データ!H61=1,"①","") | B56: =入力データ!I61&入力データ!J61&"学校" -> 学校 | C56: -1 | D56: =入力データ!G61 -> 0 | F56: =入力データ!K61&" "&入力データ!L61&IF(入力データ!N61=1,"①","") | G56: =入力データ!O61&" "&入力データ!P61&IF(入力データ!R61=1,"①","") | H56: =入力データ!S61&入力データ!T61&"学校" -> 学校 | I56: =H56 -> 学校 | J56: -1 | K56: =入力データ!M61 -> 0 | L56: =入力データ!Q61 -> 0 | N56: =入力データ!V61&" "&入力データ!W61&IF(入力データ!Y61=1,"①","") | O56: =入力データ!Z61&入力データ!AA61&"学校" -> 学校 | P56: -1 | Q56: =入力データ!X61 -> 0 | S56: =入力データ!AB61&" "&入力データ!AC61&IF(入力データ!AE61=1,"①","") | T56: =入力データ!AF61&" "&入力データ!AG61&IF(入力データ!AI61=1,"①","") | U56: =入力データ!AJ61&入力データ!AK61&"学校" -> 学校 | V56: =U56 -> 学校 | W56: -1 | X56: =入力データ!AD61 -> 0 | Y56: =入力データ!AH61 -> 0
A57: =入力データ!E62&" "&入力データ!F62&IF(入力データ!H62=1,"①","") | B57: =入力データ!I62&入力データ!J62&"学校" -> 学校 | C57: -1 | D57: =入力データ!G62 -> 0 | F57: =入力データ!K62&" "&入力データ!L62&IF(入力データ!N62=1,"①","") | G57: =入力データ!O62&" "&入力データ!P62&IF(入力データ!R62=1,"①","") | H57: =入力データ!S62&入力データ!T62&"学校" -> 学校 | I57: =H57 -> 学校 | J57: -1 | K57: =入力データ!M62 -> 0 | L57: =入力データ!Q62 -> 0 | N57: =入力データ!V62&" "&入力データ!W62&IF(入力データ!Y62=1,"①","") | O57: =入力データ!Z62&入力データ!AA62&"学校" -> 学校 | P57: -1 | Q57: =入力データ!X62 -> 0 | S57: =入力データ!AB62&" "&入力データ!AC62&IF(入力データ!AE62=1,"①","") | T57: =入力データ!AF62&" "&入力データ!AG62&IF(入力データ!AI62=1,"①","") | U57: =入力データ!AJ62&入力データ!AK62&"学校" -> 学校 | V57: =U57 -> 学校 | W57: -1 | X57: =入力データ!AD62 -> 0 | Y57: =入力データ!AH62 -> 0

Sheet アサミtai貼り付け用_個人
A1: MS | B1: 進藤 あおい | C1: 横浜市立東鴨居中学校 | D1: -1 | E1: しんどう あおい
A2: MS | B2: 石川 楽人 | C2: 横浜市立笹下中学校 | D2: -1 | E2: いしかわ らくと
A3: MS | B3: 中野 真親 | C3: 横浜市立あざみ野中学校 | D3: -1 | E3: なかの まさちか
A4: MS | B4: 酒井 耀大 | C4: 横浜市立六角橋中学校 | D4: -1 | E4: さかい ようた
A5: MS | B5: 菅谷 莉玖 | C5: 横浜市立若葉台中学校 | D5: -1 | E5: すがや りく
A6: MS | B6: 塩野谷 晃 | C6: 横浜市立大道中学校 | D6: -1 | E6: しおのや ひかる
A7: MS | B7: 西久保 琉偉 | C7: 横浜市立早渕中学校 | D7: -1 | E7: にしくぼ るい
A8: MS | B8: 後藤 陸 | C8: 横浜市立日吉台中学校 | D8: -1 | E8: ごとう りく
A9: MS | B9: 廣野 大和 | C9: 横浜市立浜中学校 | D9: -1 | E9: ひろの やまと
A10: MS | B10: 長井 龍之介 | C10: 横浜市立汲沢中学校 | D10: -1 | E10: ながい りゅうのすけ
A11: MS | B11: 桐村 洋翔 | C11: サレジオ学院中学校 | D11: -1 | E11: きりむら ひろと
A12: MS | B12: 菊池 十瑚 | C12: 横浜市立平楽中学校 | D12: -1 | E12: きくち じゅうご
... A56: MS | B56: 三上 大雅 | C56: 小田原市立泉中学校 | D56: -1 | E56: みかみ たいが
A57: MD | B57: 市原 碧人① | C57: 茜ケ久保 千悟① | D57: 横浜白山学校 | E57: 横浜白山学校 | F57: -1 | G57: いちはら あおと | H57: あかねがくぼ せんご
A58: MD | B58: 伴野 圭 | C58: 飯田 亜龍 | D58: 横浜市立南が丘中学校 | E58: 横浜市立南が丘中学校 | F58: -1 | G58: ばんの けい | H58: いいだ ありゅう
A59: MD | B59: 池沢 海志 | C59: 平山 達亮① | D59: 横浜市立金沢中学校 | E59: 横浜市立金沢中学校 | F59: -1 | G59: いけざわ かいし | H59: ひらやま たつあき
A60: MD | B60: 高橋 駿 | C60: 和田 裕翔 | D60: 横浜市立栗田谷中学校 | E60: 横浜市立栗田谷中学校 | F60: -1 | G60: たかはし しゅん | H60: わだ ゆうと
A61: MD | B61: 阿部 旬平 | C61: 須山 准成① | D61: 横浜市立若葉台中学校 | E61: 横浜市立若葉台中学校 | F61: -1 | G61: あべ しゅんぺい | H61: すやま じゅんせい
A62: MD | B62: 羽柴 勇希 | C62: 楠本 颯太 | D62: 森村学園中学校 | E62: 森村学園中学校 | F62: -1 | G62: はしば ゆうき | H62: くすもと そうた
A63: MD | B63: 藤澤 碧泉 | C63: 伊齋田 愛斗 | D63: 横浜市立日吉台中学校 | E63: 横浜市立日吉台中学校 | F63: -1 | G63: ふじさわ あおい | H63: いさいだ まなと
A64: MD | B64: 関根 蒼士 | C64: 髙橋 琉輝 | D64: 横浜市立大正中学校 | E64: 横浜市立大正中学校 | F64: -1 | G64: せきね そうし | H64: たかはし りゅうき
A65: MD | B65: 豊田 仙太郎 | C65: 山本 大翔 | D65: 横浜市立宮田中学校 | E65: 横浜市立宮田中学校 | F65: -1 | G65: とよだ せんたろう | H65: やまもと つばさ
A66: MD | B66: 武井 翔汰 | C66: 福本 理仁 | D66: 横浜市立深谷中学校 | E66: 横浜市立深谷中学校 | F66: -1 | G66: たけい しょうた | H66: ふくもと りひと
A67: MD | B67: 鈴木 康哉 | C67: 長倉 空 | D67: 横浜市立岩井原中学校 | E67: 横浜市立岩井原中学校 | F67: -1 | G67: すずき こうや | H67: ながくら そら
A68: MD | B68: 中島 悠 | C68: 大平 惇貴 | D68: 横浜市立あざみ野中学校 | E68: 横浜市立あざみ野中学校 | F68: -1 | G68: なかじま ゆう | H68: おおひら あつき
... A112: MD | B112: 三木 桜介 | C112: 井本 和希 | D112: 小田原市立酒匂中学校 | E112: 小田原市立酒匂中学校 | F112: -1 | G112: みき おうすけ | H112: いもと かずき
A113: WS | B113: 竿田 風奏 | C113: 青葉ジュニアバドミントンクラブ学校 | D113: -1 | E113: さおだ ふうか
A114: WS | B114: 岡田 芽依① | C114: 横浜市立金沢中学校 | D114: -1 | E114: おかだ めい
A115: WS | B115: 柳下 璃央 | C115: 横浜白山学校 | D115: -1 | E115: やなぎした りお
A116: WS | B116: 佐藤 好香 | C116: 能見台ジュニア学校 | D116: -1 | E116: さとう このか
A117: WS | B117: 﨑坂 梨乃 | C117: 横浜白山学校 | D117: -1 | E117: さきさか りの
A118: WS | B118: 小室 美羽① | C118: 鶴見ジュニアバドミントンクラブ学校 | D118: -1 | E118: こむろ みゆう
A119: WS | B119: 金子 優奈① | C119: 横浜市立洋光台第一中学校 | D119: -1 | E119: かねこ ゆな
A120: WS | B120: 小林 紗奈 | C120: 横浜白山学校 | D120: -1 | E120: こばやし さな
A121: WS | B121: 宮本 彩乃 | C121: 横浜市立新井中学校 | D121: -1 | E121: みやもと あやの
A122: WS | B122: 筒井 愛美 | C122: 横浜市立六角橋中学校 | D122: -1 | E122: つつい あいみ
A123: WS | B123: 木本 彩夏 | C123: 横浜市立あざみ野中学校 | D123: -1 | E123: きもと あやか
A124: WS | B124: 德江 怜美① | C124: 横浜市立あざみ野中学校 | D124: -1 | E124: とくえ れみ
... A164: WS | B164: 黒岩 桜① | C164: 大和市立つきみ野中学校 | D164: -1 | E164: くろいわ さくら
A165: WS | C165: 学校 | D165: -1 | E165: 0
...
